Workbook
Name a: '[1]4.1.펀드 거래'!$A$2:$D$217
Name KDB출자_요청액: '[2]열제목별 목록값'!$C$20:$C$22
Name KDB출자_요청액: '열제목별 목록값'!#REF!
Name 경력구분: [1]작성요령!$F$356:$F$358
Name 공동투자약정_상대방_유형: '열제목별 목록값'!$C$19:$C$23
Name 구분: '열제목별 목록값'!#REF!
Name 납입방식: '[2]열제목별 목록값'!$C$23:$C$24
Name 납입방식: '열제목별 목록값'!$C$17:$C$18
Name 담당역할: '열제목별 목록값'!$F$47:$F$51
Name 대표이사_구분: '열제목별 목록값'!$C$72:$C$74
Name 대표이사_참여인력_개요: '[2]3.1 대표이사&참여인력 개요'!$E$6:$AH$15
Name 대표이사_참여인력_개요: '3.1 대표이사&참여인력 개요'!$E$11:$AH$17
Name 대표이사_참여인력_경력: '[2]3.4 대표이사&참여인력 경력'!$E$11:$Y$21
Name 대표이사_참여인력_경력: '3.4 대표이사&참여인력 경력'!$E$11:$V$41
Name 대표이사_참여인력_투자현황: '[2]3.2 참여인력 투자현황'!$E$6:$BB$273
Name 대표이사_참여인력_투자현황: '3.2 참여인력 투자현황'!$E$6:$BA$146
Name 대표이사참여인력경력: '3.4 대표이사&참여인력 경력'!$E$11:$V$41
Name 동반투자자유형: '[2]열제목별 목록값'!$C$77:$C$81
Name 동반투자자유형: '열제목별 목록값'!$C$68:$C$71
Name 리그: '열제목별 목록값'!$C$4:$C$16
Name 민간출자자인센티브: '[2]열제목별 목록값'!$F$87:$F$89
Name 민간출자자인센티브: '열제목별 목록값'!#REF!
Name 법인유형: [1]작성요령!$F$344:$F$347
Name 스튜어드십코드참여여부: '[2]열제목별 목록값'!$C$92:$C$93
Name 스튜어드십코드참여여부: '열제목별 목록값'!$C$84:$C$85
Name 신청리그: '[2]열제목별 목록값'!$C$8:$C$11
Name 신청리그: '열제목별 목록값'!#REF!
Name 신청분야: '열제목별 목록값'!#REF!
Name 업무협력유형: '[2]열제목별 목록값'!$F$68:$F$75
Name 업무협력유형: '열제목별 목록값'!#REF!
Name 업무협력현황: '4.3 업무협력현황'!$D$11:$N$50
Name 여부: '[2]열제목별 목록값'!$C$85:$C$86
Name 여부: '열제목별 목록값'!$C$75:$C$76
Name 운용사유형: '[2]열제목별 목록값'!$C$62:$C$71
Name 운용사유형: '열제목별 목록값'!$C$53:$C$62
Name 운용사인센티브: '열제목별 목록값'!$F$69:$F$71
Name 운용인력직무구분: [1]작성요령!$F$312:$F$313
Name 일반인력_경력: '[1]3.4.2.일반운용인력 경력'!$E$11:$O$20
Name 일반인력_투자현황: '[1]3.2.2.일반운용인력 투자현황'!$E$11:$AI$66
Name 재직회사_유형: '[2]열제목별 목록값'!$F$66:$F$67
Name 재직회사_유형: '열제목별 목록값'!$F$58:$F$59
Name 재직회사법인유형: [1]작성요령!$F$352:$F$355
Name 정책출자: '열제목별 목록값'!#REF!
Name 제안사_대표이사_변경이력: #REF!
Name 제안사_투자현황: '[2]2.4 제안사 투자현황'!$E$6:$AG$20
Name 제안사_투자현황: '2.6 제안사 투자현황'!$E$6:$AG$237
Name 제안사_펀드현황: '[2]2.3 제안사 펀드현황'!$E$6:$CC$14
Name 제안사_펀드현황: '2.5 제안사 펀드현황'!$E$6:$CC$16
Name 제안서작성기준일: '[2]1.1 제안펀드'!$E$11
Name 제안서작성기준일: '1.1 제안펀드'!$E$11
Name 제안펀드의_주목적투자분야와_관련성: '[2]열제목별 목록값'!$F$77:$F$80
Name 제안펀드의_주목적투자분야와_관련성: '열제목별 목록값'!$F$60:$F$63
Name 주요업무수행내역: '[2]열제목별 목록값'!$F$60:$F$65
Name 주요업무수행내역: '열제목별 목록값'!$F$52:$F$57
Name 참여인력_개요: '[1]3.1.참여인력 개요'!$D$11:$AC$18
Name 참여인력구분: '[2]열제목별 목록값'!$F$4:$F$7
Name 참여인력구분: '열제목별 목록값'!$F$4:$F$7
Name 참여인력투자법인유형: [1]작성요령!$F$348:$F$351
Name 출자자유형: '열제목별 목록값'!$C$42:$C$48
Name 출자자인센티브: '열제목별 목록값'!#REF!

Sheet 작성요령
A1: Ⅰ.작성시 주의사항
A3: [공통사항]
A4: 제안서 작성 기준일 | C4: 46022
A5: 1. 별첨(1.1~5.1) 자료 작성전에 본 사항을 반드시 숙지할 것 (별첨번호는 Sheet별 머리글에서 확인 가능)
A6: 2. 일자는 yyyy-mm-dd, 주민등록번호 앞 6자리까지만 '111111'로 기재(외국인의 경우 생일 6자리)
A7: 사업자등록번호는 000-00-00000, 법인등록번호는 000000-0000000 형식으로 입력
A8: 3. drop down 목록이 있는 셀은 목록에 포함되어 있는 값을 입력하거나 목록에서 선택 ("열제목별 목록값" 참고)
A9: 4. 'Alt+Enter'나 연이은 공백은 입력하지 말 것
A10: 5. 연록색으로 음영처리된 셀은 자동 반영되므로 별도의 입력은 하지 말 것
A11: - 신한자산운용의 사전 허락 없이 수식을 편집한 경우는 허위사실 기재로 간주될 수 있음
A12: 6. 펀드명, 회사명 등은 정식명칭을 기입하기 바람
A13: 7. 목록행(1행~10행)은 절대 삭제 및 수정 금지. 또한, Sheet 삭제 및 명칭 변경 금지
A14: 8. 단위 : 백만원([4.1. 펀드거래] Sheet 는 단위를 "원"으로 함), %, 건
A15: 9. '열삽입'은 불가능, '행삽입'은 가능
A16: ★행삽입시 주의사항 : 지정된 범위 내에서만 행삽입하기(양식 아래에 이어서 쓰지 말 것)
... A34: Ⅱ. 용어의 정의 등
A36: 제안서 작성 기준일 | C36: 46022
A37: 설립일 | C37: 제안사 법인등기부등본 상의 설립일
A38: 펀드운용업무시작일 | C38: 제안사가 펀드법적유형 중 하나에 해당하는 자격을 가지고 있는 경우 해당 자격 취득일
C39: 자격이 필요 없는 경우는 조직개편일 등
C40: ※ M&A 또는 회사분할 등이 있었던 경우 변경전의 펀드운용업무시작일을 기재
A41: 운용펀드 최초결성일 | C41: 펀드 규약(또는 정관) 상에 제안사가 운용사로 기재된 펀드 중 아래의 '펀드' 기준을 충족하는 펀드로서,
C42: 결성일이 가장 빠른 펀드의 펀드결성일
C43: ※ PE 펀드로 지원시 PE 펀드 최초 결성일, VC 펀드로 지원시 VC펀드 최초 결성일 작성
C44: ※ M&A이전 운용 펀드와 회사분할 후 운용한 펀드는 고려하되 회사분할 이전에 청산한 펀드는 제외
A45: 펀드 | C45: ⅰ) 투자자를 사모로 모집한 경우로서 (즉, 사모펀드)
C46: ⅱ) 법적유형이 다음 중 하나에 해당하는 경우에 한하며
C47: ① PE펀드
C48: - [자본시장과금융투자업에관한법률]제9조18항7호('15.7.24자 삭제되기 전의 것을 말함)에
C49: 따른 사모투자전문회사
C50: - [자본시장과금융투자업에관한법률]제9조19항1호에 따른 경영참여형 사모집합투자기구
C51: (창업·벤처전문 경영참여형 사모집합투자기구는 제외)
C52: - [자본시장과금융투자업에관한법률]제249조의7 5항에 따른 경영참여목적 투자를 하는 제9조19항에 따른 일반사모집합투자기구 ('21.10.21일 이후 설립)
C53: - [자본시장과금융투자업에관한법률]제249조의7 5항에 따른 경영참여목적 투자를 하는 제9조19항에 따른 기관전용사모집합투자기구 ('21.10.21일 이후 설립)
C54: ② VC펀드
C55: - [벤처투자촉진에관한법률]제2조제11호에 따른 벤처투자조합
C56: - [부품·소재전문기업등의육성에관한특별조치법]제6조에 따른 부품·소재전문투자조합
C57: - [여신전문금융업법]제41조제3항에 따른 신기술사업투자조합
... C69: 펀드, 트레이딩 등 단기투자 펀드, 펀드 결성부터 해산까지의 기간이 1년 이내인 펀드는 제외함
A70: 펀드운용 | C70: 의사결정, 투자대상 발굴, 투자검토 및 투자실행, 사후관리, 회수 업무
...

Sheet 열제목별 목록값
A1: Ⅰ. 열제목별 목록값
A3: 구분 | C3: 목록값 | E3: 구분 | F3: 목록값
A4: 납입방식 | C4: 수시납 | E4: 참여인력구분 | F4: 대표펀드매니저
C5: 분할납 | F5: 핵심운용인력
A6: 공동투자약정 상대방 유형 | C6: 제안사 펀드 | F6: 일반운용인력
C7: 타운용사 펀드 | F7: 관리인력
C8: 전략적투자자(SI) | E8: 투자유형 | F8: 보통주
C9: 재무적투자자(FI) | F9: 우선주
C10: 기타 | F10: BW
A11: 펀드법적유형 | C11: 신기술사업투자조합 | F11: CB
C12: 벤처투자조합 | F12: 기타메자닌증권
C13: 경영참여형 사모집합투자기구 | F13: 프로젝트투자 (문화·컨텐츠 분야 한정)
C14: 창업·벤처전문 경영참여형 사모집합투자기구 | F14: 일반회사채
A15: 리그 | C15: 도전 | F15: 자펀드출자
C16: 소형 | F16: 대출채권
A17: 3번 주목적선택군 | C17: A | F17: 대여금
C18: B | F18: 펀드청산시자본계정투자
C19: C | F19: 기타
A20: 운용사인센티브 | C20: 신속투자집행인센티브 | E20: 회수구분 | F20: 회수료
C21: 비수도권투자인센티브 | F21: 부분회수
C22: 모두 선택 | F22: 미회수
C23: 미선택 | E23: 회수유형 | F23: 장외매각
A24: 민간출자자인센티브 | C24: 초과수익이전 | F24: 장외매각(M&A)
C25: 후순위보강 | F25: 코스닥
C26: 미선택 | F26: 코스피
A27: 펀드유형 (투자대상확정여부) | C27: 블라인드펀드 | F27: 환매
C28: 프로젝트펀드 | F28: 운용사자본계정매각
A29: 출자자유형 | C29: 제안사(GP) | F29: 상환
C30: 계열회사 및 특수관계인 | F30: 현물분배
C31: 펀드참여인력(핵심운용인력) | F31: 기타
C32: 정책기관(정부,지자체,공공기관 등) | E32: 펀드거래유형 | F32: 납입
C33: 신한혁신성장펀드 | F33: 현금분배
C34: 민간출자자(연기금, 공제회 포함) | F34: 현물분배
C35: 산업은행 | F35: 성과보수
A36: 출자확정구분 | C36: LOC | F36: 가상분배
C37: 운용사 | E37: 투자계정구분 | F37: PE펀드계정투자
C38: LOI | F38: VC펀드계정투자
C39: 미정 | F39: PE고유계정투자
A40: 운용사유형 | C40: 중소기업창업투자회사 | F40: VC고유계정투자
C41: 신기술사업금융회사 | F41: 기타 투자
...

Sheet 1.1 제안펀드
E4: 제안서 작성 기준일 | F4: 제안펀드 | S4: 보수 | V4: 운용사인센티브 | W4: 민간출자자인센티브 | X4: 제안사 | AD4: 제안펀드 담당자
F5: 펀드명 | G5: 투자기구 | H5: 운용사 주목적 제안 리그 | I5: 주목적 투자대상 선택여부 (3번) | J5: 주목적 투자대상 선택여부 (4번) | K5: 병행펀드 유무 | L5: AUM(펀드약정총액) (도전리그만 해당) | M5: 기존재정투입정책펀드 운용실적 여부 (도전리그만 해당) | N5: 펀드규모 (백만원) | O5: 존속기간 (년) | P5: 투자기간 (년) | Q5: 납입방식 | R5: 목표 수익율 (IRR) | S5: 기준 수익률 (IRR) | T5: 성과보수제안 | U5: 관리보수제안 | V5: 운용사인센티브(신속투자 인센티브, 비수도권 소재 중소중견 투자 인센티브) | W5: 민간출자자인센티브 (초과수익이전, 후순위보강, 미선택) | X5: 회사명 | Y5: 법인등록번호 | Z5: 출자약정예상액 | AA5: 우선 손실 충당 비율 | AB5: 참여 핵심 운용 인력수 | AC5: 참여 일반 운용 인력수 | AD5: 성명 | AE5: 소속 | AF5: 연락처
E11: 46022 | F11: A

Sheet 1.2 예상출자내역
E4: 출자자유형 | F4: 출자자명 | G4: 출자확정구분 | H4: 출자약정예상액 | I4: 지분율 | J4: 펀드 전략 연계 SI 여부 | K4: 우선손실충당비율 | L4: 우선손실충당예상액 | M4: 비고
E11: 정책기관(정부,지자체,공공기관 등) | I11: =IF(OR(ISBLANK(H11),0),"",H11/$H$25) | L11: =IF(OR(ISBLANK(K11),0),"",'1.1 제안펀드'!$N$11*K11)
E12: 신한혁신성장펀드 | F12: 신한국민성장일반사모혼합자산투자신탁제1호 | G12: LOC | I12: =IF(OR(ISBLANK(H12),0),"",H12/$H$25) | J12: NO | L12: =IF(OR(ISBLANK(K12),0),"",'1.1 제안펀드'!$N$11*K12) | M12: 제안/신청금액 기재
E13: 산업은행 | F13: 산업은행 | G13: LOC | I13: =IF(OR(ISBLANK(H13),0),"",H13/$H$25) | J13: NO | L13: =IF(OR(ISBLANK(K13),0),"",'1.1 제안펀드'!$N$11*K13) | M13: 제안/신청금액 기재
E14: 정책기관(정부,지자체,공공기관 등) | F14: 기금 | G14: LOC | I14: =IF(OR(ISBLANK(H14),0),"",H14/$H$25) | J14: NO | L14: =IF(OR(ISBLANK(K14),0),"",'1.1 제안펀드'!$N$11*K14) | M14: 제안/신청금액 기재
E15: 정책기관(정부,지자체,공공기관 등) | F15: 성장사다리2 | G15: LOC | I15: =IF(OR(ISBLANK(H15),0),"",H15/$H$25) | J15: NO | L15: =IF(OR(ISBLANK(K15),0),"",'1.1 제안펀드'!$N$11*K15) | M15: 제안/신청금액 기재
E16: 민간출자자(연기금, 공제회 포함) | G16: 운용사 | I16: =IF(OR(ISBLANK(H16),0),"",H16/$H$25) | L16: =IF(OR(ISBLANK(K16),0),"",'1.1 제안펀드'!$N$11*K16)
E17: 민간출자자(연기금, 공제회 포함) | G17: 운용사 | I17: =IF(OR(ISBLANK(H17),0),"",H17/$H$25) | L17: =IF(OR(ISBLANK(K17),0),"",'1.1 제안펀드'!$N$11*K17)
E18: 민간출자자(연기금, 공제회 포함) | I18: =IF(OR(ISBLANK(H18),0),"",H18/$H$25) | L18: =IF(OR(ISBLANK(K18),0),"",'1.1 제안펀드'!$N$11*K18)
E19: 민간출자자(연기금, 공제회 포함) | I19: =IF(OR(ISBLANK(H19),0),"",H19/$H$25) | L19: =IF(OR(ISBLANK(K19),0),"",'1.1 제안펀드'!$N$11*K19)
E20: 민간출자자(연기금, 공제회 포함) | I20: =IF(OR(ISBLANK(H20),0),"",H20/$H$25) | L20: =IF(OR(ISBLANK(K20),0),"",'1.1 제안펀드'!$N$11*K20)
E21: 민간출자자(연기금, 공제회 포함) | I21: =IF(OR(ISBLANK(H21),0),"",H21/$H$25) | L21: =IF(OR(ISBLANK(K21),0),"",'1.1 제안펀드'!$N$11*K21)
E22: 제안사 | I22: =IF(OR(ISBLANK(H22),0),"",H22/$H$25) | L22: =IF(OR(ISBLANK(K22),0),"",'1.1 제안펀드'!$N$11*K22)
G25: 결성 예정액 | H25: ='1.1 제안펀드'!N11 -> 0
G26: 확정금액 | H26: =H29+H30 -> 0
G27: 확정비중 | H27: =IF(H25=0,"",H26/H25)
G29: 운용사 | H29: =SUMIF(G11:G22,G29,H11:H22) -> 0
G30: LOC | H30: =SUMIF(G11:G22,G30,H11:H22) -> 0

Sheet 2.1 제안사 개요
E4: 기본정보 | M4: 업력 | Q4: 주소 | T4: 인원 | W4: 제안사 내규 현황 | AD4: 담당자 | AK4: 청산완료 펀드 | AT4: 운용(결성)예정/운용중/청산중 펀드 | BC4: PE펀드계정 투자 | BK4: VC펀드계정 투자 | BS4: 기타 주식등 투자펀드 계정
E5: 제안사명 | F5: 법인 등록번호 | G5: 사업자 등록번호 | H5: 대표자명 | I5: 제안사유형 | J5: 총발행주식수 | K5: 기준일로부터 5년간 최대주주 변동여부 | L5: 책임투자참여여부 | M5: 설립일 | N5: 펀드운용 업무 시작일 | O5: 운용펀드 최초결성일 | Q5: 우편번호 | R5: 주소 | S5: 주소상세 | T5: 전체 인원수 | U5: 펀드운용 담당 인력수 | V5: 관리인력수 | W5: 리스크관리체계구축여부 | X5: 리스크관리부서의 투자의사결정 참여 여부 | Y5: 리스크관리최고 책임자(CRO)의 리스크관리 관련 근무 경력 | Z5: 내부통제 기준 보유 유무 | AA5: 내부통제 전담조직유무 | AB5: 운용인력앞성과보수 지급규정 보유 유무 | AC5: 규정상 성과보수 최대지급 비율 | AD5: 성명 | AE5: 부서 | AF5: 직위 | AG5: 전화 | AH5: 팩스 | AI5: 휴대전화 번호 | AJ5: Email | AK5: 펀드수 | AL5: 약정총액 | AM5: 납입총액 | AN5: 투자총액 | AO5: 회수총액 | AP5: 출자자앞 분배총액 | AQ5: 성과보수 지급총액 | AR5: 납입총액 가중평균 펀드 수익률 (IRR) | AS5: 펀드 수익율 (Multiple) | AT5: 펀드수 | AU5: 약정총액 | AV5: 납입총액 | AW5: 투자총액 | AX5: 회수총액 | AY5: 출자자앞 분배총액 | AZ5: 성과보수 지급총액 | BA5: 펀드 순자산 | BB5: 추가투자 예상금액 | BC5: 투자건수 | BD5: 투자건수 (회수료) | BE5: 투자총액 | BF5: 회수총액 | BG5: 미회수 투자자산 투자원금 총액 | BH5: 미회수 투자자산 가치총액 | BI5: 투자금액 가중평균 수익율 | BJ5: 투자금액 가중평균 수익율 (회수료) | BK5: 투자건수 | BL5: 투자건수 (회수료) | BM5: 투자총액 | BN5: 회수총액 | BO5: 미회수 투자자산 투자원금 총액 | BP5: 미회수 투자자산 가치총액 | BQ5: 투자금액 가중수익율 | BR5: 투자금액 가중평균 수익율 (회수료) | BS5: 투자건수 | BT5: 투자건수 (회수료) | BU5: 투자총액 | BV5: 회수총액 | BW5: 미회수 투자자산 투자원금 총액 | BX5: 미회수 투자자산 가치총액 | BY5: 투자금액 가중수익율 | BZ5: 투자금액 가중평균 수익율 (회수료)
AK11: =SUMPRODUCT( (OFFSET(제안사_펀드현황,0,3,ROWS(제안사_펀드현황),1)="청산료")*1 ) -> 0 | AL11: =SUMPRODUCT( (OFFSET(제안사_펀드현황,0,3,ROWS(제안사_펀드현황),1)="청산료")*1, OFFSET(제안사_펀드현황,0,10,ROWS(제안사_펀드현황),1) ) -> 0 | AM11: =SUMPRODUCT( (OFFSET(제안사_펀드현황,0,3,ROWS(제안사_펀드현황),1)="청산료")*1, OFFSET(제안사_펀드현황,0,11,ROWS(제안사_펀드현황),1) ) -> 0 | AN11: =SUMPRODUCT( (OFFSET(제안사_펀드현황,0,3,ROWS(제안사_펀드현황),1)="청산료")*1, OFFSET(제안사_펀드현황,0,22,ROWS(제안사_펀드현황),1) ) -> 0 | AO11: =SUMPRODUCT( (OFFSET(제안사_펀드현황,0,3,ROWS(제안사_펀드현황),1)="청산료")*1, OFFSET(제안사_펀드현황,0,23,ROWS(제안사_펀드현황),1) ) -> 0 | AP11: =SUMPRODUCT( (OFFSET(제안사_펀드현황,0,3,ROWS(제안사_펀드현황),1)="청산료")*1, OFFSET(제안사_펀드현황,0,26,ROWS(제안사_펀드현황),1) ) -> 0 | AQ11: =SUMPRODUCT( (OFFSET(제안사_펀드현황,0,3,ROWS(제안사_펀드현황),1)="청산료")*1, OFFSET(제안사_펀드현황,0,27,ROWS(제안사_펀드현황),1) ) -> 0 | AR11: =SUMPRODUCT( (OFFSET(제안사_펀드현황,0,3,ROWS(제안사_펀드현황),1)="청산료")*1, OFFSET(제안사_펀드현황,0,11,ROWS(제안사_펀드현황),1), OFFSET(제안사_펀드현황,0,19,ROWS(제안사_펀드현황),1) )/AM11 -> #DIV/0! | AS11: =(AP11+AQ11)/AM11 -> #DIV/0! | AT11: =SUMPRODUCT( (OFFSET(제안사_펀드현황,0,3,ROWS(제안사_펀드현황),1)<>"청산료")*1, (OFFSET(제안사_펀드현황,0,3,ROWS(제안사_펀드현황),1)<>"")*1 ) -> 0 | AU11: =SUMPRODUCT( (OFFSET(제안사_펀드현황,0,3,ROWS(제안사_펀드현황),1)<>"청산료")*1, (OFFSET(제안사_펀드현황,0,3,ROWS(제안사_펀드현황),1)<>"")*1, OFFSET(제안사_펀드현황,0,10,ROWS(제안사_펀드현황),1) ) -> 0 | AV11: =SUMPRODUCT( (OFFSET(제안사_펀드현황,0,3,ROWS(제안사_펀드현황),1)<>"청산료")*1, (OFFSET(제안사_펀드현황,0,3,ROWS(제안사_펀드현황),1)<>"")*1, OFFSET(제안사_펀드현황,0,11,ROWS(제안사_펀드현황),1) ) -> 0 | AW11: =SUMPRODUCT( (OFFSET(제안사_펀드현황,0,3,ROWS(제안사_펀드현황),1)<>"청산료")*1, (OFFSET(제안사_펀드현황,0,3,ROWS(제안사_펀드현황),1)<>"")*1, OFFSET(제안사_펀드현황,0,22,ROWS(제안사_펀드현황),1) ) -> 0 | AX11: =SUMPRODUCT( (OFFSET(제안사_펀드현황,0,3,ROWS(제안사_펀드현황),1)<>"청산료")*1, (OFFSET(제안사_펀드현황,0,3,ROWS(제안사_펀드현황),1)<>"")*1, OFFSET(제안사_펀드현황,0,23,ROWS(제안사_펀드현황),1) ) -> 0 | AY11: =SUMPRODUCT( (OFFSET(제안사_펀드현황,0,3,ROWS(제안사_펀드현황),1)<>"청산료")*1, (OFFSET(제안사_펀드현황,0,3,ROWS(제안사_펀드현황),1)<>"")*1, OFFSET(제안사_펀드현황,0,26,ROWS(제안사_펀드현황),1) ) -> 0 | AZ11: =SUMPRODUCT( (OFFSET(제안사_펀드현황,0,3,ROWS(제안사_펀드현황),1)<>"청산료")*1, (OFFSET(제안사_펀드현황,0,3,ROWS(제안사_펀드현황),1)<>"")*1, OFFSET(제안사_펀드현황,0,27,ROWS(제안사_펀드현황),1) ) -> 0 | BA11: =SUMPRODUCT( (OFFSET(제안사_펀드현황,0,3,ROWS(제안사_펀드현황),1)<>"청산료")*1, (OFFSET(제안사_펀드현황,0,3,ROWS(제안사_펀드현황),1)<>"")*1, OFFSET(제안사_펀드현황,0,33,ROWS(제안사_펀드현황),1) ) -> 0 | BB11: =SUMPRODUCT( (OFFSET(제안사_펀드현황,0,2,ROWS(제안사_펀드현황),1)<>"청산료")*1, (OFFSET(제안사_펀드현황,0,2,ROWS(제안사_펀드현황),1)<>"")*1, OFFSET(제안사_펀드현황,0,34,ROWS(제안사_펀드현황),1) ) -> 0 | BC11: =SUMPRODUCT( (OFFSET(제안사_투자현황,0,0,ROWS(제안사_투자현황),1)="PE펀드계정")*1 ) -> 0 | BD11: =SUMPRODUCT( (OFFSET(제안사_투자현황,0,0,ROWS(제안사_투자현황),1)="PE펀드계정")*1, (OFFSET(제안사_투자현황,0,10,ROWS(제안사_투자현황),1)="회수료")*1 ) -> 0 | BE11: =SUMPRODUCT( (OFFSET(제안사_투자현황,0,0,ROWS(제안사_투자현황),1)="PE펀드계정")*1, OFFSET(제안사_투자현황,0,9,ROWS(제안사_투자현황),1) ) -> 0 | BF11: =SUMPRODUCT( (OFFSET(제안사_투자현황,0,0,ROWS(제안사_투자현황),1)="PE펀드계정")*1, OFFSET(제안사_투자현황,0,14,ROWS(제안사_투자현황),1) ) -> 0 | BG11: =SUMPRODUCT( (OFFSET(제안사_투자현황,0,0,ROWS(제안사_투자현황),1)="PE펀드계정")*1, OFFSET(제안사_투자현황,0,21,ROWS(제안사_투자현황),1) ) -> 0 | BH11: =SUMPRODUCT( (OFFSET(제안사_투자현황,0,0,ROWS(제안사_투자현황),1)="PE펀드계정")*1, OFFSET(제안사_투자현황,0,22,ROWS(제안사_투자현황),1) ) -> 0 | BI11: =IF(BE11=0,"N/A", SUMPRODUCT( (OFFSET(제안사_투자현황,0,0,ROWS(제안사_투자현황),1)="PE펀드계정")*1, OFFSET(제안사_투자현황,0,9,ROWS(제안사_투자현황),1), OFFSET(제안사_투자현황,0,11,ROWS(제안사_투자현황),1) ) / BE11) -> N/A | BJ11: =IF( SUMPRODUCT( (OFFSET(제안사_투자현황,0,0,ROWS(제안사_투자현황),1)="PE펀드계정")*1, OFFSET(제안사_투자현황,0,9,ROWS(제안사_투자현황),1), (OFFSET(제안사_투자현황,0,10,ROWS(제안사_투자현황),1)="회수료")*1) = 0, "N/A", SUMPRODUCT( (OFFSET(제안사_투자현황,0,0,ROWS(제안사_투자현황),1)="PE펀드계정")*1, OFFSET(제안사_투자현황,0,9,ROWS(제안사_투자현황),1), (OFFSET(제안사_투자현황,0,10,ROWS(제안사_투자현황),1)="회수료")*1, OFFSET(제안사_투자현황,0,11,ROWS(제안사_투자현황),1) ) / SUMPRODUCT( (OFFSET(제안사_투자현황,0,0,ROWS(제안사_투자현황),1)="PE펀드계정")*1, OFFSET(제안사_투자현황,0,9,ROWS(제안사_투자현황),1), (OFFSET(제안사_투자현황,0,10,ROWS(제안사_투자현황),1)="회수료")*1) ) -> N/A | BK11: =SUMPRODUCT( (OFFSET(제안사_투자현황,0,0,ROWS(제안사_투자현황),1)="VC펀드계정")*1 ) -> 0 | BL11: =SUMPRODUCT( (OFFSET(제안사_투자현황,0,0,ROWS(제안사_투자현황),1)="VC펀드계정")*1, (OFFSET(제안사_투자현황,0,10,ROWS(제안사_투자현황),1)="회수료")*1 ) -> 0 | BM11: =SUMPRODUCT( (OFFSET(제안사_투자현황,0,0,ROWS(제안사_투자현황),1)="VC펀드계정")*1, OFFSET(제안사_투자현황,0,9,ROWS(제안사_투자현황),1) ) -> 0 | BN11: =SUMPRODUCT( (OFFSET(제안사_투자현황,0,0,ROWS(제안사_투자현황),1)="VC펀드계정")*1, OFFSET(제안사_투자현황,0,14,ROWS(제안사_투자현황),1) ) -> 0 | BO11: =SUMPRODUCT( (OFFSET(제안사_투자현황,0,0,ROWS(제안사_투자현황),1)="VC펀드계정")*1, OFFSET(제안사_투자현황,0,21,ROWS(제안사_투자현황),1) ) -> 0 | BP11: =SUMPRODUCT( (OFFSET(제안사_투자현황,0,0,ROWS(제안사_투자현황),1)="VC펀드계정")*1, OFFSET(제안사_투자현황,0,22,ROWS(제안사_투자현황),1) ) -> 0 | BQ11: =IF(BM11=0,"N/A", SUMPRODUCT( (OFFSET(제안사_투자현황,0,0,ROWS(제안사_투자현황),1)="VC펀드계정")*1, OFFSET(제안사_투자현황,0,9,ROWS(제안사_투자현황),1), OFFSET(제안사_투자현황,0,11,ROWS(제안사_투자현황),1) ) / BM11) -> N/A | BR11: =IF( SUMPRODUCT( (OFFSET(제안사_투자현황,0,0,ROWS(제안사_투자현황),1)="VC펀드계정")*1, OFFSET(제안사_투자현황,0,9,ROWS(제안사_투자현황),1), (OFFSET(제안사_투자현황,0,10,ROWS(제안사_투자현황),1)="회수료")*1) = 0, "N/A", SUMPRODUCT( (OFFSET(제안사_투자현황,0,0,ROWS(제안사_투자현황),1)="VC펀드계정")*1, OFFSET(제안사_투자현황,0,9,ROWS(제안사_투자현황),1), (OFFSET(제안사_투자현황,0,10,ROWS(제안사_투자현황),1)="회수료")*1, OFFSET(제안사_투자현황,0,11,ROWS(제안사_투자현황),1) ) / SUMPRODUCT( (OFFSET(제안사_투자현황,0,0,ROWS(제안사_투자현황),1)="VC펀드계정")*1, OFFSET(제안사_투자현황,0,9,ROWS(제안사_투자현황),1), (OFFSET(제안사_투자현황,0,10,ROWS(제안사_투자현황),1)="회수료")*1) ) -> N/A | BS11: =SUMPRODUCT( (OFFSET(제안사_투자현황,0,0,ROWS(제안사_투자현황),1)="기타 주식등 투자펀드계정")*1 ) -> 0 | BT11: =SUMPRODUCT( (OFFSET(제안사_투자현황,0,0,ROWS(제안사_투자현황),1)="기타 주식등 투자펀드계정")*1, (OFFSET(제안사_투자현황,0,10,ROWS(제안사_투자현황),1)="회수료")*1 ) -> 0 | BU11: =SUMPRODUCT( (OFFSET(제안사_투자현황,0,0,ROWS(제안사_투자현황),1)="기타 주식등 투자펀드계정")*1, OFFSET(제안사_투자현황,0,9,ROWS(제안사_투자현황),1) ) -> 0 | BV11: =SUMPRODUCT( (OFFSET(제안사_투자현황,0,0,ROWS(제안사_투자현황),1)="기타 주식등 투자펀드계정")*1, OFFSET(제안사_투자현황,0,14,ROWS(제안사_투자현황),1) ) -> 0 | BW11: =SUMPRODUCT( (OFFSET(제안사_투자현황,0,0,ROWS(제안사_투자현황),1)="기타 주식등 투자펀드계정")*1, OFFSET(제안사_투자현황,0,21,ROWS(제안사_투자현황),1) ) -> 0 | BX11: =SUMPRODUCT( (OFFSET(제안사_투자현황,0,0,ROWS(제안사_투자현황),1)="기타 주식등 투자펀드계정")*1, OFFSET(제안사_투자현황,0,22,ROWS(제안사_투자현황),1) ) -> 0 | BY11: =IF(BU11=0,"N/A", SUMPRODUCT( (OFFSET(제안사_투자현황,0,0,ROWS(제안사_투자현황),1)="기타 주식등 투자펀드계정")*1, OFFSET(제안사_투자현황,0,9,ROWS(제안사_투자현황),1), OFFSET(제안사_투자현황,0,11,ROWS(제안사_투자현황),1) ) / BU11) -> N/A | BZ11: =IF( SUMPRODUCT( (OFFSET(제안사_투자현황,0,0,ROWS(제안사_투자현황),1)="기타 주식등 투자펀드계정")*1, OFFSET(제안사_투자현황,0,9,ROWS(제안사_투자현황),1), (OFFSET(제안사_투자현황,0,10,ROWS(제안사_투자현황),1)="회수료")*1) = 0, "N/A", SUMPRODUCT( (OFFSET(제안사_투자현황,0,0,ROWS(제안사_투자현황),1)="기타 주식등 투자펀드계정")*1, OFFSET(제안사_투자현황,0,9,ROWS(제안사_투자현황),1), (OFFSET(제안사_투자현황,0,10,ROWS(제안사_투자현황),1)="회수료")*1, OFFSET(제안사_투자현황,0,11,ROWS(제안사_투자현황),1) ) / SUMPRODUCT( (OFFSET(제안사_투자현황,0,0,ROWS(제안사_투자현황),1)="기타 주식등 투자펀드계정")*1, OFFSET(제안사_투자현황,0,9,ROWS(제안사_투자현황),1), (OFFSET(제안사_투자현황,0,10,ROWS(제안사_투자현황),1)="회수료")*1) ) -> N/A

Sheet 2.2 제안사 재무현황
E4: (가)결산일자 | F4: 총자산 | G4: 유동자산 | H4: 총부채 | I4: 유동부채 | J4: 자기자본 | K4: 자본금 | L4: 영업수익 | M4: 영업비용 | N4: 당기순이익 | O4: 유동비율 | P4: 부채비율 | Q4: 자본충실률 | R4: 영업수지율 | S4: 자기자본순이익률
E11: 46022 | O11: =G11/I11 -> #DIV/0! | P11: =H11/J11 -> #DIV/0! | Q11: =J11/K11 -> #DIV/0! | R11: =L11/M11 -> #DIV/0! | S11: =N11/J11 -> #DIV/0!
E12: 45657 | O12: =G12/I12 -> #DIV/0! | P12: =H12/J12 -> #DIV/0! | Q12: =J12/K12 -> #DIV/0! | R12: =L12/M12 -> #DIV/0! | S12: =N12/J12 -> #DIV/0!
E13: 45291 | O13: =G13/I13 -> #DIV/0! | P13: =H13/J13 -> #DIV/0! | Q13: =J13/K13 -> #DIV/0! | R13: =L13/M13 -> #DIV/0! | S13: =N13/J13 -> #DIV/0!
E14: 44926 | O14: =G14/I14 -> #DIV/0! | P14: =H14/J14 -> #DIV/0! | Q14: =J14/K14 -> #DIV/0! | R14: =L14/M14 -> #DIV/0! | S14: =N14/J14 -> #DIV/0!
E15: 44561 | O15: =G15/I15 -> #DIV/0! | P15: =H15/J15 -> #DIV/0! | Q15: =J15/K15 -> #DIV/0! | R15: =L15/M15 -> #DIV/0! | S15: =N15/J15 -> #DIV/0!

Sheet 2.3 제안사 주주현황
E4: 주주명 | F4: 보유주식수 | G4: 지분율 | H4: 최대주주와의 관계 | I4: 핵심운용인력 여부 | J4: 비고
G11: =IF(OR(ISBLANK(F11),0),"",F11/'2.1 제안사 개요'!$J$11)
G12: =IF(OR(ISBLANK(F12),0),"",F12/'2.1 제안사 개요'!$J$11)
G13: =IF(OR(ISBLANK(F13),0),"",F13/'2.1 제안사 개요'!$J$11)
G14: =IF(OR(ISBLANK(F14),0),"",F14/'2.1 제안사 개요'!$J$11)
G15: =IF(OR(ISBLANK(F15),0),"",F15/'2.1 제안사 개요'!$J$11)
G16: =IF(OR(ISBLANK(F16),0),"",F16/'2.1 제안사 개요'!$J$11)
G17: =IF(OR(ISBLANK(F17),0),"",F17/'2.1 제안사 개요'!$J$11)
G18: =IF(OR(ISBLANK(F18),0),"",F18/'2.1 제안사 개요'!$J$11)

Sheet 2.4 제안사 대표이사 변경이력
E4: 제안사 대표이사 | G4: 대표이사 재직기간 | J4: 비고
E5: 구분 | F5: 이름 | G5: 시작일 | H5: 종료일 | I5: 기간(년수)
I11: =IF(ISBLANK(G11),"",DATEDIF(G11,H11,"d")/365)
I12: =IF(ISBLANK(G12),"",DATEDIF(G12,H12,"d")/365)

Sheet 2.5 제안사 펀드현황
E4: 펀드명칭 | H4: 펀드개요 | O4: 펀드규모 | Q4: 펀드 존속기간 | U4: 보수 | X4: 펀드수익율 | Z4: 투자 및 회수 | AC4: 미회수투자자산 | AE4: 분배 및 비용 | AJ4: 예금 등 투자자산 이외 자산총액 | AK4: 미지급등 부채총액 | AL4: 펀드 순자산 | AM4: 추가투자 예상금액 | AN4: 핵심운용인력1 (최초규약상) | AR4: 핵심운용인력2 (최초규약상) | AV4: 핵심운용인력3 (최초규약상) | AZ4: 최초규약상 핵심 운용인력 수 | BA4: 핵심운용인력1(청산시 or 작성기준일 상) | BE4: 핵심운용인력2(청산시 or 작성기준일 상) | BI4: 핵심운용인력3(청산시 or 작성기준일 상) | BM4: 핵심인력변경횟수 | BN4: 운용사수 | BO4: 제안사출자 | BR4: 공동운용사1출자 | BU4: 공동운용사2출자 | BX4: 투자자1 출자 | BZ4: 투자자2 출자 | CB4: 투자자3 출자
E5: 펀드명 | F5: 펀드구분 | G5: 펀드 사업자번호(고유번호) | H5: 펀드 상태 | I5: 펀드법적유형 | J5: 펀드유형 | K5: 주목적투자분야 | L5: 투자기업의 주된 법인유형 | M5: 주된 투자유형 | N5: 성장금융/KDB/모태펀드 위탁펀드 여부 | O5: 약정 총액 | P5: 납입 총액 | Q5: 결성(예정)일 | R5: 투자기간 종료(예정)일 | S5: 해산(예정)일 | T5: 기간(연) | U5: 기준 수익률 | V5: 성과보수 | W5: 관리보수 | X5: IRR | Y5: Multiple | Z5: 투자건수 | AA5: 투자 총액 | AB5: 회수 총액 | AC5: 투자 원금 총액 | AD5: 가치 총액 | AE5: 출자자앞 분배총액 | AF5: 성과보수지급총액 | AG5: 성과보수 운용인력 분배총액 | AH5: 관리보수 지급총액 | AI5: 비용 지급총액 | AN5: 성명 | AO5: 시작일 | AP5: 종료일 | AQ5: 재직여부 | AR5: 성명 | AS5: 시작일 | AT5: 종료일 | AU5: 재직여부 | AV5: 성명 | AW5: 시작일 | AX5: 종료일 | AY5: 재직여부 | BA5: 성명 | BB5: 시작일 | BC5: 종료일 | BD5: 재직여부 | BE5: 성명 | BF5: 시작일 | BG5: 종료일 | BH5: 재직여부 | BI5: 성명 | BJ5: 시작일 | BK5: 종료일 | BL5: 재직여부 | BO5: 제안사명 | BP5: 약정액 | BQ5: 우선손실 충당액 | BR5: 운용사명 | BS5: 약정액 | BT5: 우선손실 충당액 | BU5: 운용사명 | BV5: 약정액 | BW5: 우선손실 충당액 | BX5: 출자자명 | BY5: 약정액 | BZ5: 출자자명 | CA5: 약정액 | CB5: 출자자명 | CC5: 약정액
T6: =IF(ISBLANK(Q6),"",DATEDIF(Q6,S6,"d")/365) | X6: =IF(ISBLANK($E6), "", IF( ISERROR( XIRR( OFFSET(펀드_거래,MATCH($E6,OFFSET(펀드_거래,0,0,ROWS(펀드_거래),1),0)-1,2,COUNTIF(펀드_거래,$E6),1), OFFSET(펀드_거래,MATCH($E6,OFFSET(펀드_거래,0,0,ROWS(펀드_거래),1),0)-1,3,COUNTIF(펀드_거래,$E6),1) ) ), "N/A", XIRR( OFFSET(펀드_거래,MATCH($E6,OFFSET(펀드_거래,0,0,ROWS(펀드_거래),1),0)-1,2,COUNTIF(펀드_거래,$E6),1), OFFSET(펀드_거래,MATCH($E6,OFFSET(펀드_거래,0,0,ROWS(펀드_거래),1),0)-1,3,COUNTIF(펀드_거래,$E6),1), IF(SUM(OFFSET(펀드_거래,MATCH($E6,OFFSET(펀드_거래,0,0,ROWS(펀드_거래),1),0)-1,2,COUNTIF(펀드_거래,$E6),1))>0, 1%, -1%) ) ) ) | Y6: =IF( ISBLANK($F6), "", IF(ISNUMBER(P6), (AD6+AE6+AF6+AJ6-AK6)/P6, "N/A") ) | Z6: =IF( ISBLANK($E6), "", SUMPRODUCT( (OFFSET(제안사_투자현황,0,1,ROWS(제안사_투자현황),1)=$E6)*1, ISTEXT(OFFSET(제안사_투자현황,0,4,ROWS(제안사_투자현황),1))*1 ) ) | AA6: =IF( ISBLANK($E6), "", SUMPRODUCT( (OFFSET(제안사_투자현황,0,1,ROWS(제안사_투자현황),1)=$E6)*1, OFFSET(제안사_투자현황,0,9,ROWS(제안사_투자현황),1)) ) | AB6: =IF( ISBLANK($E6), "", SUMPRODUCT( (OFFSET(제안사_투자현황,0,1,ROWS(제안사_투자현황),1)=$E6)*1, OFFSET(제안사_투자현황,0,14,ROWS(제안사_투자현황),1)) ) | AC6: =IF( ISBLANK($E6), "", SUMPRODUCT( (OFFSET(제안사_투자현황,0,1,ROWS(제안사_투자현황),1)=$E6)*1, OFFSET(제안사_투자현황,0,21,ROWS(제안사_투자현황),1)) ) | AD6: =IF( ISBLANK($E6), "", SUMPRODUCT( (OFFSET(제안사_투자현황,0,1,ROWS(제안사_투자현황),1)=$E6)*1, OFFSET(제안사_투자현황,0,22,ROWS(제안사_투자현황),1)) ) | AE6: =IF( ISBLANK($E6), "", SUMPRODUCT( (OFFSET(펀드_거래,0,0,ROWS(펀드_거래),1)=$E6)*1, (OFFSET(펀드_거래,0,1,ROWS(펀드_거래),1)="현금분배")*1, OFFSET(펀드_거래,0,2,ROWS(펀드_거래),1)/1000000 ) + SUMPRODUCT( (OFFSET(펀드_거래,0,0,ROWS(펀드_거래),1)=$F6)*1, (OFFSET(펀드_거래,0,1,ROWS(펀드_거래),1)="현물분배")*1, OFFSET(펀드_거래,0,2,ROWS(펀드_거래),1)/1000000 ) ) | AF6: =IF( ISBLANK($E6), "", SUMPRODUCT( (OFFSET(펀드_거래,0,0,ROWS(펀드_거래),1)=$E6)*1, (OFFSET(펀드_거래,0,1,ROWS(펀드_거래),1)="성과보수")*1, OFFSET(펀드_거래,0,2,ROWS(펀드_거래),1)/1000000) ) | AL6: =IF( ISERROR(AD6+AJ6-AK6), "", AD6+AJ6-AK6 ) | BM6: =IF(ISBLANK($E6),"",SUMPRODUCT((OFFSET(핵심운용인력_변경내역,0,0,ROWS(핵심운용인력_변경내역),1)=$E6)*1,(OFFSET(핵심운용인력_변경내역,0,1,ROWS(핵심운용인력_변경내역),1)="유출")*1))
T7: =IF(ISBLANK(Q7),"",DATEDIF(Q7,S7,"d")/365) | X7: =IF(ISBLANK($E7), "", IF( ISERROR( XIRR( OFFSET(펀드_거래,MATCH($E7,OFFSET(펀드_거래,0,0,ROWS(펀드_거래),1),0)-1,2,COUNTIF(펀드_거래,$E7),1), OFFSET(펀드_거래,MATCH($E7,OFFSET(펀드_거래,0,0,ROWS(펀드_거래),1),0)-1,3,COUNTIF(펀드_거래,$E7),1) ) ), "N/A", XIRR( OFFSET(펀드_거래,MATCH($E7,OFFSET(펀드_거래,0,0,ROWS(펀드_거래),1),0)-1,2,COUNTIF(펀드_거래,$E7),1), OFFSET(펀드_거래,MATCH($E7,OFFSET(펀드_거래,0,0,ROWS(펀드_거래),1),0)-1,3,COUNTIF(펀드_거래,$E7),1), IF(SUM(OFFSET(펀드_거래,MATCH($E7,OFFSET(펀드_거래,0,0,ROWS(펀드_거래),1),0)-1,2,COUNTIF(펀드_거래,$E7),1))>0, 1%, -1%) ) ) ) | Y7: =IF( ISBLANK($F7), "", IF(ISNUMBER(P7), (AD7+AE7+AF7+AJ7-AK7)/P7, "N/A") ) | Z7: =IF( ISBLANK($E7), "", SUMPRODUCT( (OFFSET(제안사_투자현황,0,1,ROWS(제안사_투자현황),1)=$E7)*1, ISTEXT(OFFSET(제안사_투자현황,0,4,ROWS(제안사_투자현황),1))*1 ) ) | AA7: =IF( ISBLANK($E7), "", SUMPRODUCT( (OFFSET(제안사_투자현황,0,1,ROWS(제안사_투자현황),1)=$E7)*1, OFFSET(제안사_투자현황,0,9,ROWS(제안사_투자현황),1)) ) | AB7: =IF( ISBLANK($E7), "", SUMPRODUCT( (OFFSET(제안사_투자현황,0,1,ROWS(제안사_투자현황),1)=$E7)*1, OFFSET(제안사_투자현황,0,14,ROWS(제안사_투자현황),1)) ) | AC7: =IF( ISBLANK($E7), "", SUMPRODUCT( (OFFSET(제안사_투자현황,0,1,ROWS(제안사_투자현황),1)=$E7)*1, OFFSET(제안사_투자현황,0,21,ROWS(제안사_투자현황),1)) ) | AD7: =IF( ISBLANK($E7), "", SUMPRODUCT( (OFFSET(제안사_투자현황,0,1,ROWS(제안사_투자현황),1)=$E7)*1, OFFSET(제안사_투자현황,0,22,ROWS(제안사_투자현황),1)) ) | AE7: =IF( ISBLANK($E7), "", SUMPRODUCT( (OFFSET(펀드_거래,0,0,ROWS(펀드_거래),1)=$E7)*1, (OFFSET(펀드_거래,0,1,ROWS(펀드_거래),1)="현금분배")*1, OFFSET(펀드_거래,0,2,ROWS(펀드_거래),1)/1000000 ) + SUMPRODUCT( (OFFSET(펀드_거래,0,0,ROWS(펀드_거래),1)=$F7)*1, (OFFSET(펀드_거래,0,1,ROWS(펀드_거래),1)="현물분배")*1, OFFSET(펀드_거래,0,2,ROWS(펀드_거래),1)/1000000 ) ) | AF7: =IF( ISBLANK($E7), "", SUMPRODUCT( (OFFSET(펀드_거래,0,0,ROWS(펀드_거래),1)=$E7)*1, (OFFSET(펀드_거래,0,1,ROWS(펀드_거래),1)="성과보수")*1, OFFSET(펀드_거래,0,2,ROWS(펀드_거래),1)/1000000) ) | AL7: =IF( ISERROR(AD7+AJ7-AK7), "", AD7+AJ7-AK7 ) | BM7: =IF(ISBLANK($E7),"",SUMPRODUCT((OFFSET(핵심운용인력_변경내역,0,0,ROWS(핵심운용인력_변경내역),1)=$E7)*1,(OFFSET(핵심운용인력_변경내역,0,1,ROWS(핵심운용인력_변경내역),1)="유출")*1))
T8: =IF(ISBLANK(Q8),"",DATEDIF(Q8,S8,"d")/365) | X8: =IF(ISBLANK($E8), "", IF( ISERROR( XIRR( OFFSET(펀드_거래,MATCH($E8,OFFSET(펀드_거래,0,0,ROWS(펀드_거래),1),0)-1,2,COUNTIF(펀드_거래,$E8),1), OFFSET(펀드_거래,MATCH($E8,OFFSET(펀드_거래,0,0,ROWS(펀드_거래),1),0)-1,3,COUNTIF(펀드_거래,$E8),1) ) ), "N/A", XIRR( OFFSET(펀드_거래,MATCH($E8,OFFSET(펀드_거래,0,0,ROWS(펀드_거래),1),0)-1,2,COUNTIF(펀드_거래,$E8),1), OFFSET(펀드_거래,MATCH($E8,OFFSET(펀드_거래,0,0,ROWS(펀드_거래),1),0)-1,3,COUNTIF(펀드_거래,$E8),1), IF(SUM(OFFSET(펀드_거래,MATCH($E8,OFFSET(펀드_거래,0,0,ROWS(펀드_거래),1),0)-1,2,COUNTIF(펀드_거래,$E8),1))>0, 1%, -1%) ) ) ) | Y8: =IF( ISBLANK($F8), "", IF(ISNUMBER(P8), (AD8+AE8+AF8+AJ8-AK8)/P8, "N/A") ) | Z8: =IF( ISBLANK($E8), "", SUMPRODUCT( (OFFSET(제안사_투자현황,0,1,ROWS(제안사_투자현황),1)=$E8)*1, ISTEXT(OFFSET(제안사_투자현황,0,4,ROWS(제안사_투자현황),1))*1 ) ) | AA8: =IF( ISBLANK($E8), "", SUMPRODUCT( (OFFSET(제안사_투자현황,0,1,ROWS(제안사_투자현황),1)=$E8)*1, OFFSET(제안사_투자현황,0,9,ROWS(제안사_투자현황),1)) ) | AB8: =IF( ISBLANK($E8), "", SUMPRODUCT( (OFFSET(제안사_투자현황,0,1,ROWS(제안사_투자현황),1)=$E8)*1, OFFSET(제안사_투자현황,0,14,ROWS(제안사_투자현황),1)) ) | AC8: =IF( ISBLANK($E8), "", SUMPRODUCT( (OFFSET(제안사_투자현황,0,1,ROWS(제안사_투자현황),1)=$E8)*1, OFFSET(제안사_투자현황,0,21,ROWS(제안사_투자현황),1)) ) | AD8: =IF( ISBLANK($E8), "", SUMPRODUCT( (OFFSET(제안사_투자현황,0,1,ROWS(제안사_투자현황),1)=$E8)*1, OFFSET(제안사_투자현황,0,22,ROWS(제안사_투자현황),1)) ) | AE8: =IF( ISBLANK($E8), "", SUMPRODUCT( (OFFSET(펀드_거래,0,0,ROWS(펀드_거래),1)=$E8)*1, (OFFSET(펀드_거래,0,1,ROWS(펀드_거래),1)="현금분배")*1, OFFSET(펀드_거래,0,2,ROWS(펀드_거래),1)/1000000 ) + SUMPRODUCT( (OFFSET(펀드_거래,0,0,ROWS(펀드_거래),1)=$F8)*1, (OFFSET(펀드_거래,0,1,ROWS(펀드_거래),1)="현물분배")*1, OFFSET(펀드_거래,0,2,ROWS(펀드_거래),1)/1000000 ) ) | AF8: =IF( ISBLANK($E8), "", SUMPRODUCT( (OFFSET(펀드_거래,0,0,ROWS(펀드_거래),1)=$E8)*1, (OFFSET(펀드_거래,0,1,ROWS(펀드_거래),1)="성과보수")*1, OFFSET(펀드_거래,0,2,ROWS(펀드_거래),1)/1000000) ) | AL8: =IF( ISERROR(AD8+AJ8-AK8), "", AD8+AJ8-AK8 ) | BM8: =IF(ISBLANK($E8),"",SUMPRODUCT((OFFSET(핵심운용인력_변경내역,0,0,ROWS(핵심운용인력_변경내역),1)=$E8)*1,(OFFSET(핵심운용인력_변경내역,0,1,ROWS(핵심운용인력_변경내역),1)="유출")*1))
T9: =IF(ISBLANK(Q9),"",DATEDIF(Q9,S9,"d")/365) | X9: =IF(ISBLANK($E9), "", IF( ISERROR( XIRR( OFFSET(펀드_거래,MATCH($E9,OFFSET(펀드_거래,0,0,ROWS(펀드_거래),1),0)-1,2,COUNTIF(펀드_거래,$E9),1), OFFSET(펀드_거래,MATCH($E9,OFFSET(펀드_거래,0,0,ROWS(펀드_거래),1),0)-1,3,COUNTIF(펀드_거래,$E9),1) ) ), "N/A", XIRR( OFFSET(펀드_거래,MATCH($E9,OFFSET(펀드_거래,0,0,ROWS(펀드_거래),1),0)-1,2,COUNTIF(펀드_거래,$E9),1), OFFSET(펀드_거래,MATCH($E9,OFFSET(펀드_거래,0,0,ROWS(펀드_거래),1),0)-1,3,COUNTIF(펀드_거래,$E9),1), IF(SUM(OFFSET(펀드_거래,MATCH($E9,OFFSET(펀드_거래,0,0,ROWS(펀드_거래),1),0)-1,2,COUNTIF(펀드_거래,$E9),1))>0, 1%, -1%) ) ) ) | Y9: =IF( ISBLANK($F9), "", IF(ISNUMBER(P9), (AD9+AE9+AF9+AJ9-AK9)/P9, "N/A") ) | Z9: =IF( ISBLANK($E9), "", SUMPRODUCT( (OFFSET(제안사_투자현황,0,1,ROWS(제안사_투자현황),1)=$E9)*1, ISTEXT(OFFSET(제안사_투자현황,0,4,ROWS(제안사_투자현황),1))*1 ) ) | AA9: =IF( ISBLANK($E9), "", SUMPRODUCT( (OFFSET(제안사_투자현황,0,1,ROWS(제안사_투자현황),1)=$E9)*1, OFFSET(제안사_투자현황,0,9,ROWS(제안사_투자현황),1)) ) | AB9: =IF( ISBLANK($E9), "", SUMPRODUCT( (OFFSET(제안사_투자현황,0,1,ROWS(제안사_투자현황),1)=$E9)*1, OFFSET(제안사_투자현황,0,14,ROWS(제안사_투자현황),1)) ) | AC9: =IF( ISBLANK($E9), "", SUMPRODUCT( (OFFSET(제안사_투자현황,0,1,ROWS(제안사_투자현황),1)=$E9)*1, OFFSET(제안사_투자현황,0,21,ROWS(제안사_투자현황),1)) ) | AD9: =IF( ISBLANK($E9), "", SUMPRODUCT( (OFFSET(제안사_투자현황,0,1,ROWS(제안사_투자현황),1)=$E9)*1, OFFSET(제안사_투자현황,0,22,ROWS(제안사_투자현황),1)) ) | AE9: =IF( ISBLANK($E9), "", SUMPRODUCT( (OFFSET(펀드_거래,0,0,ROWS(펀드_거래),1)=$E9)*1, (OFFSET(펀드_거래,0,1,ROWS(펀드_거래),1)="현금분배")*1, OFFSET(펀드_거래,0,2,ROWS(펀드_거래),1)/1000000 ) + SUMPRODUCT( (OFFSET(펀드_거래,0,0,ROWS(펀드_거래),1)=$F9)*1, (OFFSET(펀드_거래,0,1,ROWS(펀드_거래),1)="현물분배")*1, OFFSET(펀드_거래,0,2,ROWS(펀드_거래),1)/1000000 ) ) | AF9: =IF( ISBLANK($E9), "", SUMPRODUCT( (OFFSET(펀드_거래,0,0,ROWS(펀드_거래),1)=$E9)*1, (OFFSET(펀드_거래,0,1,ROWS(펀드_거래),1)="성과보수")*1, OFFSET(펀드_거래,0,2,ROWS(펀드_거래),1)/1000000) ) | AL9: =IF( ISERROR(AD9+AJ9-AK9), "", AD9+AJ9-AK9 ) | BM9: =IF(ISBLANK($E9),"",SUMPRODUCT((OFFSET(핵심운용인력_변경내역,0,0,ROWS(핵심운용인력_변경내역),1)=$E9)*1,(OFFSET(핵심운용인력_변경내역,0,1,ROWS(핵심운용인력_변경내역),1)="유출")*1))
T10: =IF(ISBLANK(Q10),"",DATEDIF(Q10,S10,"d")/365) | X10: =IF(ISBLANK($E10), "", IF( ISERROR( XIRR( OFFSET(펀드_거래,MATCH($E10,OFFSET(펀드_거래,0,0,ROWS(펀드_거래),1),0)-1,2,COUNTIF(펀드_거래,$E10),1), OFFSET(펀드_거래,MATCH($E10,OFFSET(펀드_거래,0,0,ROWS(펀드_거래),1),0)-1,3,COUNTIF(펀드_거래,$E10),1) ) ), "N/A", XIRR( OFFSET(펀드_거래,MATCH($E10,OFFSET(펀드_거래,0,0,ROWS(펀드_거래),1),0)-1,2,COUNTIF(펀드_거래,$E10),1), OFFSET(펀드_거래,MATCH($E10,OFFSET(펀드_거래,0,0,ROWS(펀드_거래),1),0)-1,3,COUNTIF(펀드_거래,$E10),1), IF(SUM(OFFSET(펀드_거래,MATCH($E10,OFFSET(펀드_거래,0,0,ROWS(펀드_거래),1),0)-1,2,COUNTIF(펀드_거래,$E10),1))>0, 1%, -1%) ) ) ) | Y10: =IF( ISBLANK($F10), "", IF(ISNUMBER(P10), (AD10+AE10+AF10+AJ10-AK10)/P10, "N/A") ) | Z10: =IF( ISBLANK($E10), "", SUMPRODUCT( (OFFSET(제안사_투자현황,0,1,ROWS(제안사_투자현황),1)=$E10)*1, ISTEXT(OFFSET(제안사_투자현황,0,4,ROWS(제안사_투자현황),1))*1 ) ) | AA10: =IF( ISBLANK($E10), "", SUMPRODUCT( (OFFSET(제안사_투자현황,0,1,ROWS(제안사_투자현황),1)=$E10)*1, OFFSET(제안사_투자현황,0,9,ROWS(제안사_투자현황),1)) ) | AB10: =IF( ISBLANK($E10), "", SUMPRODUCT( (OFFSET(제안사_투자현황,0,1,ROWS(제안사_투자현황),1)=$E10)*1, OFFSET(제안사_투자현황,0,14,ROWS(제안사_투자현황),1)) ) | AC10: =IF( ISBLANK($E10), "", SUMPRODUCT( (OFFSET(제안사_투자현황,0,1,ROWS(제안사_투자현황),1)=$E10)*1, OFFSET(제안사_투자현황,0,21,ROWS(제안사_투자현황),1)) ) | AD10: =IF( ISBLANK($E10), "", SUMPRODUCT( (OFFSET(제안사_투자현황,0,1,ROWS(제안사_투자현황),1)=$E10)*1, OFFSET(제안사_투자현황,0,22,ROWS(제안사_투자현황),1)) ) | AE10: =IF( ISBLANK($E10), "", SUMPRODUCT( (OFFSET(펀드_거래,0,0,ROWS(펀드_거래),1)=$E10)*1, (OFFSET(펀드_거래,0,1,ROWS(펀드_거래),1)="현금분배")*1, OFFSET(펀드_거래,0,2,ROWS(펀드_거래),1)/1000000 ) + SUMPRODUCT( (OFFSET(펀드_거래,0,0,ROWS(펀드_거래),1)=$F10)*1, (OFFSET(펀드_거래,0,1,ROWS(펀드_거래),1)="현물분배")*1, OFFSET(펀드_거래,0,2,ROWS(펀드_거래),1)/1000000 ) ) | AF10: =IF( ISBLANK($E10), "", SUMPRODUCT( (OFFSET(펀드_거래,0,0,ROWS(펀드_거래),1)=$E10)*1, (OFFSET(펀드_거래,0,1,ROWS(펀드_거래),1)="성과보수")*1, OFFSET(펀드_거래,0,2,ROWS(펀드_거래),1)/1000000) ) | AL10: =IF( ISERROR(AD10+AJ10-AK10), "", AD10+AJ10-AK10 ) | BM10: =IF(ISBLANK($E10),"",SUMPRODUCT((OFFSET(핵심운용인력_변경내역,0,0,ROWS(핵심운용인력_변경내역),1)=$E10)*1,(OFFSET(핵심운용인력_변경내역,0,1,ROWS(핵심운용인력_변경내역),1)="유출")*1))
T11: =IF(ISBLANK(Q11),"",DATEDIF(Q11,S11,"d")/365) | X11: =IF(ISBLANK($E11), "", IF( ISERROR( XIRR( OFFSET(펀드_거래,MATCH($E11,OFFSET(펀드_거래,0,0,ROWS(펀드_거래),1),0)-1,2,COUNTIF(펀드_거래,$E11),1), OFFSET(펀드_거래,MATCH($E11,OFFSET(펀드_거래,0,0,ROWS(펀드_거래),1),0)-1,3,COUNTIF(펀드_거래,$E11),1) ) ), "N/A", XIRR( OFFSET(펀드_거래,MATCH($E11,OFFSET(펀드_거래,0,0,ROWS(펀드_거래),1),0)-1,2,COUNTIF(펀드_거래,$E11),1), OFFSET(펀드_거래,MATCH($E11,OFFSET(펀드_거래,0,0,ROWS(펀드_거래),1),0)-1,3,COUNTIF(펀드_거래,$E11),1), IF(SUM(OFFSET(펀드_거래,MATCH($E11,OFFSET(펀드_거래,0,0,ROWS(펀드_거래),1),0)-1,2,COUNTIF(펀드_거래,$E11),1))>0, 1%, -1%) ) ) ) | Y11: =IF( ISBLANK($F11), "", IF(ISNUMBER(P11), (AD11+AE11+AF11+AJ11-AK11)/P11, "N/A") ) | Z11: =IF( ISBLANK($E11), "", SUMPRODUCT( (OFFSET(제안사_투자현황,0,1,ROWS(제안사_투자현황),1)=$E11)*1, ISTEXT(OFFSET(제안사_투자현황,0,4,ROWS(제안사_투자현황),1))*1 ) ) | AA11: =IF( ISBLANK($E11), "", SUMPRODUCT( (OFFSET(제안사_투자현황,0,1,ROWS(제안사_투자현황),1)=$E11)*1, OFFSET(제안사_투자현황,0,9,ROWS(제안사_투자현황),1)) ) | AB11: =IF( ISBLANK($E11), "", SUMPRODUCT( (OFFSET(제안사_투자현황,0,1,ROWS(제안사_투자현황),1)=$E11)*1, OFFSET(제안사_투자현황,0,14,ROWS(제안사_투자현황),1)) ) | AC11: =IF( ISBLANK($E11), "", SUMPRODUCT( (OFFSET(제안사_투자현황,0,1,ROWS(제안사_투자현황),1)=$E11)*1, OFFSET(제안사_투자현황,0,21,ROWS(제안사_투자현황),1)) ) | AD11: =IF( ISBLANK($E11), "", SUMPRODUCT( (OFFSET(제안사_투자현황,0,1,ROWS(제안사_투자현황),1)=$E11)*1, OFFSET(제안사_투자현황,0,22,ROWS(제안사_투자현황),1)) ) | AE11: =IF( ISBLANK($E11), "", SUMPRODUCT( (OFFSET(펀드_거래,0,0,ROWS(펀드_거래),1)=$E11)*1, (OFFSET(펀드_거래,0,1,ROWS(펀드_거래),1)="현금분배")*1, OFFSET(펀드_거래,0,2,ROWS(펀드_거래),1)/1000000 ) + SUMPRODUCT( (OFFSET(펀드_거래,0,0,ROWS(펀드_거래),1)=$F11)*1, (OFFSET(펀드_거래,0,1,ROWS(펀드_거래),1)="현물분배")*1, OFFSET(펀드_거래,0,2,ROWS(펀드_거래),1)/1000000 ) ) | AF11: =IF( ISBLANK($E11), "", SUMPRODUCT( (OFFSET(펀드_거래,0,0,ROWS(펀드_거래),1)=$E11)*1, (OFFSET(펀드_거래,0,1,ROWS(펀드_거래),1)="성과보수")*1, OFFSET(펀드_거래,0,2,ROWS(펀드_거래),1)/1000000) ) | AL11: =IF( ISERROR(AD11+AJ11-AK11), "", AD11+AJ11-AK11 ) | BM11: =IF(ISBLANK($E11),"",SUMPRODUCT((OFFSET(핵심운용인력_변경내역,0,0,ROWS(핵심운용인력_변경내역),1)=$E11)*1,(OFFSET(핵심운용인력_변경내역,0,1,ROWS(핵심운용인력_변경내역),1)="유출")*1))
T12: =IF(ISBLANK(Q12),"",DATEDIF(Q12,S12,"d")/365) | X12: =IF(ISBLANK($E12), "", IF( ISERROR( XIRR( OFFSET(펀드_거래,MATCH($E12,OFFSET(펀드_거래,0,0,ROWS(펀드_거래),1),0)-1,2,COUNTIF(펀드_거래,$E12),1), OFFSET(펀드_거래,MATCH($E12,OFFSET(펀드_거래,0,0,ROWS(펀드_거래),1),0)-1,3,COUNTIF(펀드_거래,$E12),1) ) ), "N/A", XIRR( OFFSET(펀드_거래,MATCH($E12,OFFSET(펀드_거래,0,0,ROWS(펀드_거래),1),0)-1,2,COUNTIF(펀드_거래,$E12),1), OFFSET(펀드_거래,MATCH($E12,OFFSET(펀드_거래,0,0,ROWS(펀드_거래),1),0)-1,3,COUNTIF(펀드_거래,$E12),1), IF(SUM(OFFSET(펀드_거래,MATCH($E12,OFFSET(펀드_거래,0,0,ROWS(펀드_거래),1),0)-1,2,COUNTIF(펀드_거래,$E12),1))>0, 1%, -1%) ) ) ) | Y12: =IF( ISBLANK($F12), "", IF(ISNUMBER(P12), (AD12+AE12+AF12+AJ12-AK12)/P12, "N/A") ) | Z12: =IF( ISBLANK($E12), "", SUMPRODUCT( (OFFSET(제안사_투자현황,0,1,ROWS(제안사_투자현황),1)=$E12)*1, ISTEXT(OFFSET(제안사_투자현황,0,4,ROWS(제안사_투자현황),1))*1 ) ) | AA12: =IF( ISBLANK($E12), "", SUMPRODUCT( (OFFSET(제안사_투자현황,0,1,ROWS(제안사_투자현황),1)=$E12)*1, OFFSET(제안사_투자현황,0,9,ROWS(제안사_투자현황),1)) ) | AB12: =IF( ISBLANK($E12), "", SUMPRODUCT( (OFFSET(제안사_투자현황,0,1,ROWS(제안사_투자현황),1)=$E12)*1, OFFSET(제안사_투자현황,0,14,ROWS(제안사_투자현황),1)) ) | AC12: =IF( ISBLANK($E12), "", SUMPRODUCT( (OFFSET(제안사_투자현황,0,1,ROWS(제안사_투자현황),1)=$E12)*1, OFFSET(제안사_투자현황,0,21,ROWS(제안사_투자현황),1)) ) | AD12: =IF( ISBLANK($E12), "", SUMPRODUCT( (OFFSET(제안사_투자현황,0,1,ROWS(제안사_투자현황),1)=$E12)*1, OFFSET(제안사_투자현황,0,22,ROWS(제안사_투자현황),1)) ) | AE12: =IF( ISBLANK($E12), "", SUMPRODUCT( (OFFSET(펀드_거래,0,0,ROWS(펀드_거래),1)=$E12)*1, (OFFSET(펀드_거래,0,1,ROWS(펀드_거래),1)="현금분배")*1, OFFSET(펀드_거래,0,2,ROWS(펀드_거래),1)/1000000 ) + SUMPRODUCT( (OFFSET(펀드_거래,0,0,ROWS(펀드_거래),1)=$F12)*1, (OFFSET(펀드_거래,0,1,ROWS(펀드_거래),1)="현물분배")*1, OFFSET(펀드_거래,0,2,ROWS(펀드_거래),1)/1000000 ) ) | AF12: =IF( ISBLANK($E12), "", SUMPRODUCT( (OFFSET(펀드_거래,0,0,ROWS(펀드_거래),1)=$E12)*1, (OFFSET(펀드_거래,0,1,ROWS(펀드_거래),1)="성과보수")*1, OFFSET(펀드_거래,0,2,ROWS(펀드_거래),1)/1000000) ) | AL12: =IF( ISERROR(AD12+AJ12-AK12), "", AD12+AJ12-AK12 ) | BM12: =IF(ISBLANK($E12),"",SUMPRODUCT((OFFSET(핵심운용인력_변경내역,0,0,ROWS(핵심운용인력_변경내역),1)=$E12)*1,(OFFSET(핵심운용인력_변경내역,0,1,ROWS(핵심운용인력_변경내역),1)="유출")*1))
T13: =IF(ISBLANK(Q13),"",DATEDIF(Q13,S13,"d")/365) | X13: =IF(ISBLANK($E13), "", IF( ISERROR( XIRR( OFFSET(펀드_거래,MATCH($E13,OFFSET(펀드_거래,0,0,ROWS(펀드_거래),1),0)-1,2,COUNTIF(펀드_거래,$E13),1), OFFSET(펀드_거래,MATCH($E13,OFFSET(펀드_거래,0,0,ROWS(펀드_거래),1),0)-1,3,COUNTIF(펀드_거래,$E13),1) ) ), "N/A", XIRR( OFFSET(펀드_거래,MATCH($E13,OFFSET(펀드_거래,0,0,ROWS(펀드_거래),1),0)-1,2,COUNTIF(펀드_거래,$E13),1), OFFSET(펀드_거래,MATCH($E13,OFFSET(펀드_거래,0,0,ROWS(펀드_거래),1),0)-1,3,COUNTIF(펀드_거래,$E13),1), IF(SUM(OFFSET(펀드_거래,MATCH($E13,OFFSET(펀드_거래,0,0,ROWS(펀드_거래),1),0)-1,2,COUNTIF(펀드_거래,$E13),1))>0, 1%, -1%) ) ) ) | Y13: =IF( ISBLANK($F13), "", IF(ISNUMBER(P13), (AD13+AE13+AF13+AJ13-AK13)/P13, "N/A") ) | Z13: =IF( ISBLANK($E13), "", SUMPRODUCT( (OFFSET(제안사_투자현황,0,1,ROWS(제안사_투자현황),1)=$E13)*1, ISTEXT(OFFSET(제안사_투자현황,0,4,ROWS(제안사_투자현황),1))*1 ) ) | AA13: =IF( ISBLANK($E13), "", SUMPRODUCT( (OFFSET(제안사_투자현황,0,1,ROWS(제안사_투자현황),1)=$E13)*1, OFFSET(제안사_투자현황,0,9,ROWS(제안사_투자현황),1)) ) | AB13: =IF( ISBLANK($E13), "", SUMPRODUCT( (OFFSET(제안사_투자현황,0,1,ROWS(제안사_투자현황),1)=$E13)*1, OFFSET(제안사_투자현황,0,14,ROWS(제안사_투자현황),1)) ) | AC13: =IF( ISBLANK($E13), "", SUMPRODUCT( (OFFSET(제안사_투자현황,0,1,ROWS(제안사_투자현황),1)=$E13)*1, OFFSET(제안사_투자현황,0,21,ROWS(제안사_투자현황),1)) ) | AD13: =IF( ISBLANK($E13), "", SUMPRODUCT( (OFFSET(제안사_투자현황,0,1,ROWS(제안사_투자현황),1)=$E13)*1, OFFSET(제안사_투자현황,0,22,ROWS(제안사_투자현황),1)) ) | AE13: =IF( ISBLANK($E13), "", SUMPRODUCT( (OFFSET(펀드_거래,0,0,ROWS(펀드_거래),1)=$E13)*1, (OFFSET(펀드_거래,0,1,ROWS(펀드_거래),1)="현금분배")*1, OFFSET(펀드_거래,0,2,ROWS(펀드_거래),1)/1000000 ) + SUMPRODUCT( (OFFSET(펀드_거래,0,0,ROWS(펀드_거래),1)=$F13)*1, (OFFSET(펀드_거래,0,1,ROWS(펀드_거래),1)="현물분배")*1, OFFSET(펀드_거래,0,2,ROWS(펀드_거래),1)/1000000 ) ) | AF13: =IF( ISBLANK($E13), "", SUMPRODUCT( (OFFSET(펀드_거래,0,0,ROWS(펀드_거래),1)=$E13)*1, (OFFSET(펀드_거래,0,1,ROWS(펀드_거래),1)="성과보수")*1, OFFSET(펀드_거래,0,2,ROWS(펀드_거래),1)/1000000) ) | AL13: =IF( ISERROR(AD13+AJ13-AK13), "", AD13+AJ13-AK13 ) | BM13: =IF(ISBLANK($E13),"",SUMPRODUCT((OFFSET(핵심운용인력_변경내역,0,0,ROWS(핵심운용인력_변경내역),1)=$E13)*1,(OFFSET(핵심운용인력_변경내역,0,1,ROWS(핵심운용인력_변경내역),1)="유출")*1))
T14: =IF(ISBLANK(Q14),"",DATEDIF(Q14,S14,"d")/365) | X14: =IF(ISBLANK($E14), "", IF( ISERROR( XIRR( OFFSET(펀드_거래,MATCH($E14,OFFSET(펀드_거래,0,0,ROWS(펀드_거래),1),0)-1,2,COUNTIF(펀드_거래,$E14),1), OFFSET(펀드_거래,MATCH($E14,OFFSET(펀드_거래,0,0,ROWS(펀드_거래),1),0)-1,3,COUNTIF(펀드_거래,$E14),1) ) ), "N/A", XIRR( OFFSET(펀드_거래,MATCH($E14,OFFSET(펀드_거래,0,0,ROWS(펀드_거래),1),0)-1,2,COUNTIF(펀드_거래,$E14),1), OFFSET(펀드_거래,MATCH($E14,OFFSET(펀드_거래,0,0,ROWS(펀드_거래),1),0)-1,3,COUNTIF(펀드_거래,$E14),1), IF(SUM(OFFSET(펀드_거래,MATCH($E14,OFFSET(펀드_거래,0,0,ROWS(펀드_거래),1),0)-1,2,COUNTIF(펀드_거래,$E14),1))>0, 1%, -1%) ) ) ) | Y14: =IF( ISBLANK($F14), "", IF(ISNUMBER(P14), (AD14+AE14+AF14+AJ14-AK14)/P14, "N/A") ) | Z14: =IF( ISBLANK($E14), "", SUMPRODUCT( (OFFSET(제안사_투자현황,0,1,ROWS(제안사_투자현황),1)=$E14)*1, ISTEXT(OFFSET(제안사_투자현황,0,4,ROWS(제안사_투자현황),1))*1 ) ) | AA14: =IF( ISBLANK($E14), "", SUMPRODUCT( (OFFSET(제안사_투자현황,0,1,ROWS(제안사_투자현황),1)=$E14)*1, OFFSET(제안사_투자현황,0,9,ROWS(제안사_투자현황),1)) ) | AB14: =IF( ISBLANK($E14), "", SUMPRODUCT( (OFFSET(제안사_투자현황,0,1,ROWS(제안사_투자현황),1)=$E14)*1, OFFSET(제안사_투자현황,0,14,ROWS(제안사_투자현황),1)) ) | AC14: =IF( ISBLANK($E14), "", SUMPRODUCT( (OFFSET(제안사_투자현황,0,1,ROWS(제안사_투자현황),1)=$E14)*1, OFFSET(제안사_투자현황,0,21,ROWS(제안사_투자현황),1)) ) | AD14: =IF( ISBLANK($E14), "", SUMPRODUCT( (OFFSET(제안사_투자현황,0,1,ROWS(제안사_투자현황),1)=$E14)*1, OFFSET(제안사_투자현황,0,22,ROWS(제안사_투자현황),1)) ) | AE14: =IF( ISBLANK($E14), "", SUMPRODUCT( (OFFSET(펀드_거래,0,0,ROWS(펀드_거래),1)=$E14)*1, (OFFSET(펀드_거래,0,1,ROWS(펀드_거래),1)="현금분배")*1, OFFSET(펀드_거래,0,2,ROWS(펀드_거래),1)/1000000 ) + SUMPRODUCT( (OFFSET(펀드_거래,0,0,ROWS(펀드_거래),1)=$F14)*1, (OFFSET(펀드_거래,0,1,ROWS(펀드_거래),1)="현물분배")*1, OFFSET(펀드_거래,0,2,ROWS(펀드_거래),1)/1000000 ) ) | AF14: =IF( ISBLANK($E14), "", SUMPRODUCT( (OFFSET(펀드_거래,0,0,ROWS(펀드_거래),1)=$E14)*1, (OFFSET(펀드_거래,0,1,ROWS(펀드_거래),1)="성과보수")*1, OFFSET(펀드_거래,0,2,ROWS(펀드_거래),1)/1000000) ) | AL14: =IF( ISERROR(AD14+AJ14-AK14), "", AD14+AJ14-AK14 ) | BM14: =IF(ISBLANK($E14),"",SUMPRODUCT((OFFSET(핵심운용인력_변경내역,0,0,ROWS(핵심운용인력_변경내역),1)=$E14)*1,(OFFSET(핵심운용인력_변경내역,0,1,ROWS(핵심운용인력_변경내역),1)="유출")*1))
T15: =IF(ISBLANK(Q15),"",DATEDIF(Q15,S15,"d")/365) | X15: =IF(ISBLANK($E15), "", IF( ISERROR( XIRR( OFFSET(펀드_거래,MATCH($E15,OFFSET(펀드_거래,0,0,ROWS(펀드_거래),1),0)-1,2,COUNTIF(펀드_거래,$E15),1), OFFSET(펀드_거래,MATCH($E15,OFFSET(펀드_거래,0,0,ROWS(펀드_거래),1),0)-1,3,COUNTIF(펀드_거래,$E15),1) ) ), "N/A", XIRR( OFFSET(펀드_거래,MATCH($E15,OFFSET(펀드_거래,0,0,ROWS(펀드_거래),1),0)-1,2,COUNTIF(펀드_거래,$E15),1), OFFSET(펀드_거래,MATCH($E15,OFFSET(펀드_거래,0,0,ROWS(펀드_거래),1),0)-1,3,COUNTIF(펀드_거래,$E15),1), IF(SUM(OFFSET(펀드_거래,MATCH($E15,OFFSET(펀드_거래,0,0,ROWS(펀드_거래),1),0)-1,2,COUNTIF(펀드_거래,$E15),1))>0, 1%, -1%) ) ) ) | Y15: =IF( ISBLANK($F15), "", IF(ISNUMBER(P15), (AD15+AE15+AF15+AJ15-AK15)/P15, "N/A") ) | Z15: =IF( ISBLANK($E15), "", SUMPRODUCT( (OFFSET(제안사_투자현황,0,1,ROWS(제안사_투자현황),1)=$E15)*1, ISTEXT(OFFSET(제안사_투자현황,0,4,ROWS(제안사_투자현황),1))*1 ) ) | AA15: =IF( ISBLANK($E15), "", SUMPRODUCT( (OFFSET(제안사_투자현황,0,1,ROWS(제안사_투자현황),1)=$E15)*1, OFFSET(제안사_투자현황,0,9,ROWS(제안사_투자현황),1)) ) | AB15: =IF( ISBLANK($E15), "", SUMPRODUCT( (OFFSET(제안사_투자현황,0,1,ROWS(제안사_투자현황),1)=$E15)*1, OFFSET(제안사_투자현황,0,14,ROWS(제안사_투자현황),1)) ) | AC15: =IF( ISBLANK($E15), "", SUMPRODUCT( (OFFSET(제안사_투자현황,0,1,ROWS(제안사_투자현황),1)=$E15)*1, OFFSET(제안사_투자현황,0,21,ROWS(제안사_투자현황),1)) ) | AD15: =IF( ISBLANK($E15), "", SUMPRODUCT( (OFFSET(제안사_투자현황,0,1,ROWS(제안사_투자현황),1)=$E15)*1, OFFSET(제안사_투자현황,0,22,ROWS(제안사_투자현황),1)) ) | AE15: =IF( ISBLANK($E15), "", SUMPRODUCT( (OFFSET(펀드_거래,0,0,ROWS(펀드_거래),1)=$E15)*1, (OFFSET(펀드_거래,0,1,ROWS(펀드_거래),1)="현금분배")*1, OFFSET(펀드_거래,0,2,ROWS(펀드_거래),1)/1000000 ) + SUMPRODUCT( (OFFSET(펀드_거래,0,0,ROWS(펀드_거래),1)=$F15)*1, (OFFSET(펀드_거래,0,1,ROWS(펀드_거래),1)="현물분배")*1, OFFSET(펀드_거래,0,2,ROWS(펀드_거래),1)/1000000 ) ) | AF15: =IF( ISBLANK($E15), "", SUMPRODUCT( (OFFSET(펀드_거래,0,0,ROWS(펀드_거래),1)=$E15)*1, (OFFSET(펀드_거래,0,1,ROWS(펀드_거래),1)="성과보수")*1, OFFSET(펀드_거래,0,2,ROWS(펀드_거래),1)/1000000) ) | AL15: =IF( ISERROR(AD15+AJ15-AK15), "", AD15+AJ15-AK15 ) | BM15: =IF(ISBLANK($E15),"",SUMPRODUCT((OFFSET(핵심운용인력_변경내역,0,0,ROWS(핵심운용인력_변경내역),1)=$E15)*1,(OFFSET(핵심운용인력_변경내역,0,1,ROWS(핵심운용인력_변경내역),1)="유출")*1))
T16: =IF(ISBLANK(Q16),"",DATEDIF(Q16,S16,"d")/365) | X16: =IF(ISBLANK($E16), "", IF( ISERROR( XIRR( OFFSET(펀드_거래,MATCH($E16,OFFSET(펀드_거래,0,0,ROWS(펀드_거래),1),0)-1,2,COUNTIF(펀드_거래,$E16),1), OFFSET(펀드_거래,MATCH($E16,OFFSET(펀드_거래,0,0,ROWS(펀드_거래),1),0)-1,3,COUNTIF(펀드_거래,$E16),1) ) ), "N/A", XIRR( OFFSET(펀드_거래,MATCH($E16,OFFSET(펀드_거래,0,0,ROWS(펀드_거래),1),0)-1,2,COUNTIF(펀드_거래,$E16),1), OFFSET(펀드_거래,MATCH($E16,OFFSET(펀드_거래,0,0,ROWS(펀드_거래),1),0)-1,3,COUNTIF(펀드_거래,$E16),1), IF(SUM(OFFSET(펀드_거래,MATCH($E16,OFFSET(펀드_거래,0,0,ROWS(펀드_거래),1),0)-1,2,COUNTIF(펀드_거래,$E16),1))>0, 1%, -1%) ) ) ) | Y16: =IF( ISBLANK($F16), "", IF(ISNUMBER(P16), (AD16+AE16+AF16+AJ16-AK16)/P16, "N/A") ) | Z16: =IF( ISBLANK($E16), "", SUMPRODUCT( (OFFSET(제안사_투자현황,0,1,ROWS(제안사_투자현황),1)=$E16)*1, ISTEXT(OFFSET(제안사_투자현황,0,4,ROWS(제안사_투자현황),1))*1 ) ) | AA16: =IF( ISBLANK($E16), "", SUMPRODUCT( (OFFSET(제안사_투자현황,0,1,ROWS(제안사_투자현황),1)=$E16)*1, OFFSET(제안사_투자현황,0,9,ROWS(제안사_투자현황),1)) ) | AB16: =IF( ISBLANK($E16), "", SUMPRODUCT( (OFFSET(제안사_투자현황,0,1,ROWS(제안사_투자현황),1)=$E16)*1, OFFSET(제안사_투자현황,0,14,ROWS(제안사_투자현황),1)) ) | AC16: =IF( ISBLANK($E16), "", SUMPRODUCT( (OFFSET(제안사_투자현황,0,1,ROWS(제안사_투자현황),1)=$E16)*1, OFFSET(제안사_투자현황,0,21,ROWS(제안사_투자현황),1)) ) | AD16: =IF( ISBLANK($E16), "", SUMPRODUCT( (OFFSET(제안사_투자현황,0,1,ROWS(제안사_투자현황),1)=$E16)*1, OFFSET(제안사_투자현황,0,22,ROWS(제안사_투자현황),1)) ) | AE16: =IF( ISBLANK($E16), "", SUMPRODUCT( (OFFSET(펀드_거래,0,0,ROWS(펀드_거래),1)=$E16)*1, (OFFSET(펀드_거래,0,1,ROWS(펀드_거래),1)="현금분배")*1, OFFSET(펀드_거래,0,2,ROWS(펀드_거래),1)/1000000 ) + SUMPRODUCT( (OFFSET(펀드_거래,0,0,ROWS(펀드_거래),1)=$F16)*1, (OFFSET(펀드_거래,0,1,ROWS(펀드_거래),1)="현물분배")*1, OFFSET(펀드_거래,0,2,ROWS(펀드_거래),1)/1000000 ) ) | AF16: =IF( ISBLANK($E16), "", SUMPRODUCT( (OFFSET(펀드_거래,0,0,ROWS(펀드_거래),1)=$E16)*1, (OFFSET(펀드_거래,0,1,ROWS(펀드_거래),1)="성과보수")*1, OFFSET(펀드_거래,0,2,ROWS(펀드_거래),1)/1000000) ) | AL16: =IF( ISERROR(AD16+AJ16-AK16), "", AD16+AJ16-AK16 ) | BM16: =IF(ISBLANK($E16),"",SUMPRODUCT((OFFSET(핵심운용인력_변경내역,0,0,ROWS(핵심운용인력_변경내역),1)=$E16)*1,(OFFSET(핵심운용인력_변경내역,0,1,ROWS(핵심운용인력_변경내역),1)="유출")*1))

Sheet 2.6 제안사 투자현황
E2: 0 | F2: 1 | G2: 2 | H2: 3 | I2: 4 | J2: 5 | K2: 6 | L2: 7 | M2: 8 | N2: 9 | O2: 10 | P2: 11 | Q2: 12 | R2: 13 | S2: 14 | T2: 15 | U2: 16 | V2: 17 | W2: 18 | X2: 19 | Y2: 20 | Z2: 21 | AA2: 22 | AB2: 23 | AC2: 24 | AD2: 25 | AE2: 26 | AF2: 27 | AG2: 28
E4: 투자현황 | R4: 회수투자자산 | W4: 부실발생기준에 의거한 회계상 감액내역 | Y4: 미회수투자자산 | AD4: 참여자정보 | AG4: 기타사항
E5: 펀드구분 | F5: 펀드명 | G5: 펀드 사업자번호(고유번호) | H5: 펀드법적유형 | I5: 피투자기업명 | J5: 피투자기업 법인유형 | K5: 피투자기업 주요산업분야 | L5: 투자일 | M5: 투자유형 | N5: 투자금액 | O5: 회수구분 | P5: 투자 수익율 (IRR) | Q5: 동반투자자 | R5: 최종회수일 | S5: 회수총액 | T5: 투자원금 | U5: 회수방법 | V5: 투자기간 | W5: 감액 여부 | X5: 감액 금액 | Y5: 시장성 유무 | Z5: 투자원금 | AA5: 가치 | AB5: 가치산출근거 | AC5: 현재 담당자 성명 | AD5: 발굴및 투자검토 | AE5: 사후 관리 | AF5: 회수
G6: =IF(ISBLANK($F6),"",VLOOKUP($F6,제안사_펀드현황,3,FALSE)) | V6: =IF(ISBLANK(R6),"",DATEDIF(L6,R6,"d")/365)
G7: =IF(ISBLANK($F7),"",VLOOKUP($F7,제안사_펀드현황,3,FALSE)) | V7: =IF(ISBLANK(R7),"",DATEDIF(L7,R7,"d")/365)
G8: =IF(ISBLANK($F8),"",VLOOKUP($F8,제안사_펀드현황,3,FALSE)) | V8: =IF(ISBLANK(R8),"",DATEDIF(L8,R8,"d")/365)
G9: =IF(ISBLANK($F9),"",VLOOKUP($F9,제안사_펀드현황,3,FALSE)) | V9: =IF(ISBLANK(R9),"",DATEDIF(L9,R9,"d")/365)
G10: =IF(ISBLANK($F10),"",VLOOKUP($F10,제안사_펀드현황,3,FALSE)) | V10: =IF(ISBLANK(R10),"",DATEDIF(L10,R10,"d")/365)
G11: =IF(ISBLANK($F11),"",VLOOKUP($F11,제안사_펀드현황,3,FALSE)) | V11: =IF(ISBLANK(R11),"",DATEDIF(L11,R11,"d")/365)
G12: =IF(ISBLANK($F12),"",VLOOKUP($F12,제안사_펀드현황,3,FALSE)) | V12: =IF(ISBLANK(R12),"",DATEDIF(L12,R12,"d")/365)
G13: =IF(ISBLANK($F13),"",VLOOKUP($F13,제안사_펀드현황,3,FALSE)) | V13: =IF(ISBLANK(R13),"",DATEDIF(L13,R13,"d")/365)
G14: =IF(ISBLANK($F14),"",VLOOKUP($F14,제안사_펀드현황,3,FALSE)) | V14: =IF(ISBLANK(R14),"",DATEDIF(L14,R14,"d")/365)
G15: =IF(ISBLANK($F15),"",VLOOKUP($F15,제안사_펀드현황,3,FALSE)) | V15: =IF(ISBLANK(R15),"",DATEDIF(L15,R15,"d")/365)
G16: =IF(ISBLANK($F16),"",VLOOKUP($F16,제안사_펀드현황,3,FALSE)) | V16: =IF(ISBLANK(R16),"",DATEDIF(L16,R16,"d")/365)
G17: =IF(ISBLANK($F17),"",VLOOKUP($F17,제안사_펀드현황,3,FALSE)) | V17: =IF(ISBLANK(R17),"",DATEDIF(L17,R17,"d")/365)
... G237: =IF(ISBLANK($F237),"",VLOOKUP($F237,제안사_펀드현황,3,FALSE)) | V237: =IF(ISBLANK(R237),"",DATEDIF(L237,R237,"d")/365)

Sheet 3.1 대표이사&참여인력 개요
E4: 대표이사/참여인력 | H4: 현재 재직회사 | Q4: 인력구분 | R4: 위험관리최고책임자해당여부 | S4: 대표펀드매니저 및 핵심운용인력 | T4: 제재 | V4: 투자관련 경력 (년수) | W4: 산업경력 (년수) | X4: 투자 및 회수실적 | AF4: 현재 관리중인 투자
E5: 성명 | F5: 주민등록번호상 앞6자리 | G5: 국적 | H5: 회사명 | I5: 부서 | J5: 직위 | K5: 제안사 지분율 (%) | L5: 제안사 등기임원 등재여부 | M5: 주요담당업무 | N5: 전화번호 | O5: 휴대전화번호 | P5: 이메일 | T5: 제재경력여부 | U5: 제재내역 | X5: 투자 건수 | Y5: 투자건수 (회수료) | Z5: 투자총액 | AA5: 회수총액 | AB5: 미회수 투자자산 투자원금 총액 | AC5: 미회수 투자자산 가치총액 | AD5: 투자금액 가중평균 수익율 | AE5: 투자금액 가중평균수익율 (회수료) | AF5: 미회수 투자건수 | AG5: 미회수투자자산 투자원금총액 | AH5: 미회수투자자산가치총액
V11: =IF(ISBLANK($E11), "", SUMPRODUCT((OFFSET(대표이사_참여인력_경력,0,0,ROWS(대표이사_참여인력_경력),1)=$E11)*1, OFFSET(대표이사_참여인력_경력,0,20,ROWS(대표이사_참여인력_경력),1), (OFFSET(대표이사_참여인력_경력,0,14,ROWS(대표이사_참여인력_경력),1)="YES")*1) ) | W11: =IF(ISBLANK($E11), "", SUMPRODUCT((OFFSET(대표이사_참여인력_경력,0,0,ROWS(대표이사_참여인력_경력),1)=$E11)*1, OFFSET(대표이사_참여인력_경력,0,20,ROWS(대표이사_참여인력_경력),1), (OFFSET(대표이사_참여인력_경력,0,14,ROWS(대표이사_참여인력_경력),1)="NO")*1, (OFFSET(대표이사_참여인력_경력,0,16,ROWS(대표이사_참여인력_경력),1)="YES")*1) ) | X11: =IF(ISBLANK($E11), "", SUMPRODUCT((OFFSET(대표이사_참여인력_투자현황,0,0,ROWS(대표이사_참여인력_투자현황),1)=$E11)*1, ISTEXT(OFFSET(대표이사_참여인력_투자현황,0,8,ROWS(대표이사_참여인력_투자현황),1))*1)) | Y11: =IF(ISBLANK($E11), "", SUMPRODUCT((OFFSET(대표이사_참여인력_투자현황,0,0,ROWS(대표이사_참여인력_투자현황),1)=$E11)*1, (OFFSET(대표이사_참여인력_투자현황,0,17,ROWS(대표이사_참여인력_투자현황),1)="회수료")*1)) | Z11: =IF(ISBLANK($E11), "", SUMPRODUCT((OFFSET(대표이사_참여인력_투자현황,0,0,ROWS(대표이사_참여인력_투자현황),1)=$E11)*1, OFFSET(대표이사_참여인력_투자현황,0,15,ROWS(대표이사_참여인력_투자현황),1))) | AA11: =IF(ISBLANK($E11), "", SUMPRODUCT((OFFSET(대표이사_참여인력_투자현황,0,0,ROWS(대표이사_참여인력_투자현황),1)=$E11)*1, OFFSET(대표이사_참여인력_투자현황,0,20,ROWS(대표이사_참여인력_투자현황),1))) | AB11: =IF(ISBLANK($E11), "", SUMPRODUCT((OFFSET(대표이사_참여인력_투자현황,0,0,ROWS(대표이사_참여인력_투자현황),1)=$E11)*1, OFFSET(대표이사_참여인력_투자현황,0,27,ROWS(대표이사_참여인력_투자현황),1))) | AC11: =IF(ISBLANK($E11), "", SUMPRODUCT((OFFSET(대표이사_참여인력_투자현황,0,0,ROWS(대표이사_참여인력_투자현황),1)=$E11)*1, OFFSET(대표이사_참여인력_투자현황,0,28,ROWS(대표이사_참여인력_투자현황),1))) | AD11: =IFERROR(IF(ISBLANK($E11), "", SUMPRODUCT((OFFSET(대표이사_참여인력_투자현황,0,0,ROWS(대표이사_참여인력_투자현황),1)=$E11)*1, OFFSET(대표이사_참여인력_투자현황,0,15,ROWS(대표이사_참여인력_투자현황),1), OFFSET(대표이사_참여인력_투자현황,0,18,ROWS(대표이사_참여인력_투자현황),1))/Z11),0) | AE11: =IFERROR(IF(ISBLANK($E11), "",IF(SUMPRODUCT( (OFFSET(대표이사_참여인력_투자현황,0,0,ROWS(대표이사_참여인력_투자현황),1)=$E11)*1, OFFSET(대표이사_참여인력_투자현황,0,15,ROWS(대표이사_참여인력_투자현황),1), (OFFSET(대표이사_참여인력_투자현황,0,17,ROWS(대표이사_참여인력_투자현황),1)="회수료")*1 ) = 0, 0, SUMPRODUCT( (OFFSET(대표이사_참여인력_투자현황,0,0,ROWS(대표이사_참여인력_투자현황),1)=$E11)*1, OFFSET(대표이사_참여인력_투자현황,0,15,ROWS(대표이사_참여인력_투자현황),1), (OFFSET(대표이사_참여인력_투자현황,0,17,ROWS(대표이사_참여인력_투자현황),1)="회수료")*1, OFFSET(대표이사_참여인력_투자현황,0,18,ROWS(대표이사_참여인력_투자현황),1) ) / SUMPRODUCT( (OFFSET(대표이사_참여인력_투자현황,0,0,ROWS(대표이사_참여인력_투자현황),1)=$E11)*1, OFFSET(대표이사_참여인력_투자현황,0,15,ROWS(대표이사_참여인력_투자현황),1), (OFFSET(대표이사_참여인력_투자현황,0,17,ROWS(대표이사_참여인력_투자현황),1)="회수료")*1 ) )),0) | AF11: =IF(ISBLANK($E11), "", SUMPRODUCT( (OFFSET(제안사_투자현황,0,24,ROWS(제안사_투자현황),1)=$E11)*1, (OFFSET(제안사_투자현황,0,10,ROWS(제안사_투자현황),1)<>"회수료")*1 ) ) | AG11: =IF(ISBLANK($E11), "", SUMPRODUCT( (OFFSET(제안사_투자현황,0,24,ROWS(제안사_투자현황),1)=$E11)*1, (OFFSET(제안사_투자현황,0,10,ROWS(제안사_투자현황),1)<>"회수료")*1, OFFSET(제안사_투자현황,0,21,ROWS(제안사_투자현황),1) ) ) | AH11: =IF(ISBLANK($E11), "", SUMPRODUCT( (OFFSET(제안사_투자현황,0,24,ROWS(제안사_투자현황),1)=$E11)*1, (OFFSET(제안사_투자현황,0,10,ROWS(제안사_투자현황),1)<>"회수료")*1, OFFSET(제안사_투자현황,0,22,ROWS(제안사_투자현황),1) ) )
V12: =IF(ISBLANK($E12), "", SUMPRODUCT((OFFSET(대표이사_참여인력_경력,0,0,ROWS(대표이사_참여인력_경력),1)=$E12)*1, OFFSET(대표이사_참여인력_경력,0,20,ROWS(대표이사_참여인력_경력),1), (OFFSET(대표이사_참여인력_경력,0,14,ROWS(대표이사_참여인력_경력),1)="YES")*1) ) | W12: =IF(ISBLANK($E12), "", SUMPRODUCT((OFFSET(대표이사_참여인력_경력,0,0,ROWS(대표이사_참여인력_경력),1)=$E12)*1, OFFSET(대표이사_참여인력_경력,0,20,ROWS(대표이사_참여인력_경력),1), (OFFSET(대표이사_참여인력_경력,0,14,ROWS(대표이사_참여인력_경력),1)="NO")*1, (OFFSET(대표이사_참여인력_경력,0,16,ROWS(대표이사_참여인력_경력),1)="YES")*1) ) | X12: =IF(ISBLANK($E12), "", SUMPRODUCT((OFFSET(대표이사_참여인력_투자현황,0,0,ROWS(대표이사_참여인력_투자현황),1)=$E12)*1, ISTEXT(OFFSET(대표이사_참여인력_투자현황,0,8,ROWS(대표이사_참여인력_투자현황),1))*1)) | Y12: =IF(ISBLANK($E12), "", SUMPRODUCT((OFFSET(대표이사_참여인력_투자현황,0,0,ROWS(대표이사_참여인력_투자현황),1)=$E12)*1, (OFFSET(대표이사_참여인력_투자현황,0,17,ROWS(대표이사_참여인력_투자현황),1)="회수료")*1)) | Z12: =IF(ISBLANK($E12), "", SUMPRODUCT((OFFSET(대표이사_참여인력_투자현황,0,0,ROWS(대표이사_참여인력_투자현황),1)=$E12)*1, OFFSET(대표이사_참여인력_투자현황,0,15,ROWS(대표이사_참여인력_투자현황),1))) | AA12: =IF(ISBLANK($E12), "", SUMPRODUCT((OFFSET(대표이사_참여인력_투자현황,0,0,ROWS(대표이사_참여인력_투자현황),1)=$E12)*1, OFFSET(대표이사_참여인력_투자현황,0,20,ROWS(대표이사_참여인력_투자현황),1))) | AB12: =IF(ISBLANK($E12), "", SUMPRODUCT((OFFSET(대표이사_참여인력_투자현황,0,0,ROWS(대표이사_참여인력_투자현황),1)=$E12)*1, OFFSET(대표이사_참여인력_투자현황,0,27,ROWS(대표이사_참여인력_투자현황),1))) | AC12: =IF(ISBLANK($E12), "", SUMPRODUCT((OFFSET(대표이사_참여인력_투자현황,0,0,ROWS(대표이사_참여인력_투자현황),1)=$E12)*1, OFFSET(대표이사_참여인력_투자현황,0,28,ROWS(대표이사_참여인력_투자현황),1))) | AD12: =IFERROR(IF(ISBLANK($E12), "", SUMPRODUCT((OFFSET(대표이사_참여인력_투자현황,0,0,ROWS(대표이사_참여인력_투자현황),1)=$E12)*1, OFFSET(대표이사_참여인력_투자현황,0,15,ROWS(대표이사_참여인력_투자현황),1), OFFSET(대표이사_참여인력_투자현황,0,18,ROWS(대표이사_참여인력_투자현황),1))/Z12),0) | AE12: =IFERROR(IF(ISBLANK($E12), "",IF(SUMPRODUCT( (OFFSET(대표이사_참여인력_투자현황,0,0,ROWS(대표이사_참여인력_투자현황),1)=$E12)*1, OFFSET(대표이사_참여인력_투자현황,0,15,ROWS(대표이사_참여인력_투자현황),1), (OFFSET(대표이사_참여인력_투자현황,0,17,ROWS(대표이사_참여인력_투자현황),1)="회수료")*1 ) = 0, 0, SUMPRODUCT( (OFFSET(대표이사_참여인력_투자현황,0,0,ROWS(대표이사_참여인력_투자현황),1)=$E12)*1, OFFSET(대표이사_참여인력_투자현황,0,15,ROWS(대표이사_참여인력_투자현황),1), (OFFSET(대표이사_참여인력_투자현황,0,17,ROWS(대표이사_참여인력_투자현황),1)="회수료")*1, OFFSET(대표이사_참여인력_투자현황,0,18,ROWS(대표이사_참여인력_투자현황),1) ) / SUMPRODUCT( (OFFSET(대표이사_참여인력_투자현황,0,0,ROWS(대표이사_참여인력_투자현황),1)=$E12)*1, OFFSET(대표이사_참여인력_투자현황,0,15,ROWS(대표이사_참여인력_투자현황),1), (OFFSET(대표이사_참여인력_투자현황,0,17,ROWS(대표이사_참여인력_투자현황),1)="회수료")*1 ) )),0) | AF12: =IF(ISBLANK($E12), "", SUMPRODUCT( (OFFSET(제안사_투자현황,0,24,ROWS(제안사_투자현황),1)=$E12)*1, (OFFSET(제안사_투자현황,0,10,ROWS(제안사_투자현황),1)<>"회수료")*1 ) ) | AG12: =IF(ISBLANK($E12), "", SUMPRODUCT( (OFFSET(제안사_투자현황,0,24,ROWS(제안사_투자현황),1)=$E12)*1, (OFFSET(제안사_투자현황,0,10,ROWS(제안사_투자현황),1)<>"회수료")*1, OFFSET(제안사_투자현황,0,21,ROWS(제안사_투자현황),1) ) ) | AH12: =IF(ISBLANK($E12), "", SUMPRODUCT( (OFFSET(제안사_투자현황,0,24,ROWS(제안사_투자현황),1)=$E12)*1, (OFFSET(제안사_투자현황,0,10,ROWS(제안사_투자현황),1)<>"회수료")*1, OFFSET(제안사_투자현황,0,22,ROWS(제안사_투자현황),1) ) )
V13: =IF(ISBLANK($E13), "", SUMPRODUCT((OFFSET(대표이사_참여인력_경력,0,0,ROWS(대표이사_참여인력_경력),1)=$E13)*1, OFFSET(대표이사_참여인력_경력,0,20,ROWS(대표이사_참여인력_경력),1), (OFFSET(대표이사_참여인력_경력,0,14,ROWS(대표이사_참여인력_경력),1)="YES")*1) ) | W13: =IF(ISBLANK($E13), "", SUMPRODUCT((OFFSET(대표이사_참여인력_경력,0,0,ROWS(대표이사_참여인력_경력),1)=$E13)*1, OFFSET(대표이사_참여인력_경력,0,20,ROWS(대표이사_참여인력_경력),1), (OFFSET(대표이사_참여인력_경력,0,14,ROWS(대표이사_참여인력_경력),1)="NO")*1, (OFFSET(대표이사_참여인력_경력,0,16,ROWS(대표이사_참여인력_경력),1)="YES")*1) ) | X13: =IF(ISBLANK($E13), "", SUMPRODUCT((OFFSET(대표이사_참여인력_투자현황,0,0,ROWS(대표이사_참여인력_투자현황),1)=$E13)*1, ISTEXT(OFFSET(대표이사_참여인력_투자현황,0,8,ROWS(대표이사_참여인력_투자현황),1))*1)) | Y13: =IF(ISBLANK($E13), "", SUMPRODUCT((OFFSET(대표이사_참여인력_투자현황,0,0,ROWS(대표이사_참여인력_투자현황),1)=$E13)*1, (OFFSET(대표이사_참여인력_투자현황,0,17,ROWS(대표이사_참여인력_투자현황),1)="회수료")*1)) | Z13: =IF(ISBLANK($E13), "", SUMPRODUCT((OFFSET(대표이사_참여인력_투자현황,0,0,ROWS(대표이사_참여인력_투자현황),1)=$E13)*1, OFFSET(대표이사_참여인력_투자현황,0,15,ROWS(대표이사_참여인력_투자현황),1))) | AA13: =IF(ISBLANK($E13), "", SUMPRODUCT((OFFSET(대표이사_참여인력_투자현황,0,0,ROWS(대표이사_참여인력_투자현황),1)=$E13)*1, OFFSET(대표이사_참여인력_투자현황,0,20,ROWS(대표이사_참여인력_투자현황),1))) | AB13: =IF(ISBLANK($E13), "", SUMPRODUCT((OFFSET(대표이사_참여인력_투자현황,0,0,ROWS(대표이사_참여인력_투자현황),1)=$E13)*1, OFFSET(대표이사_참여인력_투자현황,0,27,ROWS(대표이사_참여인력_투자현황),1))) | AC13: =IF(ISBLANK($E13), "", SUMPRODUCT((OFFSET(대표이사_참여인력_투자현황,0,0,ROWS(대표이사_참여인력_투자현황),1)=$E13)*1, OFFSET(대표이사_참여인력_투자현황,0,28,ROWS(대표이사_참여인력_투자현황),1))) | AD13: =IFERROR(IF(ISBLANK($E13), "", SUMPRODUCT((OFFSET(대표이사_참여인력_투자현황,0,0,ROWS(대표이사_참여인력_투자현황),1)=$E13)*1, OFFSET(대표이사_참여인력_투자현황,0,15,ROWS(대표이사_참여인력_투자현황),1), OFFSET(대표이사_참여인력_투자현황,0,18,ROWS(대표이사_참여인력_투자현황),1))/Z13),0) | AE13: =IFERROR(IF(ISBLANK($E13), "",IF(SUMPRODUCT( (OFFSET(대표이사_참여인력_투자현황,0,0,ROWS(대표이사_참여인력_투자현황),1)=$E13)*1, OFFSET(대표이사_참여인력_투자현황,0,15,ROWS(대표이사_참여인력_투자현황),1), (OFFSET(대표이사_참여인력_투자현황,0,17,ROWS(대표이사_참여인력_투자현황),1)="회수료")*1 ) = 0, 0, SUMPRODUCT( (OFFSET(대표이사_참여인력_투자현황,0,0,ROWS(대표이사_참여인력_투자현황),1)=$E13)*1, OFFSET(대표이사_참여인력_투자현황,0,15,ROWS(대표이사_참여인력_투자현황),1), (OFFSET(대표이사_참여인력_투자현황,0,17,ROWS(대표이사_참여인력_투자현황),1)="회수료")*1, OFFSET(대표이사_참여인력_투자현황,0,18,ROWS(대표이사_참여인력_투자현황),1) ) / SUMPRODUCT( (OFFSET(대표이사_참여인력_투자현황,0,0,ROWS(대표이사_참여인력_투자현황),1)=$E13)*1, OFFSET(대표이사_참여인력_투자현황,0,15,ROWS(대표이사_참여인력_투자현황),1), (OFFSET(대표이사_참여인력_투자현황,0,17,ROWS(대표이사_참여인력_투자현황),1)="회수료")*1 ) )),0) | AF13: =IF(ISBLANK($E13), "", SUMPRODUCT( (OFFSET(제안사_투자현황,0,24,ROWS(제안사_투자현황),1)=$E13)*1, (OFFSET(제안사_투자현황,0,10,ROWS(제안사_투자현황),1)<>"회수료")*1 ) ) | AG13: =IF(ISBLANK($E13), "", SUMPRODUCT( (OFFSET(제안사_투자현황,0,24,ROWS(제안사_투자현황),1)=$E13)*1, (OFFSET(제안사_투자현황,0,10,ROWS(제안사_투자현황),1)<>"회수료")*1, OFFSET(제안사_투자현황,0,21,ROWS(제안사_투자현황),1) ) ) | AH13: =IF(ISBLANK($E13), "", SUMPRODUCT( (OFFSET(제안사_투자현황,0,24,ROWS(제안사_투자현황),1)=$E13)*1, (OFFSET(제안사_투자현황,0,10,ROWS(제안사_투자현황),1)<>"회수료")*1, OFFSET(제안사_투자현황,0,22,ROWS(제안사_투자현황),1) ) )
V14: =IF(ISBLANK($E14), "", SUMPRODUCT((OFFSET(대표이사_참여인력_경력,0,0,ROWS(대표이사_참여인력_경력),1)=$E14)*1, OFFSET(대표이사_참여인력_경력,0,20,ROWS(대표이사_참여인력_경력),1), (OFFSET(대표이사_참여인력_경력,0,14,ROWS(대표이사_참여인력_경력),1)="YES")*1) ) | W14: =IF(ISBLANK($E14), "", SUMPRODUCT((OFFSET(대표이사_참여인력_경력,0,0,ROWS(대표이사_참여인력_경력),1)=$E14)*1, OFFSET(대표이사_참여인력_경력,0,20,ROWS(대표이사_참여인력_경력),1), (OFFSET(대표이사_참여인력_경력,0,14,ROWS(대표이사_참여인력_경력),1)="NO")*1, (OFFSET(대표이사_참여인력_경력,0,16,ROWS(대표이사_참여인력_경력),1)="YES")*1) ) | X14: =IF(ISBLANK($E14), "", SUMPRODUCT((OFFSET(대표이사_참여인력_투자현황,0,0,ROWS(대표이사_참여인력_투자현황),1)=$E14)*1, ISTEXT(OFFSET(대표이사_참여인력_투자현황,0,8,ROWS(대표이사_참여인력_투자현황),1))*1)) | Y14: =IF(ISBLANK($E14), "", SUMPRODUCT((OFFSET(대표이사_참여인력_투자현황,0,0,ROWS(대표이사_참여인력_투자현황),1)=$E14)*1, (OFFSET(대표이사_참여인력_투자현황,0,17,ROWS(대표이사_참여인력_투자현황),1)="회수료")*1)) | Z14: =IF(ISBLANK($E14), "", SUMPRODUCT((OFFSET(대표이사_참여인력_투자현황,0,0,ROWS(대표이사_참여인력_투자현황),1)=$E14)*1, OFFSET(대표이사_참여인력_투자현황,0,15,ROWS(대표이사_참여인력_투자현황),1))) | AA14: =IF(ISBLANK($E14), "", SUMPRODUCT((OFFSET(대표이사_참여인력_투자현황,0,0,ROWS(대표이사_참여인력_투자현황),1)=$E14)*1, OFFSET(대표이사_참여인력_투자현황,0,20,ROWS(대표이사_참여인력_투자현황),1))) | AB14: =IF(ISBLANK($E14), "", SUMPRODUCT((OFFSET(대표이사_참여인력_투자현황,0,0,ROWS(대표이사_참여인력_투자현황),1)=$E14)*1, OFFSET(대표이사_참여인력_투자현황,0,27,ROWS(대표이사_참여인력_투자현황),1))) | AC14: =IF(ISBLANK($E14), "", SUMPRODUCT((OFFSET(대표이사_참여인력_투자현황,0,0,ROWS(대표이사_참여인력_투자현황),1)=$E14)*1, OFFSET(대표이사_참여인력_투자현황,0,28,ROWS(대표이사_참여인력_투자현황),1))) | AD14: =IFERROR(IF(ISBLANK($E14), "", SUMPRODUCT((OFFSET(대표이사_참여인력_투자현황,0,0,ROWS(대표이사_참여인력_투자현황),1)=$E14)*1, OFFSET(대표이사_참여인력_투자현황,0,15,ROWS(대표이사_참여인력_투자현황),1), OFFSET(대표이사_참여인력_투자현황,0,18,ROWS(대표이사_참여인력_투자현황),1))/Z14),0) | AE14: =IFERROR(IF(ISBLANK($E14), "",IF(SUMPRODUCT( (OFFSET(대표이사_참여인력_투자현황,0,0,ROWS(대표이사_참여인력_투자현황),1)=$E14)*1, OFFSET(대표이사_참여인력_투자현황,0,15,ROWS(대표이사_참여인력_투자현황),1), (OFFSET(대표이사_참여인력_투자현황,0,17,ROWS(대표이사_참여인력_투자현황),1)="회수료")*1 ) = 0, 0, SUMPRODUCT( (OFFSET(대표이사_참여인력_투자현황,0,0,ROWS(대표이사_참여인력_투자현황),1)=$E14)*1, OFFSET(대표이사_참여인력_투자현황,0,15,ROWS(대표이사_참여인력_투자현황),1), (OFFSET(대표이사_참여인력_투자현황,0,17,ROWS(대표이사_참여인력_투자현황),1)="회수료")*1, OFFSET(대표이사_참여인력_투자현황,0,18,ROWS(대표이사_참여인력_투자현황),1) ) / SUMPRODUCT( (OFFSET(대표이사_참여인력_투자현황,0,0,ROWS(대표이사_참여인력_투자현황),1)=$E14)*1, OFFSET(대표이사_참여인력_투자현황,0,15,ROWS(대표이사_참여인력_투자현황),1), (OFFSET(대표이사_참여인력_투자현황,0,17,ROWS(대표이사_참여인력_투자현황),1)="회수료")*1 ) )),0) | AF14: =IF(ISBLANK($E14), "", SUMPRODUCT( (OFFSET(제안사_투자현황,0,24,ROWS(제안사_투자현황),1)=$E14)*1, (OFFSET(제안사_투자현황,0,10,ROWS(제안사_투자현황),1)<>"회수료")*1 ) ) | AG14: =IF(ISBLANK($E14), "", SUMPRODUCT( (OFFSET(제안사_투자현황,0,24,ROWS(제안사_투자현황),1)=$E14)*1, (OFFSET(제안사_투자현황,0,10,ROWS(제안사_투자현황),1)<>"회수료")*1, OFFSET(제안사_투자현황,0,21,ROWS(제안사_투자현황),1) ) ) | AH14: =IF(ISBLANK($E14), "", SUMPRODUCT( (OFFSET(제안사_투자현황,0,24,ROWS(제안사_투자현황),1)=$E14)*1, (OFFSET(제안사_투자현황,0,10,ROWS(제안사_투자현황),1)<>"회수료")*1, OFFSET(제안사_투자현황,0,22,ROWS(제안사_투자현황),1) ) )
V15: =IF(ISBLANK($E15), "", SUMPRODUCT((OFFSET(대표이사_참여인력_경력,0,0,ROWS(대표이사_참여인력_경력),1)=$E15)*1, OFFSET(대표이사_참여인력_경력,0,20,ROWS(대표이사_참여인력_경력),1), (OFFSET(대표이사_참여인력_경력,0,14,ROWS(대표이사_참여인력_경력),1)="YES")*1) ) | W15: =IF(ISBLANK($E15), "", SUMPRODUCT((OFFSET(대표이사_참여인력_경력,0,0,ROWS(대표이사_참여인력_경력),1)=$E15)*1, OFFSET(대표이사_참여인력_경력,0,20,ROWS(대표이사_참여인력_경력),1), (OFFSET(대표이사_참여인력_경력,0,14,ROWS(대표이사_참여인력_경력),1)="NO")*1, (OFFSET(대표이사_참여인력_경력,0,16,ROWS(대표이사_참여인력_경력),1)="YES")*1) ) | X15: =IF(ISBLANK($E15), "", SUMPRODUCT((OFFSET(대표이사_참여인력_투자현황,0,0,ROWS(대표이사_참여인력_투자현황),1)=$E15)*1, ISTEXT(OFFSET(대표이사_참여인력_투자현황,0,8,ROWS(대표이사_참여인력_투자현황),1))*1)) | Y15: =IF(ISBLANK($E15), "", SUMPRODUCT((OFFSET(대표이사_참여인력_투자현황,0,0,ROWS(대표이사_참여인력_투자현황),1)=$E15)*1, (OFFSET(대표이사_참여인력_투자현황,0,17,ROWS(대표이사_참여인력_투자현황),1)="회수료")*1)) | Z15: =IF(ISBLANK($E15), "", SUMPRODUCT((OFFSET(대표이사_참여인력_투자현황,0,0,ROWS(대표이사_참여인력_투자현황),1)=$E15)*1, OFFSET(대표이사_참여인력_투자현황,0,15,ROWS(대표이사_참여인력_투자현황),1))) | AA15: =IF(ISBLANK($E15), "", SUMPRODUCT((OFFSET(대표이사_참여인력_투자현황,0,0,ROWS(대표이사_참여인력_투자현황),1)=$E15)*1, OFFSET(대표이사_참여인력_투자현황,0,20,ROWS(대표이사_참여인력_투자현황),1))) | AB15: =IF(ISBLANK($E15), "", SUMPRODUCT((OFFSET(대표이사_참여인력_투자현황,0,0,ROWS(대표이사_참여인력_투자현황),1)=$E15)*1, OFFSET(대표이사_참여인력_투자현황,0,27,ROWS(대표이사_참여인력_투자현황),1))) | AC15: =IF(ISBLANK($E15), "", SUMPRODUCT((OFFSET(대표이사_참여인력_투자현황,0,0,ROWS(대표이사_참여인력_투자현황),1)=$E15)*1, OFFSET(대표이사_참여인력_투자현황,0,28,ROWS(대표이사_참여인력_투자현황),1))) | AD15: =IFERROR(IF(ISBLANK($E15), "", SUMPRODUCT((OFFSET(대표이사_참여인력_투자현황,0,0,ROWS(대표이사_참여인력_투자현황),1)=$E15)*1, OFFSET(대표이사_참여인력_투자현황,0,15,ROWS(대표이사_참여인력_투자현황),1), OFFSET(대표이사_참여인력_투자현황,0,18,ROWS(대표이사_참여인력_투자현황),1))/Z15),0) | AE15: =IFERROR(IF(ISBLANK($E15), "",IF(SUMPRODUCT( (OFFSET(대표이사_참여인력_투자현황,0,0,ROWS(대표이사_참여인력_투자현황),1)=$E15)*1, OFFSET(대표이사_참여인력_투자현황,0,15,ROWS(대표이사_참여인력_투자현황),1), (OFFSET(대표이사_참여인력_투자현황,0,17,ROWS(대표이사_참여인력_투자현황),1)="회수료")*1 ) = 0, 0, SUMPRODUCT( (OFFSET(대표이사_참여인력_투자현황,0,0,ROWS(대표이사_참여인력_투자현황),1)=$E15)*1, OFFSET(대표이사_참여인력_투자현황,0,15,ROWS(대표이사_참여인력_투자현황),1), (OFFSET(대표이사_참여인력_투자현황,0,17,ROWS(대표이사_참여인력_투자현황),1)="회수료")*1, OFFSET(대표이사_참여인력_투자현황,0,18,ROWS(대표이사_참여인력_투자현황),1) ) / SUMPRODUCT( (OFFSET(대표이사_참여인력_투자현황,0,0,ROWS(대표이사_참여인력_투자현황),1)=$E15)*1, OFFSET(대표이사_참여인력_투자현황,0,15,ROWS(대표이사_참여인력_투자현황),1), (OFFSET(대표이사_참여인력_투자현황,0,17,ROWS(대표이사_참여인력_투자현황),1)="회수료")*1 ) )),0) | AF15: =IF(ISBLANK($E15), "", SUMPRODUCT( (OFFSET(제안사_투자현황,0,24,ROWS(제안사_투자현황),1)=$E15)*1, (OFFSET(제안사_투자현황,0,10,ROWS(제안사_투자현황),1)<>"회수료")*1 ) ) | AG15: =IF(ISBLANK($E15), "", SUMPRODUCT( (OFFSET(제안사_투자현황,0,24,ROWS(제안사_투자현황),1)=$E15)*1, (OFFSET(제안사_투자현황,0,10,ROWS(제안사_투자현황),1)<>"회수료")*1, OFFSET(제안사_투자현황,0,21,ROWS(제안사_투자현황),1) ) ) | AH15: =IF(ISBLANK($E15), "", SUMPRODUCT( (OFFSET(제안사_투자현황,0,24,ROWS(제안사_투자현황),1)=$E15)*1, (OFFSET(제안사_투자현황,0,10,ROWS(제안사_투자현황),1)<>"회수료")*1, OFFSET(제안사_투자현황,0,22,ROWS(제안사_투자현황),1) ) )
