Workbook
Name KDB출자_요청액: '열제목별 목록값'!$C$19:$C$21
Name 공동투자약정_상대방_유형: '열제목별 목록값'!$C$24:$C$28
Name 구분: '열제목별 목록값'!$C$4:$C$6
Name 납입방식: '열제목별 목록값'!$C$22:$C$23
Name 담당역할: '열제목별 목록값'!$F$55:$F$59
Name 대표이사_구분: '열제목별 목록값'!$C$80:$C$82
Name 대표이사_참여인력_개요: '3.1 대표이사&참여인력 개요'!$E$6:$AH$15
Name 대표이사_참여인력_경력: '3.4 대표이사&참여인력 경력'!$E$11:$Y$21
Name 대표이사_참여인력_투자현황: '3.2 참여인력 투자현황'!$E$6:$BB$273
Name 대표이사참여인력경력: '3.4 대표이사&참여인력 경력'!$E$11:$Y$21
Name 동반투자자유형: '열제목별 목록값'!$C$75:$C$79
Name 민간출자자인센티브: '열제목별 목록값'!$F$87:$F$89
Name 스튜어드십코드참여여부: '열제목별 목록값'!$C$90:$C$91
Name 신청리그: '열제목별 목록값'!$C$7:$C$10
Name 신청분야: '열제목별 목록값'!$C$4:$C$6
Name 업무협력유형: '열제목별 목록값'!$F$68:$F$75
Name 업무협력현황: '5.1 업무협력 현황'!$D$11:$Q$50
Name 여부: '열제목별 목록값'!$C$83:$C$84
Name 예상출자내역: '1.2 예상출자내역'!$E$11:$J$205
Name 운용사_추가_인센티브__선택: '열제목별 목록값'!$C$92:$C$94
Name 운용사유형: '열제목별 목록값'!$C$60:$C$69
Name 운용사인센티브: '열제목별 목록값'!$C$92:$C$94
Name 재직회사_유형: '열제목별 목록값'!$F$66:$F$67
Name 정책출자: '열제목별 목록값'!$C$19:$C$21
Name 제안사_대표이사_변경이력: '2.4 제안사 대표이사 변경이력'!$E$11:$J$15
Name 제안사_투자현황: '2.6 제안사 투자현황'!$E$6:$AG$20
Name 제안사_펀드현황: '2.5 제안사 펀드현황'!$E$6:$CC$14
Name 제안서작성기준일: '1.1 제안펀드'!$E$11
Name 제안펀드의_주목적투자분야와_관련성: '열제목별 목록값'!$F$77:$F$80
Name 주목적_투자제안형: '열제목별 목록값'!$C$7:$C$8
Name 주목적투자분야_투자제안형: '열제목별 목록값'!$C$7:$C$8
Name 주요업무수행내역: '열제목별 목록값'!$F$60:$F$65
Name 참여인력구분: '열제목별 목록값'!$F$4:$F$7
Name 출자자유형: '열제목별 목록값'!$C$49:$C$56
Name 출자자인센티브: '열제목별 목록값'!$F$87:$F$90
Name 출자확정구분: '열제목별 목록값'!$C$57:$C$59
Name 투자계정구분: '열제목별 목록값'!$F$43:$F$47
Name 투자기업_법인유형: '열제목별 목록값'!$F$48:$F$52
Name 투자유형: '열제목별 목록값'!$F$9:$F$20
Name 펀드_거래: '4.1 펀드거래'!$A$2:$D$1989
Name 펀드거래유형: '열제목별 목록값'!$F$37:$F$41
Name 펀드계정구분: '열제목별 목록값'!$F$81:$F$83
Name 펀드구분: '열제목별 목록값'!$F$84:$F$86
Name 펀드법적유형: '열제목별 목록값'!$C$29:$C$46
Name 펀드상태: '열제목별 목록값'!$C$70:$C$74
Name 펀드유형__투자대상확정여부: '열제목별 목록값'!$C$47:$C$48
Name 핵심운용인력_변경구분: '열제목별 목록값'!$C$85:$C$89
Name 핵심운용인력_변경내역: '4.2 핵심운용인력 변경이력'!$A$2:$E$500
Name 핵심운용인력변경구분: '열제목별 목록값'!$C$85:$C$89
Name 회수구분: '열제목별 목록값'!$F$25:$F$27
Name 회수유형: '열제목별 목록값'!$F$28:$F$36

Sheet 열제목별 목록값
A1: Ⅰ. 열제목별 목록값
A3: 구분 | C3: 목록값 | E3: 구분 | F3: 목록값 | H3: 구분 | I3: 목록값
A4: 구분 | C4: 혁신산업(중형) | E4: 참여인력구분 | F4: 대표펀드매니저 | H4: 투자촉진인센티브 구분
C5: 혁신산업(M&A) | F5: 핵심운용인력
F6: 일반운용인력 | H6: 목표결성금액
A7: 주목적투자분야① | C7: 혁신성장공동기준 품목 영위 중소·중견기업 | F7: 관리인력
C8: 혁신성장공동기준 품목 영위 중소·중견기업의 사업재편
E9: 투자유형 | F9: 보통주 | H9: 정책출자금액
F10: 우선주(RCPS포함)
A11: 주목적투자분야② | C11: 新성장 4.0 3대 분야 15대 프로젝트 영위 중소·중견기업 | F11: BW
C12: 해당없음 | F12: CB | H12: 업무협력구분 | I12: 대출
F13: 기타메자닌증권 | I13: 투자
A14: 주목적투자분야③ (선택) | C14: (중형 限) 新성장 4.0 3대 분야 15대 프로젝트 영위 중견기업 | F14: 프로젝트투자(문화·컨텐츠 분야 한정) | I14: 인수금융
C15: 해당없음 | F15: 일반회사채 | I15: 기타
F16: 자펀드출자 | H16: 산업은행 출자사업 | I16: '18년 성장지원펀드
F17: 대출채권 | I17: '19년 성장지원펀드
F18: 대여금 | I18: '20년 성장지원펀드
A19: 정책출자 | C19: 31% 이내 | F19: 펀드청산시자본계정투자 | I19: '20년 소부장펀드
F20: 기타 | I20: '21년 소부장펀드
I21: '21년 뉴딜펀드
A22: 납입방식 | C22: 수시납 | I22: '22년 뉴딜펀드
C23: 분할납 | I23: '23년 혁신성장펀드(혁신산업펀드)
A24: 공동투자약정 상대방 유형 | C24: 제안사 펀드 | I24: '23년 혁신성장펀드(성장지원펀드)
C25: 타운용사 펀드 | E25: 회수구분 | F25: 회수료 | I25: '24년 혁신성장펀드(혁신산업펀드)
C26: 전략적투자자(SI) | F26: 부분회수 | I26: '24년 혁신성장펀드(성장지원펀드)
C27: 재무적투자자(FI) | F27: 미회수
C28: 기타 | E28: 회수유형 | F28: 장외매각
A29: 펀드법적유형 | C29: PE-(가) | F29: 장외매각(M&A)
C30: PE-(나) | F30: 코스닥
C31: PE-(다) | F31: 코스피
C32: PE-(라) | F32: 환매
C33: VC-(가) | F33: 운용사자본계정매각
C34: VC-(나) | F34: 상환
C35: VC-(다) | F35: 현물분배
C36: VC-(라) | F36: 기타
C37: VC-(마) | E37: 펀드거래유형 | F37: 납입
C38: VC-(바) | F38: 현금분배
C39: VC-(사) | F39: 현물분배
C40: 기타-(가) | F40: 성과보수
C41: 기타-(나) | F41: 가상분배
C42: 기타-(다)
C43: 기타-(라) | E43: 투자계정구분 | F43: PE펀드계정투자
C44: 기타-(마) | F44: VC펀드계정투자
C45: 기타-(바) | F45: PE고유계정투자
C46: 기타-(사) | F46: VC고유계정투자
A47: 펀드유형 (투자대상확정여부) | C47: 블라인드펀드 | F47: 기타 투자
C48: 프로젝트펀드 | E48: 투자기업 법인유형 | F48: 국내설립법인
A49: 출자자유형 | C49: 제안사 | F49: 해외출자법인
C50: 계열회사 및 특수관계인 | F50: 외국법인국내지점
C51: 펀드참여인력(핵심운용인력) | F51: 외국법인
C52: 정책기관(정부,지자체,공공기관 등) | F52: 기타(부동산 및 부실채권 자산의 합계액이 자산총액 50% 이상인 법인 등)
C53: 민간출자자
E55: 담당역할 | F55: M&A자문
F56: 투자컨설팅
A57: 출자확정구분 | C57: LOC | F57: 부동산 및 부실채권
C58: 운용사 | F58: LP업무
C59: 미정 | F59: 기타
A60: 운용사유형 | C60: 중소기업창업투자회사 | E60: 주요업무수행내역 | F60: PE펀드운용
C61: 신기술사업금융회사 | F61: VC펀드운용
C62: 자산운용사 | F62: PE고유계정투자
C63: 은행 | F63: VC고유계정투자
C64: 증권사 | F64: 기타투자업무
C65: 중기특화금융투자회사 | F65: 비투자업무
C66: 금융회사계열 PEF 운용사 | E66: 재직회사 유형 | F66: 금융투자기관
C67: 독립 PEF 운용사 | F67: 기타기관
C68: 유한회사형 운용사 | E68: 업무협력유형 | F68: 제안사의 공동투자
C69: 기타 | F69: 제안사의 후속투자
A70: 펀드상태 | C70: 결성예정 | F70: 당행 앞 후속투자 등 소개
C71: 운용예정 | F71: 당행 앞 신규거래(대출 등) 소개
C72: 운용중 | F72: M&A자문 소개
C73: 청산중 | F73: 인수금융 소개
C74: 청산료 | F74: 수탁업무 위탁
A75: 동반투자자유형 | C75: 제안사내 (타)펀드 | F75: 기타
C76: 타운용사 펀드
C77: 제안사 자본계정 | E77: 기업규모 | F77: 중소(벤처)
C78: 타운용사 자본계정 | F78: 중견
C79: 기타 | F79: 대기업
A80: 대표이사 구분 | C80: 대표이사 | F80: 기타
C81: 공동(각자)대표이사 | E81: 펀드계정구분 | F81: PE펀드계정
C82: 사업부문 대표 | F82: VC펀드계정
A83: 여부 | C83: YES | F83: 기타 주식등 투자펀드계정
C84: NO | E84: 펀드구분 | F84: PE펀드
A85: 핵심운용인력 변경구분 | C85: 설립 | F85: VC펀드
C86: 유출 | F86: 기타 주식등 투자펀드
C87: 유입 | E87: 민간출자자 인센티브 | F87: 초과수익 이전
C88: 기타 | F88: 콜옵션
C89: 청산시 또는 제안서기준일 | F89: 선택하지 않음
A90: ESG 투자체계 구축 및 운용 | C90: 도입
C91: 미도입
A92: 운용사 인센티브 | C92: 신속투자 인센티브
C93: (중형 限)주목적투자 인센티브
C94: (중형 限)신속투자, 주목적투자 인센티브
C95: 선택하지 않음

Sheet 작성요령
A1: Ⅰ.작성시 주의사항
A3: [공통사항]
A4: 1. 별첨(1.1~5.2) 자료 작성전에 본 사항을 반드시 숙지할 것 (별첨번호는 Sheet별 머리글에서 확인 가능)
A5: 2. 일자는 yyyy-mm-dd, 주민등록번호 앞 6자리까지만 '111111'로 기재(외국인의 경우 여권상 생년월일 6자리)
A6: 사업자등록번호는 000-00-00000, 법인등록번호는 000000-0000000 형식으로 입력
A7: 3. drop down 목록이 있는 셀은 목록에서 선택하고 다른 값을 입력하지 말 것
A8: 4. 'Alt+Enter'나 연이은 공백은 입력하지 말 것
A9: 5. 연록색으로 음영처리된 셀은 자동 반영되므로 별도의 입력은 하지 말 것
A10: - 산업은행의 사전 허락 없이 수식을 편집한 경우는 허위사실 기재로 간주될 수 있음
A11: 6. 펀드명, 회사명 등은 정식명칭을 기입(sheet간 명칭에 차이가 없도록 유의)
A12: 7. 목록행(1행~10행)은 절대 삭제 및 수정 금지. 또한, Sheet 삭제 및 명칭 변경 금지
A13: 8. 단위 : 백만원([4.1. 펀드거래] Sheet 는 단위를 "원"으로 함), %, 건
... A36: Ⅱ. 용어의 정의 등
A38: 제안서 작성 기준일 | C38: 45657
A39: 설립일 | C39: 제안사 법인등기부등본 상의 설립일
A40: 펀드운용업무시작일 | C40: 제안사가 펀드법적유형 중 하나에 해당하는 자격을 가지고 있는 경우 해당 자격 취득일
C41: 자격이 필요 없는 경우는 조직개편일 등
C42: ※ M&A 또는 회사분할 등이 있었던 경우 변경전의 펀드운용업무시작일을 기재
A43: 운용펀드 최초결성일 (펀드성립일) | C43: 펀드 규약(또는 정관) 상에 제안사가 운용사로 기재된 펀드 중 아래의 '펀드' 기준을 충족하는 펀드로서,
C44: 결성일이 가장 빠른 펀드의 펀드결성일 (최초결성일은 펀드성립일을 기준으로 함)
C45: ※ PE펀드로 지원시 PE 펀드 최초 결성일, VC펀드로 지원시 VC펀드 최초 결성일, 기타 주식등 투자 펀드의 경우 기타 주식등 투자 펀드 최초 결성일 작성
C46: ※ M&A이전 운용 펀드와 회사분할 후 운용한 펀드는 고려하되 회사분할 이전에 청산한 펀드는 제외
C47: ※ 제안사 최초 결성 펀드는 펀드성립일을 확인할 수 있는 자료 (벤처투자조합 : 중기부 조합 등록증, 신기술투자조합 : 결성총회의사록 및 규약, PEF : 법인등기부등본, 기타 펀드 : 상기에 준하는 성립일자 확인가능자료) 제출
A48: 펀드 | C48: ⅰ) 투자자를 사모로 모집한 경우로서 (즉, 사모펀드)
C49: ⅱ) 법적유형이 다음 중 하나에 해당하는 경우에 한하며
C50: ① PE펀드
C51: - "PE-(가)" : [자본시장과금융투자업에관한법률]제9조18항7호('15.7.24자 삭제되기 전의 것을 말함)에 따른 사모투자전문회사
C52: - "PE-(나)" : [자본시장과금융투자업에관한법률]제9조19항1호('21.4.20자 삭제되기 전의 것을 말함)에 따른 경영참여형 사모집합투자기구 ('21.10.21일 이전설립)
C53: - "PE-(다)" : [자본시장과금융투자업에관한법률]제249조의7 5항에 따른 경영참여목적 투자를 하는 제9조19항2호의 일반사모집합투자기구 ('21.10.21일 이후 설립)
C54: - "PE-(라)" : [자본시장과금융투자업에관한법률]제249조의7 5항에 따른 경영참여목적 투자를 하는 제9조19항1호의 기관전용사모집합투자기구 ('21.10.21일 이후 설립)
C55: ② VC펀드
C56: - "VC-(가)" : [벤처투자촉진에관한법률]제2조제11호에 따른 벤처투자조합
C57: - "VC-(나)" : [중소기업창원지원법]제2조제5호('20.2.11자 삭제되기 전의 것을 말함)에 따른 중소기업창업투자조합
C58: - "VC-(다)" : [벤처기업육성에관한특별조치법]제4조의3('20.2.11자 삭제되기 전의 것을 말함)에 따른 한국벤처투자조합
C59: - "VC-(라)" : [소재·부품·장비산업경쟁력강화및공급망안정화를위한특별조치법]제18조에 따른 소재·부품·장비 전문투자조합
C60: - "VC-(마)" : [여신전문금융업법]제2조제14의5호에 따른 신기술사업투자조합
... C73: 트레이딩 등 단기투자 펀드, 펀드 결성부터 해산까지의 기간이 1년 이내인 펀드는 제외함
A74: 펀드운용 | C74: 의사결정, 투자대상 발굴, 투자검토 및 투자실행, 사후관리, 회수 업무
A75: 펀드결성(예정)일 | C75: 관련 법령에 따라 감독기관에 등록한 날 또는 그 예정일
C76: 등록이 필요없는 경우 결성총회일, 창립총회일 또는 계약체결일
A77: 투자기간종료(예정)일 | C77: 펀드 투자규약(또는 정관) 상에 기재된 투자기간 종료(예정)일
C78: 프로젝트 펀드 등 펀드 투자규약(또는 정관) 상에 투자기간이 정해지지 않은 경우에는 제안사가 펀드운용
C79: 목적 달성을 위해 판단하고 있는 투자기간의 종료(예정)일
A80: 펀드해산(예정)일 | C80: 출자자총회에서 의결된 해산일. 또는 투자규약(또는 정관) 상의 해산 예정일
A81: 펀드 유형 | B81: 블라인드펀드 | C81: 투자대상이 확정되지 않은 펀드
B82: 프로젝트펀드 | C82: 투자대상이 확정되어 있는 펀드
A83: 펀드 상태 | B83: 결성예정 | C83: 제3자로부터 Contest 방식에 의해 펀드운용사로 선정되어 출자자를 모집하고 있는 경우
B84: 운용예정 | C84: 출자자 구성을 완료하고 투자규약(또는 정관)은 체결되었으나 납입출자금이 없는 경우
B85: 운용중 | C85: 펀드결성일의 기준에 따라 펀드를 결성한 경우로서 납입출자금 있는 경우
B86: 청산중 | C86: 해산 후 청산절차를 진행중인 경우
B87: 청산료 | C87: 청산 절차를 완료한 경우
A88: 투자 기업 법인 유형 | B88: 국내설립법인 | C88: 본점 소재지가 국내인 법인 및 국내에 법인 등기한 외국법인의 국내 지사
B89: 해외출자법인 | C89: 국내설립법인의 사업과 관련하여 동 국내설립법인이 출자한 외국법인
C90: ※ 펀드 또는 운용인력이 국내설립법인과 공동 투자하여 해외출자법인이 된 경우 포함
B91: 외국법인 국내지점 | C91: 외국환거래규정에 따라 국내에 지점 신고와 영업소를 등기를 완료한 외국법인의 국내 영업소
B92: 외국법인 | C92: 본점 소재지가 국외인 법인으로서 해외출자법인 및 외국법인 국내지점을 제외한 법인
B93: 기타 | C93: 법인이 아닌 경우
A94: 펀드 순자산 | C94: 운용 중 또는 청산 중 펀드에 대해 다음 식으로 계산된 금액
C95: [(미회수투자자산 가치총액) + (예금 등 투자자산 이외 자산총액) - (미지급 등 부채총액)]
A96: 펀드추가투자 예상금액 | C96: ⅰ) 제안서 작성 기준일이 펀드의 투자기간종료(예정)일 이전인 경우로서
C97: ⅱ) 펀드 투자규약(또는 정관)상의 투자의무비율 준수 또는 펀드운용목적 달성을 위해
C98: ⅲ) 해당 펀드를 통해 추가로 투자할 계획인 금액
A99: 참여 인력 | B99: 대표펀드 매니저 | C99: 해당 펀드를 대표하는 인력(1인 이상)
B100: 핵심운용인력 | C100: ⅰ) 제안서작성기준일 현재 제안사에 재직중이면서
C101: ⅱ) 금번 제안펀드를 책임지고 전담하여 운용할 인력으로서
C102: ⅲ) 제안펀드의 규약(또는 정관)에 기재될 예정인 인력
C103: ※ 산업은행이 공고 등을 통해 핵심운용인력 전체에 대해 겸임금지 조항 적용을 요구할 경우 그에 따름
C104: ⅳ) 제안사는 선정 심사시 主 평가대상이 되는 핵심운용인력 3인(대표펀드매니저 1인, 핵심운용인력 2인)을
C105: 선택하여야 함
C106: (공동 운용 제안 시 운용사별 핵심운용인력 2인(대표펀드매니저 1인, 핵심운용인력 1인) 선택)
B107: 일반운용인력 | C107: ⅰ) 제안서 작성 기준일 현재 제안사에 재직중이면서
C108: ⅱ) 핵심운용인력과 관리인력이 아닌 자로서
C109: ⅲ) 산업은행 앞 제안하는 펀드에서 투자대상기업 발굴, 투자검토, 투자실행, 사후관리, 회수 등
C110: 펀드운용 실무를 담당할 인력
B111: 관리인력 | C111: ⅰ) 제안서 작성 기준일 현재 제안사에 재직중이면서
C112: ⅱ) 제안펀드의 운용에는 참여하지 않으나 제안펀드를 관리(회계관리, 리스크관리 등)하는 인력
B113: ※ 참여인력별 경력요건 및 인력수는 산업은행이 공고등을 통해 별도로 지정한 경우 그에 따르며, 참여인력은
B114: 제안서작성기준일 현재 제안사에 재직중인 것이 원칙이나 접수일 현재 재직자에 한해서도 인정. 대표펀드매니저 또는 핵심운용인력이 아닌 대표이사의 경우, 관리인력으로 선택
A115: 펀드 거래 유형 | B115: 납입 | C115: 출자자가 납입한 출자금
B116: 현금분배 | C116: 펀드 운용중 또는 청산시 출자자에게 현금으로 분배한 경우 그 금액
C117: (원천징수 후 금액을 분배한 경우 원천징수 후 금액)
B118: 현물분배 | C118: 펀드 청산시 출자자에게 현물로 분배한 경우 그 가치 ※ 현장실사시 가치를 증빙할 평가보고서 및 총회 안건 구비 요망
B119: 성과보수 | C119: 펀드 운용중 또는 청산시 운용사에게 지급한 성과보수
B120: 가상분배 | C120: 운용중 또는 청산중인 펀드의 수익률 산출을 위한 가상의 거래로 펀드 순자산을 출자자 앞 분배하는 것으로
C121: 가정한 금액
A122: 기재대상핵심인력 | C122: 규약(또는 정관) 등에 기재되어 있는 인력
C123: ※ 펀드 규약(또는 정관) 상 대표펀드매니저, 핵심운용인력, 운용전문인력 등 용어를 불문하고,
C124: 본 작성요령에서 정의하는 "핵심운용인력"에 준하는 인력
C125: ※ [2.5 제안사 펀드현황] · [4.2 핵심운용인력 변경이력] 작성관련 정의
A127: ※ 핵심운용인력 자격요건
A128: - 대표펀드매니저 : 투자경력주1) 5년 이상 또는 주목적 투자대상 관련 산업경력주2) 10년 이상의 경력을 가진 자
A129: - 핵심운용인력 : 투자경력주1) 3년 이상 또는 주목적 투자대상 관련 산업경력주2) 6년 이상의 경력을 가진 자
A130: (단, 투자경력과 산업경력의 합산 산정은 불가) 예) 투자경력 2년에 산업경력 4년 있는 경우라도 합산할 수 없음
A132: 주1) 투자경력 : 자산에 대한 투자 또는 자산운용을 목적으로 설립된 법인(금융투자기관) 재직 중에 ①PE 및 VC 펀드 계정을
A133: 통한 투자업무, ②PE 및 VC 고유계정을 통한 투자업무, ③기타 투자업무와 관련하여 투자대상 발굴 ∙ 투자검토 ∙ 사후관리 ∙
A134: 회수 등의 실무 수행 또는 의사결정 과정에 참여한 경력
A135: ① PE펀드 : [자본시장과금융투자업에관한법률]제9조18항7호('15.7.24자 삭제되기 전의 것을 말함)에 따른 사모투자전문회사, [자본시장과금융투자업에관한법률]제9조19항1호에 따른 경영참여형 사모집합투자기구('21.10.21일 이전설립), [자본시장과금융투자업에관한법률]제249조의7 5항에 따른 경영참여목적 투자를 하는 제9조19항에 따른 일반사모집합투자기구 ('21.10.21일 이후 설립) [자본시장과금융투자업에관한법률]제249조의7 5항에 따른 경영참여목적 투자를 하는 제9조19항에 따른 기관전용사모집합투자기구 ('21.10.21일 이후 설립)
A136: VC펀드 : [벤처투자촉진에관한법]제2조제11호에 따른 벤처투자조합, [중소기업창원지원법]제2조제5호에 따른 중소기업창업투자조합, [벤처기업육성에관한특별조치법]제4조의3에 따른 한국벤처투자조합, [소재·부품·장비산업경쟁력강화를위한특별조치법]제18조에 따른 소재·부품·장비 전문투자조합 [여신전문금융업법]제41조제3항에 따른 신기술사업투자조합, [농림수산식품투자조합결성및운용에관한법률]제8조1항1호 및 동법률제8조1항6호에 따른 조합(이하 농식품투자조합), [자본시장과금융투자업에관한법률]제249조의23 1항에 따른 창업·벤처전문 (경영참여형) 사모집합투자기구
A137: ② PE 및 VC 고유계정 투자 : PE 또는 VC 투자 전담부서에서 주식 또는 주식연계채권(문화∙ 컨텐츠 등에 대한 프로젝트 투자
A138: 포함)을 통한 해당 법인의 고유재산 투자
...

Sheet Self-Check
A1: SELF-CHECK LIST
A2: 항목 | B2: 결과 | C2: 비고
A3: Sheet 1.1 제안펀드
A4: 1. '제안서작성기준일'을 임의로 기입 여부 (작성요령 중 Ⅱ. 용어의 정의 등' 참조) | B4: =IF(제안서작성기준일=제안서작성기준일,"OK","확인 필요") -> OK | C4: 자동체크
A5: Sheet 1.2 예상출자내역
A6: 1. G열 출자확정시 - "제안사", "계열회사 및 특수관계인", "펀드참여인력"은 "운용사" 선택 - "정책기관", "민간출자자"는 "LOC" 선택 2. G열 출자확정여부 : LOC 기입 적정성 확인 * 구속력 있는 출자약정 등이 아님에도 불구 LOC로 기재하지는 않았는지 | B6: 확인필요 | C6: 수기입력
A7: Sheet 2.6 제안사 투자현황
A8: 1.투자금액(N열) = 회수투자자산 투자원금(T열) + 감액금액(X열) + 미회수투자자산 투자원금(Z열) | B8: =IF((SUM('2.6 제안사 투자현황'!N:N)=SUM('2.6 제안사 투자현황'!T:T)+SUM('2.6 제안사 투자현황'!X:X)+SUM('2.6 제안사 투자현황'!Z:Z)),"OK","확인필요") -> OK | C8: 자동체크
A9: 2. 회수총액(S열) : "회수료" 및 "부분회수" 투자건에 대해 실제 펀드계정에서 회수한 총 금액 기재 (미회수 투자건*은 0원 기재) * 원금회수가 없는 회수(보통주 배당금 수령, 메자닌 투자 이자 등만 수취한 경우) → "미회수"로 기입 | B9: 확인필요 | C9: 수기입력
A10: 3. 미회수 투자자산 가치(AA)열의 적정한 기재 - 시장성 자산(상장기업, IPO, 시가평가대상 회사채 등) → 시가(작성기준일 종가, 공모예정가, 채권시가 등) - 비사장성 자산 : 최근 년도 감사보고서(또는 가결산보고서) 상 금액 | B10: 확인필요 | C10: 수기입력
A11: 4. 감액사실이 있는 경우, "회수료" 선택 후 관련 내용을 입력하였는지 | B11: =IF((COUNTIFS('2.6 제안사 투자현황'!W:W,"YES",'2.6 제안사 투자현황'!O:O,"회수료")= COUNTIF('2.6 제안사 투자현황'!W:W,"YES")),"OK","확인필요") -> OK | C11: 자동체크
A12: Sheet 3.1 대표이사&참여인력 개요
A13: 1. 대표펀드매니저 지정 여부(Q열) | B13: =IF(AND(COUNTIF('3.1 대표이사&참여인력 개요'!Q:Q,"대표펀드매니저")=1),"OK","확인필요") -> OK | C13: 자동체크
A14: 2. 주요 평가대상 지정 여부(R열) - Q열에서 지정한 대펀,핵운과 별개로 실제 평가대상 인원을 반드시 지정 - 대표펀드매니저 1인, 핵심운용인력 2인 (Co-GP인 경우 대표펀드매니저 1인, 핵심운용인력 1인) * 평가대상 인원은 정확히 기준과 정확히 일치시킬 것 (예 : 대펀 1인, 핵운 3인 → 불가) | B14: 확인필요 | C14: 수기입력
A15: Sheet 3.2 참여인력 투자현황
A16: 1.동일 투자건에 다수의 인력을 기재하지는 않았는지 (기여도 높은 1인만 기재 필요) | B16: 확인필요 | C16: 수기입력
A17: 2. 작성대상에 해당하는 투자건만 입력하였는지 ⅰ) 자산에 대한 투자 또는 자산운용을 목적으로 설립된 법인(금융투자기관에 한정) 재직 중에 ⅱ) 투자실행일이 2015년 1월 1일 이후인 아래의 조건을 만족하는 투자만 작성 ① PE/VC 펀드계정 투자 : 해당 법인의 PE/VC펀드계정을 통해 주식 또는 주식연계채권(문화·컨텐츠등에 대한 프로젝트 투자 포함) 투자 ② PE/VC 고유계정 투자 : 해당 법인의 PE/VC 투자 전담부서에서 고유계정을 통해 주식 또는 주식연계채권(문화·컨텐츠등에 대한 프로젝트 투자포함) 투자 ③ 기타 투자 : ①, ②에 해당하지 않는 주식 또는 주식연계채권(문화·컨텐츠등에 대한 프로젝트 투자 포함) 투자 | B17: 확인필요 | C17: 수기입력
A18: 3.투자금액(T열) = 회수투자자산 투자원금(AA열) + 감액금액(AE열) + 미회수투자자산 투자원금(AG열) | B18: =IF((SUM('3.2 참여인력 투자현황'!T:T)=SUM('3.2 참여인력 투자현황'!AA:AA)+SUM('3.2 참여인력 투자현황'!AE:AE)+SUM('3.2 참여인력 투자현황'!AG:AG)),"OK","확인필요") -> OK | C18: 자동체크
A19: 4. 회수총액(S열) : "회수료" 및 "부분회수" 투자건에 대해 실제 펀드계정에서 회수한 총 금액 기재 (미회수 투자건*은 0원 기재) * 원금회수가 없는 회수(보통주 배당금 수령, 메자닌 투자 이자 등만 수취한 경우) → "미회수"로 기입 | B19: 확인필요 | C19: 수기입력
A20: 5. 미회수 투자자산 가치(AA)열의 적정한 기재 - 시장성 자산(상장기업, IPO, 시가평가대상 회사채 등) → 시가(작성기준일 종가, 공모예정가, 채권시가 등) - 비사장성 자산 : 최근 년도 감사보고서(또는 가결산보고서) 상 금액 | B20: 확인필요 | C20: 수기입력
A21: 6. 감액사실이 있는 경우, "회수료" 선택 후 관련 내용을 입력하였는지 | B21: =IF((COUNTIFS('3.2 참여인력 투자현황'!AD:AD,"YES",'3.2 참여인력 투자현황'!V:V,"회수료")= COUNTIF('3.2 참여인력 투자현황'!AD:AD,"YES")),"OK","확인필요") -> OK | C21: 자동체크
A22: Sheet 3.4 대표이사&참여인력 경력
A23: 1. "3.4 참여인력 경력" 상 담당기간이 경력관련 증빙서류와 일치하는지 확인 | B23: 확인필요 | C23: 수기입력
A24: 2. 투자업무 수행내역 YES 선택했으나 주요업무 수행내역에는 비투자업무 선택 여부 | B24: =IF(COUNTIFS('3.4 대표이사&참여인력 경력'!S:S,"YES",'3.4 대표이사&참여인력 경력'!T:T,"비투자업무")=1,"확인필요","OK") -> OK | C24: 자동체크
A25: 3. 주요업무 수행내역을 기준에 맞게 입력하였는지 ※ '주요업무 수행내역'는 아래의 기준에 따라 선택 ① PE/VC펀드운용 : PE/VC 펀드계정을 통한 투자업무 ② PE/VC고유계정투자 : PE/VC 고유계정을 통한 투자업무 ③ 기타투자업무 : M&A자문, 투자컨설팅, 부동산·부실채권, LP업무 등 기타 투자업무와 관련하여 투자대상 발굴·투자검토·사후관리·회수 등의 실무 수행 또는 의사결정 과정에 참여한 업무 (대출, 외환 등 투자와 무관한 업무 제외) ④ 비투자업무 : 자산에 대한 투자 또는 자산운용을 목적으로 설립된 법인(금융투자기관) 외 업무 | B25: 확인필요 | C25: 수기입력
A26: Sheet 4.1 펀드거래
A27: 1. 운용중/청산중 펀드의 수익률 계산을 위해 "가상분배" 항목을 입력하였는지 - [2.5제안사 펀드현황 시트] 상의 [펀드 순자산]금액 X 1,000,000(원단위) | B27: 확인필요 | C27: 수기입력

Sheet 1.1 제안펀드
E4: 제안서 작성 기준일 | F4: 제안펀드 | R4: 보수 | U4: 인센티브 | V4: 제안사 | AB4: 제안펀드 담당자 | AE4: (단위: 백만원)
F5: 펀드명 | G5: 투자기구 | H5: 구분 | I5: 주목적투자분야① | J5: 주목적투자분야② | K5: 주목적투자분야③ (선택) | L5: 목표결성금액 | M5: 정책출자비율 | N5: 존속기간 | O5: 투자기간 | P5: 납입방식 | Q5: 목표 수익율 (IRR) | R5: 기준 수익률 | S5: 성과보수 제안 | T5: 관리보수제안 | U5: 운용사 인센티브 (선택) | V5: 회사명 | W5: 법인등록번호 | X5: 출자약정예상액 | Y5: 우선 손실 충당 조건 | Z5: 참여 핵심 운용 인력수 | AA5: 참여 일반 운용 인력수 | AB5: 성명 | AC5: 소속 | AD5: 연락처
E11: 45657 | F11: 혁신성장사모투자합자회사1호 | G11: PE-(라) | H11: 혁신산업(중형) | I11: 혁신성장공동기준 품목 영위 중소·중견기업 | J11: 新성장 4.0 3대 분야 15대 프로젝트 영위 중소·중견기업 | K11: (중형 限) 新성장 4.0 3대 분야 15대 프로젝트 영위 중견기업 | L11: 200000 | M11: 31% 이내 | N11: 10 | O11: 5 | P11: 수시납 | Q11: 0.2 | R11: 0.07 | U11: 신속투자 인센티브 | W11: 000000-0000000 | X11: 10000 | Y11: 최소결성금액 or 약정총액의 o.oo% (최소 000백만원, 최대 000백만원) | Z11: 3 | AA11: 3 | AB11: 홍길동 | AC11: 가인베스트먼트 | AD11: 070-2222-2222
L12: * 공고문상 목표결성금액

Sheet 1.2 예상출자내역
E4: 출자자유형 | F4: 출자자명 | G4: 출자확정구분 | H4: 출자약정예상액 | I4: 기타 제안조건(우선손실충당 등) | J4: 비고
I7: 비고
E11: 정책출자자 | F11: 한국산업은행 등 | G11: 정책출자 | H11: ='1.1 제안펀드'!L11*0.31 -> 62000 | J11: 요청금액
E12: 제안사 | F12: 가인베스트먼트 | G12: 운용사 | H12: 20000 | I12: 목표결성금액의 o.oo% (최소 000백만원, 최대 000백만원) or 정액 000백만원
E13: 계열회사 및 특수관계인 | F13: 홍길동 | G13: 운용사 | H13: 20000 | I13: 목표결성금액의 o.oo% (최소 000백만원, 최대 000백만원) or 정액 000백만원 | J13: 최대주주 본인

Sheet 2.1 제안사 개요
E4: 기본정보 | L4: 업력 | P4: 주소 | S4: 인원 | V4: 제안사 내규 현황 | AB4: 담당자 | AI4: 청산완료 펀드 | AR4: 운용(결성)예정/운용중/청산중 펀드 | BA4: PE펀드계정 투자 | BI4: VC펀드계정 투자 | BQ4: 기타 주식등 투자펀드 계정
E5: 제안사명 | F5: 법인 등록번호 | G5: 사업자 등록번호 | H5: 대표자명 | I5: 제안사유형 | J5: 총발행주식수 | K5: ESG 투자체계 구축 및 운용여부 | L5: 설립일 | M5: 펀드운용 업무 시작일 | N5: 운용펀드 최초결성일 (지원 펀드) | O5: 운용펀드 최초결성일 (지원 펀드 外) | P5: 우편번호 | Q5: 주소 | R5: 주소상세 | S5: 전체 인원수 | T5: 펀드운용 담당 인력수 | U5: 자본계정 투자 담당인력수 | V5: 리스크관리 기준 보유 유무 | W5: 리스크관리전담조직 유무 | X5: 내부통제 기준 보유 유무 | Y5: 내부통제 전담조식 유무 | Z5: 운용인력앞성과보수 지급규정 보유 유무 | AA5: 규정상 성과보수 최대지급 비율 | AB5: 성명 | AC5: 부서 | AD5: 직위 | AE5: 전화 | AF5: 팩스 | AG5: 휴대전화 번호 | AH5: Email | AI5: 펀드수 | AJ5: 약정총액 | AK5: 납입총액 | AL5: 투자총액 | AM5: 회수총액 | AN5: 출자자앞 분배총액 | AO5: 성과보수 지급총액 | AP5: 납입총액 가중평균 펀드 수익률 (IRR) | AQ5: 펀드 수익율 (Multiple) | AR5: 펀드수 | AS5: 약정총액 | AT5: 납입총액 | AU5: 투자총액 | AV5: 회수총액 | AW5: 출자자앞 분배총액 | AX5: 성과보수 지급총액 | AY5: 펀드 순자산 | AZ5: 추가투자 예상금액 | BA5: 투자건수 | BB5: 투자건수 (회수료) | BC5: 투자총액 | BD5: 회수총액 | BE5: 미회수 투자자산 투자원금 총액 | BF5: 미회수 투자자산 가치총액 | BG5: 투자금액 가중평균 수익율 | BH5: 투자금액 가중평균 수익율 (회수료) | BI5: 투자건수 | BJ5: 투자건수 (회수료) | BK5: 투자총액 | BL5: 회수총액 | BM5: 미회수 투자자산 투자원금 총액 | BN5: 미회수 투자자산 가치총액 | BO5: 투자금액 가중수익율 | BP5: 투자금액 가중평균 수익율 (회수료) | BQ5: 투자건수 | BR5: 투자건수 (회수료) | BS5: 투자총액 | BT5: 회수총액 | BU5: 미회수 투자자산 투자원금 총액 | BV5: 미회수 투자자산 가치총액 | BW5: 투자금액 가중수익율 | BX5: 투자금액 가중평균 수익율 (회수료)
E11: 가인베스트먼트 | F11: 000000-0000000 | G11: 000-00-00000 | H11: 홍길동 | I11: 독립 PEF 운용사 | J11: 555555 | K11: 도입 | L11: 36892 | M11: 40178 | N11: 40207 | O11: 40266 | P11: 12345 | Q11: 서울 영등포구 여의도동 | R11: 16-3 한국산업은행본점 | S11: 2000 | T11: 8 | U11: 5 | V11: YES | W11: YES | X11: YES | Y11: YES | Z11: YES | AA11: 0.3 | AB11: 홍길동 | AC11: 관리부 | AD11: 부장 | AE11: 000-0000-0000 | AF11: 000-0000-0000 | AG11: 000-0000-0000 | AI11: =SUMPRODUCT( (OFFSET(제안사_펀드현황,0,3,ROWS(제안사_펀드현황),1)="청산료")*1 ) -> 2 | AJ11: =SUMPRODUCT( (OFFSET(제안사_펀드현황,0,3,ROWS(제안사_펀드현황),1)="청산료")*1, OFFSET(제안사_펀드현황,0,10,ROWS(제안사_펀드현황),1) ) -> 6000 | AK11: =SUMPRODUCT( (OFFSET(제안사_펀드현황,0,3,ROWS(제안사_펀드현황),1)="청산료")*1, OFFSET(제안사_펀드현황,0,11,ROWS(제안사_펀드현황),1) ) -> 6000 | AL11: =SUMPRODUCT( (OFFSET(제안사_펀드현황,0,3,ROWS(제안사_펀드현황),1)="청산료")*1, OFFSET(제안사_펀드현황,0,22,ROWS(제안사_펀드현황),1) ) -> 0 | AM11: =SUMPRODUCT( (OFFSET(제안사_펀드현황,0,3,ROWS(제안사_펀드현황),1)="청산료")*1, OFFSET(제안사_펀드현황,0,23,ROWS(제안사_펀드현황),1) ) -> 0 | AN11: =SUMPRODUCT( (OFFSET(제안사_펀드현황,0,3,ROWS(제안사_펀드현황),1)="청산료")*1, OFFSET(제안사_펀드현황,0,26,ROWS(제안사_펀드현황),1) ) -> 21600 | AO11: =SUMPRODUCT( (OFFSET(제안사_펀드현황,0,3,ROWS(제안사_펀드현황),1)="청산료")*1, OFFSET(제안사_펀드현황,0,27,ROWS(제안사_펀드현황),1) ) -> 0 | AP11: =SUMPRODUCT( (OFFSET(제안사_펀드현황,0,3,ROWS(제안사_펀드현황),1)="청산료")*1, OFFSET(제안사_펀드현황,0,11,ROWS(제안사_펀드현황),1), OFFSET(제안사_펀드현황,0,19,ROWS(제안사_펀드현황),1) )/AK11 -> 0.28583842 | AQ11: =(AN11+AO11)/AK11 -> 3.6 | AR11: {=SUMPRODUCT( (OFFSET(제안사_펀드현황,0,3,ROWS(제안사_펀드현황),1)<>"청산료")*1, (OFFSET(제안사_펀드현황,0,3,ROWS(제안사_펀드현황),1)<>"")*1 )} -> 2 | AS11: =SUMPRODUCT( (OFFSET(제안사_펀드현황,0,3,ROWS(제안사_펀드현황),1)<>"청산료")*1, (OFFSET(제안사_펀드현황,0,3,ROWS(제안사_펀드현황),1)<>"")*1, OFFSET(제안사_펀드현황,0,10,ROWS(제안사_펀드현황),1) ) -> 6000 | AT11: =SUMPRODUCT( (OFFSET(제안사_펀드현황,0,3,ROWS(제안사_펀드현황),1)<>"청산료")*1, (OFFSET(제안사_펀드현황,0,3,ROWS(제안사_펀드현황),1)<>"")*1, OFFSET(제안사_펀드현황,0,11,ROWS(제안사_펀드현황),1) ) -> 5500 | AU11: =SUMPRODUCT( (OFFSET(제안사_펀드현황,0,3,ROWS(제안사_펀드현황),1)<>"청산료")*1, (OFFSET(제안사_펀드현황,0,3,ROWS(제안사_펀드현황),1)<>"")*1, OFFSET(제안사_펀드현황,0,22,ROWS(제안사_펀드현황),1) ) -> 30000 | AV11: =SUMPRODUCT( (OFFSET(제안사_펀드현황,0,3,ROWS(제안사_펀드현황),1)<>"청산료")*1, (OFFSET(제안사_펀드현황,0,3,ROWS(제안사_펀드현황),1)<>"")*1, OFFSET(제안사_펀드현황,0,23,ROWS(제안사_펀드현황),1) ) -> 31700 | AW11: =SUMPRODUCT( (OFFSET(제안사_펀드현황,0,3,ROWS(제안사_펀드현황),1)<>"청산료")*1, (OFFSET(제안사_펀드현황,0,3,ROWS(제안사_펀드현황),1)<>"")*1, OFFSET(제안사_펀드현황,0,26,ROWS(제안사_펀드현황),1) ) -> 21290 | AX11: =SUMPRODUCT( (OFFSET(제안사_펀드현황,0,3,ROWS(제안사_펀드현황),1)<>"청산료")*1, (OFFSET(제안사_펀드현황,0,3,ROWS(제안사_펀드현황),1)<>"")*1, OFFSET(제안사_펀드현황,0,27,ROWS(제안사_펀드현황),1) ) -> 0 | AY11: =SUMPRODUCT( (OFFSET(제안사_펀드현황,0,3,ROWS(제안사_펀드현황),1)<>"청산료")*1, (OFFSET(제안사_펀드현황,0,3,ROWS(제안사_펀드현황),1)<>"")*1, OFFSET(제안사_펀드현황,0,33,ROWS(제안사_펀드현황),1) ) -> 3500 | AZ11: =SUMPRODUCT( (OFFSET(제안사_펀드현황,0,2,ROWS(제안사_펀드현황),1)<>"청산료")*1, (OFFSET(제안사_펀드현황,0,2,ROWS(제안사_펀드현황),1)<>"")*1, OFFSET(제안사_펀드현황,0,34,ROWS(제안사_펀드현황),1) ) -> 0 | BA11: =SUMPRODUCT( (OFFSET(제안사_투자현황,0,0,ROWS(제안사_투자현황),1)="PE펀드계정")*1 ) -> 8 | BB11: =SUMPRODUCT( (OFFSET(제안사_투자현황,0,0,ROWS(제안사_투자현황),1)="PE펀드계정")*1, (OFFSET(제안사_투자현황,0,10,ROWS(제안사_투자현황),1)="회수료")*1 ) -> 6 | BC11: =SUMPRODUCT( (OFFSET(제안사_투자현황,0,0,ROWS(제안사_투자현황),1)="PE펀드계정")*1, OFFSET(제안사_투자현황,0,9,ROWS(제안사_투자현황),1) ) -> 25000 | BD11: =SUMPRODUCT( (OFFSET(제안사_투자현황,0,0,ROWS(제안사_투자현황),1)="PE펀드계정")*1, OFFSET(제안사_투자현황,0,14,ROWS(제안사_투자현황),1) ) -> 25700 | BE11: =SUMPRODUCT( (OFFSET(제안사_투자현황,0,0,ROWS(제안사_투자현황),1)="PE펀드계정")*1, OFFSET(제안사_투자현황,0,21,ROWS(제안사_투자현황),1) ) -> 5000 | BF11: =SUMPRODUCT( (OFFSET(제안사_투자현황,0,0,ROWS(제안사_투자현황),1)="PE펀드계정")*1, OFFSET(제안사_투자현황,0,22,ROWS(제안사_투자현황),1) ) -> 3500 | BG11: =IF(BC11=0,"N/A", SUMPRODUCT( (OFFSET(제안사_투자현황,0,0,ROWS(제안사_투자현황),1)="PE펀드계정")*1, OFFSET(제안사_투자현황,0,9,ROWS(제안사_투자현황),1), OFFSET(제안사_투자현황,0,11,ROWS(제안사_투자현황),1) ) / BC11) -> 0.0436 | BH11: =IF( SUMPRODUCT( (OFFSET(제안사_투자현황,0,0,ROWS(제안사_투자현황),1)="PE펀드계정")*1, OFFSET(제안사_투자현황,0,9,ROWS(제안사_투자현황),1), (OFFSET(제안사_투자현황,0,10,ROWS(제안사_투자현황),1)="회수료")*1) = 0, "N/A", SUMPRODUCT( (OFFSET(제안사_투자현황,0,0,ROWS(제안사_투자현황),1)="PE펀드계정")*1, OFFSET(제안사_투자현황,0,9,ROWS(제안사_투자현황),1), (OFFSET(제안사_투자현황,0,10,ROWS(제안사_투자현황),1)="회수료")*1, OFFSET(제안사_투자현황,0,11,ROWS(제안사_투자현황),1) ) / SUMPRODUCT( (OFFSET(제안사_투자현황,0,0,ROWS(제안사_투자현황),1)="PE펀드계정")*1, OFFSET(제안사_투자현황,0,9,ROWS(제안사_투자현황),1), (OFFSET(제안사_투자현황,0,10,ROWS(제안사_투자현황),1)="회수료")*1) ) -> 0.0245 | BI11: =SUMPRODUCT( (OFFSET(제안사_투자현황,0,0,ROWS(제안사_투자현황),1)="VC펀드계정")*1 ) -> 2 | BJ11: =SUMPRODUCT( (OFFSET(제안사_투자현황,0,0,ROWS(제안사_투자현황),1)="VC펀드계정")*1, (OFFSET(제안사_투자현황,0,10,ROWS(제안사_투자현황),1)="회수료")*1 ) -> 1 | BK11: =SUMPRODUCT( (OFFSET(제안사_투자현황,0,0,ROWS(제안사_투자현황),1)="VC펀드계정")*1, OFFSET(제안사_투자현황,0,9,ROWS(제안사_투자현황),1) ) -> 5000 | BL11: =SUMPRODUCT( (OFFSET(제안사_투자현황,0,0,ROWS(제안사_투자현황),1)="VC펀드계정")*1, OFFSET(제안사_투자현황,0,14,ROWS(제안사_투자현황),1) ) -> 6000 | BM11: =SUMPRODUCT( (OFFSET(제안사_투자현황,0,0,ROWS(제안사_투자현황),1)="VC펀드계정")*1, OFFSET(제안사_투자현황,0,21,ROWS(제안사_투자현황),1) ) -> 0 | BN11: =SUMPRODUCT( (OFFSET(제안사_투자현황,0,0,ROWS(제안사_투자현황),1)="VC펀드계정")*1, OFFSET(제안사_투자현황,0,22,ROWS(제안사_투자현황),1) ) -> 0 | BO11: =IF(BK11=0,"N/A", SUMPRODUCT( (OFFSET(제안사_투자현황,0,0,ROWS(제안사_투자현황),1)="VC펀드계정")*1, OFFSET(제안사_투자현황,0,9,ROWS(제안사_투자현황),1), OFFSET(제안사_투자현황,0,11,ROWS(제안사_투자현황),1) ) / BK11) -> 0.024 | BP11: {=IF( SUMPRODUCT( (OFFSET(제안사_투자현황,0,0,ROWS(제안사_투자현황),1)="VC펀드계정")*1, OFFSET(제안사_투자현황,0,9,ROWS(제안사_투자현황),1), (OFFSET(제안사_투자현황,0,10,ROWS(제안사_투자현황),1)="회수료")*1) = 0, "N/A", SUMPRODUCT( (OFFSET(제안사_투자현황,0,0,ROWS(제안사_투자현황),1)="VC펀드계정")*1, OFFSET(제안사_투자현황,0,9,ROWS(제안사_투자현황),1), (OFFSET(제안사_투자현황,0,10,ROWS(제안사_투자현황),1)="회수료")*1, OFFSET(제안사_투자현황,0,11,ROWS(제안사_투자현황),1) ) / SUMPRODUCT( (OFFSET(제안사_투자현황,0,0,ROWS(제안사_투자현황),1)="VC펀드계정")*1, OFFSET(제안사_투자현황,0,9,ROWS(제안사_투자현황),1), (OFFSET(제안사_투자현황,0,10,ROWS(제안사_투자현황),1)="회수료")*1) )} -> 0.03 | BQ11: =SUMPRODUCT( (OFFSET(제안사_투자현황,0,0,ROWS(제안사_투자현황),1)="기타 주식등 투자펀드계정")*1 ) -> 0 | BR11: =SUMPRODUCT( (OFFSET(제안사_투자현황,0,0,ROWS(제안사_투자현황),1)="기타 주식등 투자펀드계정")*1, (OFFSET(제안사_투자현황,0,10,ROWS(제안사_투자현황),1)="회수료")*1 ) -> 0 | BS11: =SUMPRODUCT( (OFFSET(제안사_투자현황,0,0,ROWS(제안사_투자현황),1)="기타 주식등 투자펀드계정")*1, OFFSET(제안사_투자현황,0,9,ROWS(제안사_투자현황),1) ) -> 0 | BT11: =SUMPRODUCT( (OFFSET(제안사_투자현황,0,0,ROWS(제안사_투자현황),1)="기타 주식등 투자펀드계정")*1, OFFSET(제안사_투자현황,0,14,ROWS(제안사_투자현황),1) ) -> 0 | BU11: =SUMPRODUCT( (OFFSET(제안사_투자현황,0,0,ROWS(제안사_투자현황),1)="기타 주식등 투자펀드계정")*1, OFFSET(제안사_투자현황,0,21,ROWS(제안사_투자현황),1) ) -> 0 | BV11: =SUMPRODUCT( (OFFSET(제안사_투자현황,0,0,ROWS(제안사_투자현황),1)="기타 주식등 투자펀드계정")*1, OFFSET(제안사_투자현황,0,22,ROWS(제안사_투자현황),1) ) -> 0 | BW11: =IF(BS11=0,"N/A", SUMPRODUCT( (OFFSET(제안사_투자현황,0,0,ROWS(제안사_투자현황),1)="기타 주식등 투자펀드계정")*1, OFFSET(제안사_투자현황,0,9,ROWS(제안사_투자현황),1), OFFSET(제안사_투자현황,0,11,ROWS(제안사_투자현황),1) ) / BS11) -> N/A | BX11: =IF( SUMPRODUCT( (OFFSET(제안사_투자현황,0,0,ROWS(제안사_투자현황),1)="기타 주식등 투자펀드계정")*1, OFFSET(제안사_투자현황,0,9,ROWS(제안사_투자현황),1), (OFFSET(제안사_투자현황,0,10,ROWS(제안사_투자현황),1)="회수료")*1) = 0, "N/A", SUMPRODUCT( (OFFSET(제안사_투자현황,0,0,ROWS(제안사_투자현황),1)="기타 주식등 투자펀드계정")*1, OFFSET(제안사_투자현황,0,9,ROWS(제안사_투자현황),1), (OFFSET(제안사_투자현황,0,10,ROWS(제안사_투자현황),1)="회수료")*1, OFFSET(제안사_투자현황,0,11,ROWS(제안사_투자현황),1) ) / SUMPRODUCT( (OFFSET(제안사_투자현황,0,0,ROWS(제안사_투자현황),1)="기타 주식등 투자펀드계정")*1, OFFSET(제안사_투자현황,0,9,ROWS(제안사_투자현황),1), (OFFSET(제안사_투자현황,0,10,ROWS(제안사_투자현황),1)="회수료")*1) ) -> N/A

Sheet 2.2 제안사 재무현황
E4: (가)결산일자 | F4: 총자산 | G4: 유동자산 | H4: 총부채 | I4: 유동부채 | J4: 자기자본 | K4: 자본금 | L4: 영업수익 | M4: 영업비용 | N4: 당기순이익 | O4: 유동비율 | P4: 부채비율 | Q4: 자본충실률 | R4: 영업수지율 | S4: 자기자본순이익률 | T4: (단위: 백만원)
E11: 45657 | F11: 10000 | G11: 9000 | H11: 3000 | I11: 1000 | J11: 7000 | K11: 4000 | L11: 2000 | M11: 1500 | N11: 200 | O11: =G11/I11 -> 9 | P11: =H11/J11 -> 0.42857143 | Q11: =J11/K11 -> 1.75 | R11: =L11/M11 -> 1.3333333 | S11: =N11/J11 -> 0.028571429
E12: 45291 | F12: 8000 | G12: 7000 | H12: 3000 | I12: 1000 | J12: 1000 | K12: 500 | L12: 600 | M12: 500 | N12: -100 | O12: =G12/I12 -> 7 | P12: =H12/J12 -> 3 | Q12: =J12/K12 -> 2 | R12: =L12/M12 -> 1.2 | S12: =N12/J12 -> -0.1
E13: 44926 | F13: 8000 | G13: 7000 | H13: 3000 | I13: 4000 | J13: 1000 | K13: 500 | L13: 3000 | M13: 2500 | N13: 500 | O13: =G13/I13 -> 1.75 | P13: =H13/J13 -> 3 | Q13: =J13/K13 -> 2 | R13: =L13/M13 -> 1.2 | S13: =N13/J13 -> 0.5

Sheet 2.3 제안사 주주현황
E4: 주주명 | F4: 보유주식수 | G4: 지분율 | H4: 최대주주와의 관계 | I4: 핵심운용인력 여부 | J4: 비고
E11: 홍길동 | F11: 25000 | G11: =IF(ISBLANK(F11),"",F11/'2.1 제안사 개요'!$J$11) -> 0.045000045 | I11: NO
E12: 이ㅇㅇ | F12: 20000 | G12: =IF(ISBLANK(F12),"",F12/'2.1 제안사 개요'!$J$11) -> 0.036000036 | I12: YES
E13: 김ㅇㅇ | F13: 500 | G13: =IF(ISBLANK(F13),"",F13/'2.1 제안사 개요'!$J$11) -> 0.0009000009 | I13: NO
G14: =IF(ISBLANK(F14),"",F14/'2.1 제안사 개요'!$J$11)
G15: =IF(ISBLANK(F15),"",F15/'2.1 제안사 개요'!$J$11)
G16: =IF(ISBLANK(F16),"",F16/'2.1 제안사 개요'!$J$11)
G17: =IF(ISBLANK(F17),"",F17/'2.1 제안사 개요'!$J$11)
G18: =IF(ISBLANK(F18),"",F18/'2.1 제안사 개요'!$J$11)
G19: =IF(ISBLANK(F19),"",F19/'2.1 제안사 개요'!$J$11)
G20: =IF(ISBLANK(F20),"",F20/'2.1 제안사 개요'!$J$11)
G21: =IF(ISBLANK(F21),"",F21/'2.1 제안사 개요'!$J$11)
G22: =IF(ISBLANK(F22),"",F22/'2.1 제안사 개요'!$J$11)
G23: =IF(ISBLANK(F23),"",F23/'2.1 제안사 개요'!$J$11)
G24: =IF(ISBLANK(F24),"",F24/'2.1 제안사 개요'!$J$11)
G25: =IF(ISBLANK(F25),"",F25/'2.1 제안사 개요'!$J$11)
... G30: =IF(ISBLANK(F30),"",F30/'2.1 제안사 개요'!$J$11)

Sheet 2.4 제안사 대표이사 변경이력
E4: 제안사 대표이사 | G4: 대표이사 재직기간 | J4: 비고
E5: 구분 | F5: 이름 | G5: 시작일 | H5: 종료일 | I5: 기간(년수)
E11: 대표이사 | F11: 홍길동 | G11: 36892 | H11: 40179 | I11: =IF(ISBLANK(G11),"",DATEDIF(G11,H11,"d")/365) -> 9.0054795
I12: =IF(ISBLANK(G12),"",DATEDIF(G12,H12,"d")/365)
I13: =IF(ISBLANK(G13),"",DATEDIF(G13,H13,"d")/365)
I14: =IF(ISBLANK(G14),"",DATEDIF(G14,H14,"d")/365)
I15: =IF(ISBLANK(G15),"",DATEDIF(G15,H15,"d")/365)

Sheet 2.5 제안사 펀드현황
E4: 펀드명칭 | H4: 펀드개요 | O4: 펀드규모 | Q4: 펀드 존속기간 | U4: 보수 | X4: 펀드수익율 | Z4: 투자 및 회수 | AC4: 미회수투자자산 | AE4: 분배 및 비용 | AJ4: 예금 등 투자자산 이외 자산총액 | AK4: 미지급등 부채총액 | AL4: 펀드 순자산 | AM4: 추가투자 예상금액 | AN4: 핵심운용인력1 (최초규약상) | AR4: 핵심운용인력2 (최초규약상) | AV4: 핵심운용인력3 (최초규약상) | AZ4: 최초규약상 핵심 운용인력 수 | BA4: 핵심운용인력1(청산시 or 작성기준일 상) | BE4: 핵심운용인력2(청산시 or 작성기준일 상) | BI4: 핵심운용인력3(청산시 or 작성기준일 상) | BM4: 핵심인력변경횟수 | BN4: 운용사수 | BO4: 제안사출자 | BR4: 공동운용사1출자 | BU4: 공동운용사2출자 | BX4: 투자자1 출자 | BZ4: 투자자2 출자 | CB4: 투자자3 출자 | CD4: 투자자4 출자 | CF4: 투자자5 출자
E5: 펀드명 | F5: 펀드구분 | G5: 펀드 사업자번호(고유번호) | H5: 펀드 상태 | I5: 펀드법적유형 | J5: 펀드유형 | K5: 주목적투자분야 | L5: 투자기업의 주된 법인유형 | M5: 주된 투자유형 | N5: 산업은행 위탁펀드 여부 | O5: 약정 총액 | P5: 납입 총액 | Q5: 결성(예정)일 | R5: 투자기간 종료(예정)일 | S5: 해산(예정)일 (청산펀드의 경우 청산일) | T5: 기간(연) | U5: 기준 수익률 | V5: 성과보수 | W5: 관리보수 | X5: IRR | Y5: Multiple | Z5: 투자건수 | AA5: 투자 총액 | AB5: 회수 총액 | AC5: 투자 원금 총액 | AD5: 가치 총액 | AE5: 출자자앞 분배총액 | AF5: 성과보수지급총액 | AG5: 성과보수 운용인력 분배총액 | AH5: 관리보수 지급총액 | AI5: 비용 지급총액 | AN5: 성명 | AO5: 시작일 | AP5: 종료일 | AQ5: 재직여부 | AR5: 성명 | AS5: 시작일 | AT5: 종료일 | AU5: 재직여부 | AV5: 성명 | AW5: 시작일 | AX5: 종료일 | AY5: 재직여부 | BA5: 성명 | BB5: 시작일 | BC5: 종료일 | BD5: 재직여부 | BE5: 성명 | BF5: 시작일 | BG5: 종료일 | BH5: 재직여부 | BI5: 성명 | BJ5: 시작일 | BK5: 종료일 | BL5: 재직여부 | BO5: 제안사명 | BP5: 약정액 | BQ5: 우선손실 충당액 | BR5: 운용사명 | BS5: 약정액 | BT5: 우선손실 충당액 | BU5: 운용사명 | BV5: 약정액 | BW5: 우선손실 충당액 | BX5: 출자자명 | BY5: 약정액 | BZ5: 출자자명 | CA5: 약정액 | CB5: 출자자명 | CC5: 약정액 | CD5: 출자자명 | CE5: 약정액 | CF5: 출자자명 | CG5: 약정액
E11: 펀드1호 | F11: PE펀드 | G11: 123-45-67899 | H11: 결성예정 | I11: PE-(가) | J11: 프로젝트펀드 | K11: 일반 중소기업 | L11: 국내설립법인 | M11: 보통주 | N11: NO | O11: 3000 | P11: 3000 | Q11: 39814 | R11: 41263 | S11: 42724 | T11: =IF(ISBLANK(Q11),"",DATEDIF(Q11,S11,"d")/365) -> 7.9726027 | U11: 0.1 | V11: 초과수익의 20% | W11: 투자잔액의 3.0% | X11: =IF(ISBLANK($E11), "", IF( ISERROR( XIRR( OFFSET(펀드_거래,MATCH($E11,OFFSET(펀드_거래,0,0,ROWS(펀드_거래),1),0)-1,2,COUNTIF(펀드_거래,$E11),1), OFFSET(펀드_거래,MATCH($E11,OFFSET(펀드_거래,0,0,ROWS(펀드_거래),1),0)-1,3,COUNTIF(펀드_거래,$E11),1) ) ), "N/A", XIRR( OFFSET(펀드_거래,MATCH($E11,OFFSET(펀드_거래,0,0,ROWS(펀드_거래),1),0)-1,2,COUNTIF(펀드_거래,$E11),1), OFFSET(펀드_거래,MATCH($E11,OFFSET(펀드_거래,0,0,ROWS(펀드_거래),1),0)-1,3,COUNTIF(펀드_거래,$E11),1), IF(SUM(OFFSET(펀드_거래,MATCH($E11,OFFSET(펀드_거래,0,0,ROWS(펀드_거래),1),0)-1,2,COUNTIF(펀드_거래,$E11),1))>0, 1%, -1%) ) ) ) -> 0.32997315 | Y11: =IF( ISBLANK($E11), "", IF(ISNUMBER(P11), (AD11+AE11+AF11+AJ11-AK11)/P11, "N/A") ) -> 7.0666667 | Z11: {=IF( ISBLANK($E11), "", SUMPRODUCT( (OFFSET(제안사_투자현황,0,1,ROWS(제안사_투자현황),1)=$E11)*1, ISTEXT(OFFSET(제안사_투자현황,0,4,ROWS(제안사_투자현황),1))*1 ) )} -> 8 | AA11: {=IF( ISBLANK($E11), "", SUMPRODUCT( (OFFSET(제안사_투자현황,0,1,ROWS(제안사_투자현황),1)=$E11)*1, OFFSET(제안사_투자현황,0,9,ROWS(제안사_투자현황),1)) )} -> 25000 | AB11: {=IF( ISBLANK($E11), "", SUMPRODUCT( (OFFSET(제안사_투자현황,0,1,ROWS(제안사_투자현황),1)=$E11)*1, OFFSET(제안사_투자현황,0,14,ROWS(제안사_투자현황),1)) )} -> 25700 | AC11: {=IF( ISBLANK($E11), "", SUMPRODUCT( (OFFSET(제안사_투자현황,0,1,ROWS(제안사_투자현황),1)=$E11)*1, OFFSET(제안사_투자현황,0,21,ROWS(제안사_투자현황),1)) )} -> 5000 | AD11: {=IF( ISBLANK($E11), "", SUMPRODUCT( (OFFSET(제안사_투자현황,0,1,ROWS(제안사_투자현황),1)=$E11)*1, OFFSET(제안사_투자현황,0,22,ROWS(제안사_투자현황),1)) )} -> 3500 | AE11: {=IF( ISBLANK($E11), "", SUMPRODUCT( (OFFSET(펀드_거래,0,0,ROWS(펀드_거래),1)=$E11)*1, (OFFSET(펀드_거래,0,1,ROWS(펀드_거래),1)="현금분배")*1, OFFSET(펀드_거래,0,2,ROWS(펀드_거래),1)/1000000 ) + SUMPRODUCT( (OFFSET(펀드_거래,0,0,ROWS(펀드_거래),1)=$E11)*1, (OFFSET(펀드_거래,0,1,ROWS(펀드_거래),1)="현물분배")*1, OFFSET(펀드_거래,0,2,ROWS(펀드_거래),1)/1000000 ) )} -> 17700 | AF11: {=IF( ISBLANK($E11), "", SUMPRODUCT( (OFFSET(펀드_거래,0,0,ROWS(펀드_거래),1)=$E11)*1, (OFFSET(펀드_거래,0,1,ROWS(펀드_거래),1)="성과보수")*1, OFFSET(펀드_거래,0,2,ROWS(펀드_거래),1)/1000000) )} -> 0 | AL11: =IF( ISERROR(AD11+AJ11-AK11), "", AD11+AJ11-AK11 ) -> 3500 | BB11: 36892 | BC11: 39814 | BM11: {=IF(ISBLANK($E11),"",SUMPRODUCT((OFFSET(핵심운용인력_변경내역,0,0,ROWS(핵심운용인력_변경내역),1)=$E11)*1,(OFFSET(핵심운용인력_변경내역,0,1,ROWS(핵심운용인력_변경내역),1)="유출")*1))} -> 3 | BP11: 500 | BQ11: 500 | BS11: 500 | BT11: 500 | BV11: 500 | BW11: 500
A12: 노앤파트너스㈜ | E12: 펀드2호 | F12: VC펀드 | G12: 000-00-00000 | H12: 운용중 | I12: VC-(나) | J12: 블라인드펀드 | K12: 일반 중소기업 | L12: 해외출자법인 | M12: 우선주(RCPS포함) | N12: NO | O12: 3000 | P12: 2500 | Q12: 40168 | R12: 41628 | S12: 43089 | T12: =IF(ISBLANK(Q12),"",DATEDIF(Q12,S12,"d")/365) -> 8.0027397 | U12: 0.1 | V12: 초과수익의 20% | W12: 투자잔액의 3.0% | X12: =IF(ISBLANK($E12), "", IF( ISERROR( XIRR( OFFSET(펀드_거래,MATCH($E12,OFFSET(펀드_거래,0,0,ROWS(펀드_거래),1),0)-1,2,COUNTIF(펀드_거래,$E12),1), OFFSET(펀드_거래,MATCH($E12,OFFSET(펀드_거래,0,0,ROWS(펀드_거래),1),0)-1,3,COUNTIF(펀드_거래,$E12),1) ) ), "N/A", XIRR( OFFSET(펀드_거래,MATCH($E12,OFFSET(펀드_거래,0,0,ROWS(펀드_거래),1),0)-1,2,COUNTIF(펀드_거래,$E12),1), OFFSET(펀드_거래,MATCH($E12,OFFSET(펀드_거래,0,0,ROWS(펀드_거래),1),0)-1,3,COUNTIF(펀드_거래,$E12),1), IF(SUM(OFFSET(펀드_거래,MATCH($E12,OFFSET(펀드_거래,0,0,ROWS(펀드_거래),1),0)-1,2,COUNTIF(펀드_거래,$E12),1))>0, 1%, -1%) ) ) ) -> 0.034640803 | Y12: =IF( ISBLANK($E12), "", IF(ISNUMBER(P12), (AD12+AE12+AF12+AJ12-AK12)/P12, "N/A") ) -> 1.436 | Z12: {=IF( ISBLANK($E12), "", SUMPRODUCT( (OFFSET(제안사_투자현황,0,1,ROWS(제안사_투자현황),1)=$E12)*1, ISTEXT(OFFSET(제안사_투자현황,0,4,ROWS(제안사_투자현황),1))*1 ) )} -> 2 | AA12: {=IF( ISBLANK($E12), "", SUMPRODUCT( (OFFSET(제안사_투자현황,0,1,ROWS(제안사_투자현황),1)=$E12)*1, OFFSET(제안사_투자현황,0,9,ROWS(제안사_투자현황),1)) )} -> 5000 | AB12: {=IF( ISBLANK($E12), "", SUMPRODUCT( (OFFSET(제안사_투자현황,0,1,ROWS(제안사_투자현황),1)=$E12)*1, OFFSET(제안사_투자현황,0,14,ROWS(제안사_투자현황),1)) )} -> 6000 | AC12: {=IF( ISBLANK($E12), "", SUMPRODUCT( (OFFSET(제안사_투자현황,0,1,ROWS(제안사_투자현황),1)=$E12)*1, OFFSET(제안사_투자현황,0,21,ROWS(제안사_투자현황),1)) )} -> 0 | AD12: {=IF( ISBLANK($E12), "", SUMPRODUCT( (OFFSET(제안사_투자현황,0,1,ROWS(제안사_투자현황),1)=$E12)*1, OFFSET(제안사_투자현황,0,22,ROWS(제안사_투자현황),1)) )} -> 0 | AE12: {=IF( ISBLANK($E12), "", SUMPRODUCT( (OFFSET(펀드_거래,0,0,ROWS(펀드_거래),1)=$E12)*1, (OFFSET(펀드_거래,0,1,ROWS(펀드_거래),1)="현금분배")*1, OFFSET(펀드_거래,0,2,ROWS(펀드_거래),1)/1000000 ) + SUMPRODUCT( (OFFSET(펀드_거래,0,0,ROWS(펀드_거래),1)=$E12)*1, (OFFSET(펀드_거래,0,1,ROWS(펀드_거래),1)="현물분배")*1, OFFSET(펀드_거래,0,2,ROWS(펀드_거래),1)/1000000 ) )} -> 3590 | AF12: {=IF( ISBLANK($E12), "", SUMPRODUCT( (OFFSET(펀드_거래,0,0,ROWS(펀드_거래),1)=$E12)*1, (OFFSET(펀드_거래,0,1,ROWS(펀드_거래),1)="성과보수")*1, OFFSET(펀드_거래,0,2,ROWS(펀드_거래),1)/1000000) )} -> 0 | AL12: =IF( ISERROR(AD12+AJ12-AK12), "", AD12+AJ12-AK12 ) -> 0 | BB12: 36892 | BC12: 39814 | BM12: {=IF(ISBLANK($E12),"",SUMPRODUCT((OFFSET(핵심운용인력_변경내역,0,0,ROWS(핵심운용인력_변경내역),1)=$E12)*1,(OFFSET(핵심운용인력_변경내역,0,1,ROWS(핵심운용인력_변경내역),1)="유출")*1))} -> 0 | BP12: 500 | BQ12: 500 | BS12: 500 | BT12: 500 | BV12: 500 | BW12: 500
E13: 펀드3호 | F13: 기타 주식등 투자펀드 | G13: 000-00-00000 | H13: 청산료 | I13: 기타-(가) | J13: 블라인드펀드 | K13: 일반 중소기업 | L13: 외국법인 | M13: BW | N13: YES | O13: 3000 | P13: 3000 | Q13: 40168 | R13: 41628 | S13: 43089 | T13: =IF(ISBLANK(Q13),"",DATEDIF(Q13,S13,"d")/365) -> 8.0027397 | U13: 0.1 | V13: 초과수익의 20% | W13: 투자잔액의 3.0% | X13: =IF(ISBLANK($E13), "", IF( ISERROR( XIRR( OFFSET(펀드_거래,MATCH($E13,OFFSET(펀드_거래,0,0,ROWS(펀드_거래),1),0)-1,2,COUNTIF(펀드_거래,$E13),1), OFFSET(펀드_거래,MATCH($E13,OFFSET(펀드_거래,0,0,ROWS(펀드_거래),1),0)-1,3,COUNTIF(펀드_거래,$E13),1) ) ), "N/A", XIRR( OFFSET(펀드_거래,MATCH($E13,OFFSET(펀드_거래,0,0,ROWS(펀드_거래),1),0)-1,2,COUNTIF(펀드_거래,$E13),1), OFFSET(펀드_거래,MATCH($E13,OFFSET(펀드_거래,0,0,ROWS(펀드_거래),1),0)-1,3,COUNTIF(펀드_거래,$E13),1), IF(SUM(OFFSET(펀드_거래,MATCH($E13,OFFSET(펀드_거래,0,0,ROWS(펀드_거래),1),0)-1,2,COUNTIF(펀드_거래,$E13),1))>0, 1%, -1%) ) ) ) -> 0.13875515 | Y13: =IF( ISBLANK($E13), "", IF(ISNUMBER(P13), (AD13+AE13+AF13+AJ13-AK13)/P13, "N/A") ) -> 5.2 | Z13: {=IF( ISBLANK($E13), "", SUMPRODUCT( (OFFSET(제안사_투자현황,0,1,ROWS(제안사_투자현황),1)=$E13)*1, ISTEXT(OFFSET(제안사_투자현황,0,4,ROWS(제안사_투자현황),1))*1 ) )} -> 0 | AA13: {=IF( ISBLANK($E13), "", SUMPRODUCT( (OFFSET(제안사_투자현황,0,1,ROWS(제안사_투자현황),1)=$E13)*1, OFFSET(제안사_투자현황,0,9,ROWS(제안사_투자현황),1)) )} -> 0 | AB13: {=IF( ISBLANK($E13), "", SUMPRODUCT( (OFFSET(제안사_투자현황,0,1,ROWS(제안사_투자현황),1)=$E13)*1, OFFSET(제안사_투자현황,0,14,ROWS(제안사_투자현황),1)) )} -> 0 | AC13: {=IF( ISBLANK($E13), "", SUMPRODUCT( (OFFSET(제안사_투자현황,0,1,ROWS(제안사_투자현황),1)=$E13)*1, OFFSET(제안사_투자현황,0,21,ROWS(제안사_투자현황),1)) )} -> 0 | AD13: {=IF( ISBLANK($E13), "", SUMPRODUCT( (OFFSET(제안사_투자현황,0,1,ROWS(제안사_투자현황),1)=$E13)*1, OFFSET(제안사_투자현황,0,22,ROWS(제안사_투자현황),1)) )} -> 0 | AE13: {=IF( ISBLANK($E13), "", SUMPRODUCT( (OFFSET(펀드_거래,0,0,ROWS(펀드_거래),1)=$E13)*1, (OFFSET(펀드_거래,0,1,ROWS(펀드_거래),1)="현금분배")*1, OFFSET(펀드_거래,0,2,ROWS(펀드_거래),1)/1000000 ) + SUMPRODUCT( (OFFSET(펀드_거래,0,0,ROWS(펀드_거래),1)=$E13)*1, (OFFSET(펀드_거래,0,1,ROWS(펀드_거래),1)="현물분배")*1, OFFSET(펀드_거래,0,2,ROWS(펀드_거래),1)/1000000 ) )} -> 15600 | AF13: {=IF( ISBLANK($E13), "", SUMPRODUCT( (OFFSET(펀드_거래,0,0,ROWS(펀드_거래),1)=$E13)*1, (OFFSET(펀드_거래,0,1,ROWS(펀드_거래),1)="성과보수")*1, OFFSET(펀드_거래,0,2,ROWS(펀드_거래),1)/1000000) )} -> 0 | AL13: =IF( ISERROR(AD13+AJ13-AK13), "", AD13+AJ13-AK13 ) -> 0 | BB13: 36892 | BC13: 39814 | BM13: {=IF(ISBLANK($E13),"",SUMPRODUCT((OFFSET(핵심운용인력_변경내역,0,0,ROWS(핵심운용인력_변경내역),1)=$E13)*1,(OFFSET(핵심운용인력_변경내역,0,1,ROWS(핵심운용인력_변경내역),1)="유출")*1))} -> 1 | BP13: 500 | BQ13: 500 | BS13: 500 | BT13: 500 | BV13: 500 | BW13: 500
E14: 펀드4호 | F14: 기타 주식등 투자펀드 | G14: 000-00-00000 | H14: 청산료 | I14: 기타-(라) | J14: 블라인드펀드 | K14: 일반 중소기업 | L14: 국내설립법인 | M14: 보통주 | N14: NO | O14: 3000 | P14: 3000 | Q14: 40168 | R14: 41628 | S14: 43089 | T14: =IF(ISBLANK(Q14),"",DATEDIF(Q14,S14,"d")/365) -> 8.0027397 | U14: 0.1 | V14: 초과수익의 20% | W14: 투자잔액의 3.0% | X14: =IF(ISBLANK($E14), "", IF( ISERROR( XIRR( OFFSET(펀드_거래,MATCH($E14,OFFSET(펀드_거래,0,0,ROWS(펀드_거래),1),0)-1,2,COUNTIF(펀드_거래,$E14),1), OFFSET(펀드_거래,MATCH($E14,OFFSET(펀드_거래,0,0,ROWS(펀드_거래),1),0)-1,3,COUNTIF(펀드_거래,$E14),1) ) ), "N/A", XIRR( OFFSET(펀드_거래,MATCH($E14,OFFSET(펀드_거래,0,0,ROWS(펀드_거래),1),0)-1,2,COUNTIF(펀드_거래,$E14),1), OFFSET(펀드_거래,MATCH($E14,OFFSET(펀드_거래,0,0,ROWS(펀드_거래),1),0)-1,3,COUNTIF(펀드_거래,$E14),1), IF(SUM(OFFSET(펀드_거래,MATCH($E14,OFFSET(펀드_거래,0,0,ROWS(펀드_거래),1),0)-1,2,COUNTIF(펀드_거래,$E14),1))>0, 1%, -1%) ) ) ) -> 0.4329217 | Y14: =IF( ISBLANK($E14), "", IF(ISNUMBER(P14), (AD14+AE14+AF14+AJ14-AK14)/P14, "N/A") ) -> 2 | Z14: {=IF( ISBLANK($E14), "", SUMPRODUCT( (OFFSET(제안사_투자현황,0,1,ROWS(제안사_투자현황),1)=$E14)*1, ISTEXT(OFFSET(제안사_투자현황,0,4,ROWS(제안사_투자현황),1))*1 ) )} -> 0 | AA14: {=IF( ISBLANK($E14), "", SUMPRODUCT( (OFFSET(제안사_투자현황,0,1,ROWS(제안사_투자현황),1)=$E14)*1, OFFSET(제안사_투자현황,0,9,ROWS(제안사_투자현황),1)) )} -> 0 | AB14: {=IF( ISBLANK($E14), "", SUMPRODUCT( (OFFSET(제안사_투자현황,0,1,ROWS(제안사_투자현황),1)=$E14)*1, OFFSET(제안사_투자현황,0,14,ROWS(제안사_투자현황),1)) )} -> 0 | AC14: {=IF( ISBLANK($E14), "", SUMPRODUCT( (OFFSET(제안사_투자현황,0,1,ROWS(제안사_투자현황),1)=$E14)*1, OFFSET(제안사_투자현황,0,21,ROWS(제안사_투자현황),1)) )} -> 0 | AD14: {=IF( ISBLANK($E14), "", SUMPRODUCT( (OFFSET(제안사_투자현황,0,1,ROWS(제안사_투자현황),1)=$E14)*1, OFFSET(제안사_투자현황,0,22,ROWS(제안사_투자현황),1)) )} -> 0 | AE14: {=IF( ISBLANK($E14), "", SUMPRODUCT( (OFFSET(펀드_거래,0,0,ROWS(펀드_거래),1)=$E14)*1, (OFFSET(펀드_거래,0,1,ROWS(펀드_거래),1)="현금분배")*1, OFFSET(펀드_거래,0,2,ROWS(펀드_거래),1)/1000000 ) + SUMPRODUCT( (OFFSET(펀드_거래,0,0,ROWS(펀드_거래),1)=$E14)*1, (OFFSET(펀드_거래,0,1,ROWS(펀드_거래),1)="현물분배")*1, OFFSET(펀드_거래,0,2,ROWS(펀드_거래),1)/1000000 ) )} -> 6000 | AF14: {=IF( ISBLANK($E14), "", SUMPRODUCT( (OFFSET(펀드_거래,0,0,ROWS(펀드_거래),1)=$E14)*1, (OFFSET(펀드_거래,0,1,ROWS(펀드_거래),1)="성과보수")*1, OFFSET(펀드_거래,0,2,ROWS(펀드_거래),1)/1000000) )} -> 0 | AL14: =IF( ISERROR(AD14+AJ14-AK14), "", AD14+AJ14-AK14 ) -> 0 | BB14: 36892 | BC14: 39814 | BM14: {=IF(ISBLANK($E14),"",SUMPRODUCT((OFFSET(핵심운용인력_변경내역,0,0,ROWS(핵심운용인력_변경내역),1)=$E14)*1,(OFFSET(핵심운용인력_변경내역,0,1,ROWS(핵심운용인력_변경내역),1)="유출")*1))} -> 0 | BP14: 500 | BQ14: 500 | BS14: 500 | BT14: 500 | BV14: 500 | BW14: 500

Sheet 2.6 제안사 투자현황
R4: 회수투자자산 | W4: 부실발생기준에 의거한 회계상 감액내역 | Y4: 미회수투자자산 | AD4: 참여자정보 | AG4: 기타사항
E5: 펀드구분 | F5: 펀드명 | G5: 펀드 사업자번호 (고유번호) | H5: 펀드법적유형 | I5: 피투자기업명 | J5: 피투자기업 법인유형 | K5: 피투자기업 주요산업분야 | L5: 투자일 | M5: 투자유형 | N5: 투자금액 | O5: 회수구분 | P5: 투자 수익율 (IRR) | Q5: 동반투자자 | R5: 최종회수일 | S5: 회수총액 | T5: 투자원금 | U5: 회수방법 | V5: 투자기간 | W5: 감액 여부 | X5: 감액 금액 | Y5: 시장성 유무 | Z5: 투자원금 | AA5: 가치 | AB5: 가치산출근거 | AC5: 현재 담당자 성명 | AD5: 발굴및 투자검토 | AE5: 사후 관리 | AF5: 회수
E11: PE펀드계정 | F11: 펀드1호 | G11: =IF(ISBLANK($F11),"",VLOOKUP($F11,제안사_펀드현황,3,FALSE)) -> 123-45-67899 | H11: PE-(가) | I11: ABD㈜ | J11: 국내설립법인 | K11: 기타 | L11: 39815 | M11: 대출채권 | N11: 5000 | O11: 회수료 | P11: 0.02 | Q11: 타운용사 펀드 | R11: 40526 | S11: 4000 | T11: 1000 | U11: 코스닥 | V11: =IF(ISBLANK(R11),"",DATEDIF(L11,R11,"d")/365) -> 1.9479452 | W11: YES | X11: 2000 | Y11: NO | Z11: 2000 | AA11: 1500 | AB11: 24.12.31 감사보고서(가결산) 금액
E12: PE펀드계정 | F12: 펀드1호 | G12: =IF(ISBLANK($F12),"",VLOOKUP($F12,제안사_펀드현황,3,FALSE)) -> 123-45-67899 | H12: PE-(가) | I12: ABC Inc. | J12: 국내설립법인 | K12: 전자/반도체 | L12: 39816 | M12: 보통주 | N12: 2000 | O12: 미회수 | S12: 0 | T12: 0 | V12: =IF(ISBLANK(R12),"",DATEDIF(L12,R12,"d")/365) | Z12: 2000 | AA12: 2000 | AB12: 24.12.31 감사보고서(가결산) 금액 | AC12: 이00 | AD12: 이00 김00 | AE12: 이00 김00 | AF12: 이00 김00
E13: PE펀드계정 | F13: 펀드1호 | G13: =IF(ISBLANK($F13),"",VLOOKUP($F13,제안사_펀드현황,3,FALSE)) -> 123-45-67899 | H13: PE-(가) | I13: ABC Inc. | J13: 국내설립법인 | K13: 전자/반도체 | L13: 39817 | M13: 보통주 | N13: 3000 | O13: 부분회수 | P13: 0.2 | R13: 40228 | S13: 5000 | T13: 2000 | U13: 코스닥 | V13: =IF(ISBLANK(R13),"",DATEDIF(L13,R13,"d")/365) -> 1.1260274 | Y13: YES | Z13: 1000 | AA13: 0 | AB13: 5,000주*@200,000원=2,000백만원(24.12.31종가기준) | AC13: 이00 | AD13: 이00 김00 | AE13: 이00 김00 | AF13: 이00 김00
E14: PE펀드계정 | F14: 펀드1호 | G14: =IF(ISBLANK($F14),"",VLOOKUP($F14,제안사_펀드현황,3,FALSE)) -> 123-45-67899 | H14: PE-(라) | I14: ABC Inc. | J14: 국내설립법인 | K14: 전자/반도체 | L14: 39818 | M14: 보통주 | N14: 4000 | O14: 회수료 | P14: 0.03 | R14: 40228 | S14: 4500 | T14: 4000 | U14: 장외매각(M&A) | V14: =IF(ISBLANK(R14),"",DATEDIF(L14,R14,"d")/365) -> 1.1232877 | Z14: 0 | AA14: 0 | AC14: 이00 | AD14: 이00 김00 | AE14: 이00 김00 | AF14: 이00 김00
E15: PE펀드계정 | F15: 펀드1호 | G15: =IF(ISBLANK($F15),"",VLOOKUP($F15,제안사_펀드현황,3,FALSE)) -> 123-45-67899 | H15: PE-(가) | I15: ABC Inc. | J15: 국내설립법인 | K15: 전자/반도체 | L15: 39819 | M15: 보통주 | N15: 5000 | O15: 회수료 | P15: 0.03 | R15: 40228 | S15: 5600 | T15: 5000 | U15: 코스닥 | V15: =IF(ISBLANK(R15),"",DATEDIF(L15,R15,"d")/365) -> 1.1205479 | Z15: 0 | AA15: 0 | AC15: 이00 | AD15: 이00 김00 | AE15: 이00 김00 | AF15: 이00 김00
E16: PE펀드계정 | F16: 펀드1호 | G16: =IF(ISBLANK($F16),"",VLOOKUP($F16,제안사_펀드현황,3,FALSE)) -> 123-45-67899 | H16: PE-(가) | I16: ABC Inc. | J16: 국내설립법인 | K16: 전자/반도체 | L16: 39820 | M16: 보통주 | N16: 2000 | O16: 회수료 | P16: 0.03 | R16: 40228 | S16: 2500 | T16: 2000 | U16: 코스닥 | V16: =IF(ISBLANK(R16),"",DATEDIF(L16,R16,"d")/365) -> 1.1178082 | Z16: 0 | AA16: 0 | AC16: 이00 | AD16: 이00 김00 | AE16: 이00 김00 | AF16: 이00 김00
E17: PE펀드계정 | F17: 펀드1호 | G17: =IF(ISBLANK($F17),"",VLOOKUP($F17,제안사_펀드현황,3,FALSE)) -> 123-45-67899 | H17: PE-(가) | I17: ABC Inc. | J17: 국내설립법인 | K17: 전자/반도체 | L17: 39821 | M17: 우선주(RCPS포함) | N17: 2000 | O17: 회수료 | P17: 0 | R17: 40228 | S17: 2000 | T17: 2000 | U17: 코스닥 | V17: =IF(ISBLANK(R17),"",DATEDIF(L17,R17,"d")/365) -> 1.1150685 | Z17: 0 | AA17: 0 | AC17: 이00 | AD17: 이00 김00 | AE17: 이00 김00 | AF17: 이00 김00
E18: PE펀드계정 | F18: 펀드1호 | G18: =IF(ISBLANK($F18),"",VLOOKUP($F18,제안사_펀드현황,3,FALSE)) -> 123-45-67899 | H18: PE-(가) | I18: 가나다 | J18: 국내설립법인 | K18: 전자/반도체 | L18: 39822 | M18: 보통주 | N18: 2000 | O18: 회수료 | P18: 0.03 | R18: 40228 | S18: 2100 | T18: 2000 | U18: 코스닥 | V18: =IF(ISBLANK(R18),"",DATEDIF(L18,R18,"d")/365) -> 1.1123288 | Z18: 0 | AA18: 0 | AC18: 이00 | AD18: 이00 김00 | AE18: 이00 김00 | AF18: 이00 김00
E19: VC펀드계정 | F19: 펀드2호 | G19: =IF(ISBLANK($F19),"",VLOOKUP($F19,제안사_펀드현황,3,FALSE)) -> 000-00-00000 | H19: VC-(가) | I19: ABD㈜ | J19: 국내설립법인 | K19: 기타 | L19: 39823 | M19: 보통주 | N19: 3000 | O19: 부분회수 | P19: 0.02 | Q19: 제안사 자본계정 | R19: 40161 | S19: 4000 | T19: 3000 | U19: 코스닥 | V19: =IF(ISBLANK(R19),"",DATEDIF(L19,R19,"d")/365) -> 0.9260274 | Z19: 0 | AA19: 0
E20: VC펀드계정 | F20: 펀드2호 | G20: =IF(ISBLANK($F20),"",VLOOKUP($F20,제안사_펀드현황,3,FALSE)) -> 000-00-00000 | H20: VC-(가) | I20: ABE㈜ | J20: 국내설립법인 | K20: 전자/반도체 | L20: 39824 | M20: 보통주 | N20: 2000 | O20: 회수료 | P20: 0.03 | Q20: 타운용사 자본계정 | R20: 40228 | S20: 2000 | T20: 2000 | U20: 코스닥 | V20: =IF(ISBLANK(R20),"",DATEDIF(L20,R20,"d")/365) -> 1.1068493 | Z20: 0 | AA20: 0 | AC20: 이00 | AD20: 이00 김00 | AE20: 이00 김00 | AF20: 이00 김00

Sheet 3.1 대표이사&참여인력 개요
E4: 대표이사/참여인력 | H4: 현재 재직회사 | Q4: 인력구분 | R4: 주요평가 대상3인 (Co-GP 2인) | S4: 제재 | U4: 투자관련 경력 (년수) | V4: 산업경력 (년수) | W4: 투자 및 회수실적 | AF4: 현재 관리중인 투자
E5: 성명 | F5: 주민등록번호상 앞6자리 | G5: 국적 | H5: 회사명 | I5: 부서 | J5: 직위 | K5: 제안사 지분율 (%) | L5: 제안사 등기임원 등재여부 | M5: 주요담당업무 | N5: 전화번호 | O5: 휴대전화번호 | P5: 이메일 | S5: 제재경력여부 | T5: 제재내역 | W5: 투자 건수 | X5: 투자건수 (회수료) | Y5: 투자총액 | Z5: 회수총액 | AA5: 미회수 투자자산 투자원금 총액 | AB5: 미회수 투자자산 가치총액 | AC5: 투자금액 가중평균 수익율 | AD5: 투자금액 가중평균수익율 (회수료) | AE5: 회수총액/투자총액 (Multiple) (회수료) | AF5: 미회수 투자건수 | AG5: 미회수투자자산 투자원금총액 | AH5: 미회수투자자산가치총액
E11: 이00 | F11: 700101 | G11: 대한민국 | H11: 가인베스트먼트 | J11: 대표이사 | K11: 50 | L11: YES | M11: 대표이사 | N11: 02-0000-0000 | O11: 010-0000-0000 | Q11: 대표펀드매니저 | R11: YES | S11: NO | U11: {=IF(ISBLANK($E11), "", SUMPRODUCT((OFFSET(대표이사_참여인력_경력,0,0,ROWS(대표이사_참여인력_경력),1)=$E11)*1, OFFSET(대표이사_참여인력_경력,0,13,ROWS(대표이사_참여인력_경력),1), (OFFSET(대표이사_참여인력_경력,0,14,ROWS(대표이사_참여인력_경력),1)="YES")*1) )} -> 23.753425 | V11: {=IF(ISBLANK($E11), "", SUMPRODUCT((OFFSET(대표이사_참여인력_경력,0,0,ROWS(대표이사_참여인력_경력),1)=$E11)*1, OFFSET(대표이사_참여인력_경력,0,13,ROWS(대표이사_참여인력_경력),1), (OFFSET(대표이사_참여인력_경력,0,14,ROWS(대표이사_참여인력_경력),1)="NO")*1, (OFFSET(대표이사_참여인력_경력,0,16,ROWS(대표이사_참여인력_경력),1)="YES")*1) )} -> 0 | W11: {=IF(ISBLANK($E11), "", SUMPRODUCT((OFFSET(대표이사_참여인력_투자현황,0,0,ROWS(대표이사_참여인력_투자현황),1)=$E11)*1, ISTEXT(OFFSET(대표이사_참여인력_투자현황,0,8,ROWS(대표이사_참여인력_투자현황),1))*1))} -> 3 | X11: {=IF(ISBLANK($E11), "", SUMPRODUCT((OFFSET(대표이사_참여인력_투자현황,0,0,ROWS(대표이사_참여인력_투자현황),1)=$E11)*1, (OFFSET(대표이사_참여인력_투자현황,0,17,ROWS(대표이사_참여인력_투자현황),1)="회수료")*1))} -> 1 | Y11: {=IF(ISBLANK($E11), "", SUMPRODUCT((OFFSET(대표이사_참여인력_투자현황,0,0,ROWS(대표이사_참여인력_투자현황),1)=$E11)*1, OFFSET(대표이사_참여인력_투자현황,0,15,ROWS(대표이사_참여인력_투자현황),1)))} -> 1900 | Z11: =IF(ISBLANK($E11), "", SUMPRODUCT((OFFSET(대표이사_참여인력_투자현황,0,0,ROWS(대표이사_참여인력_투자현황),1)=$E11)*1, OFFSET(대표이사_참여인력_투자현황,0,21,ROWS(대표이사_참여인력_투자현황),1))) -> 1546 | AA11: =IF(ISBLANK($E11), "", SUMPRODUCT((OFFSET(대표이사_참여인력_투자현황,0,0,ROWS(대표이사_참여인력_투자현황),1)=$E11)*1, OFFSET(대표이사_참여인력_투자현황,0,28,ROWS(대표이사_참여인력_투자현황),1))) -> 650 | AB11: =IF(ISBLANK($E11), "", SUMPRODUCT((OFFSET(대표이사_참여인력_투자현황,0,0,ROWS(대표이사_참여인력_투자현황),1)=$E11)*1, OFFSET(대표이사_참여인력_투자현황,0,29,ROWS(대표이사_참여인력_투자현황),1))) -> 850 | AC11: =IFERROR(IF(ISBLANK($E11), "", SUMPRODUCT((OFFSET(대표이사_참여인력_투자현황,0,0,ROWS(대표이사_참여인력_투자현황),1)=$E11)*1, OFFSET(대표이사_참여인력_투자현황,0,15,ROWS(대표이사_참여인력_투자현황),1), OFFSET(대표이사_참여인력_투자현황,0,18,ROWS(대표이사_참여인력_투자현황),1))/Y11),0) -> 0.12010526 | AD11: =IFERROR(IF(ISBLANK($E11), "",IF(SUMPRODUCT( (OFFSET(대표이사_참여인력_투자현황,0,0,ROWS(대표이사_참여인력_투자현황),1)=$E11)*1, OFFSET(대표이사_참여인력_투자현황,0,15,ROWS(대표이사_참여인력_투자현황),1), (OFFSET(대표이사_참여인력_투자현황,0,17,ROWS(대표이사_참여인력_투자현황),1)="회수료")*1 ) = 0, 0, SUMPRODUCT( (OFFSET(대표이사_참여인력_투자현황,0,0,ROWS(대표이사_참여인력_투자현황),1)=$E11)*1, OFFSET(대표이사_참여인력_투자현황,0,15,ROWS(대표이사_참여인력_투자현황),1), (OFFSET(대표이사_참여인력_투자현황,0,17,ROWS(대표이사_참여인력_투자현황),1)="회수료")*1, OFFSET(대표이사_참여인력_투자현황,0,18,ROWS(대표이사_참여인력_투자현황),1) ) / SUMPRODUCT( (OFFSET(대표이사_참여인력_투자현황,0,0,ROWS(대표이사_참여인력_투자현황),1)=$E11)*1, OFFSET(대표이사_참여인력_투자현황,0,15,ROWS(대표이사_참여인력_투자현황),1), (OFFSET(대표이사_참여인력_투자현황,0,17,ROWS(대표이사_참여인력_투자현황),1)="회수료")*1 ) )),0) -> 0.146 | AE11: =IFERROR(IF(ISBLANK($E11), "",IF(SUMPRODUCT( (OFFSET(대표이사_참여인력_투자현황,0,0,ROWS(대표이사_참여인력_투자현황),1)=$E11)*1, OFFSET(대표이사_참여인력_투자현황,0,15,ROWS(대표이사_참여인력_투자현황),1), (OFFSET(대표이사_참여인력_투자현황,0,17,ROWS(대표이사_참여인력_투자현황),1)="회수료")*1 ) = 0, 0, SUMPRODUCT( (OFFSET(대표이사_참여인력_투자현황,0,0,ROWS(대표이사_참여인력_투자현황),1)=$E11)*1, OFFSET(대표이사_참여인력_투자현황,0,15,ROWS(대표이사_참여인력_투자현황),1), (OFFSET(대표이사_참여인력_투자현황,0,17,ROWS(대표이사_참여인력_투자현황),1)="회수료")*1, OFFSET(대표이사_참여인력_투자현황,0,19,ROWS(대표이사_참여인력_투자현황),1) ) / SUMPRODUCT( (OFFSET(대표이사_참여인력_투자현황,0,0,ROWS(대표이사_참여인력_투자현황),1)=$E11)*1, OFFSET(대표이사_참여인력_투자현황,0,15,ROWS(대표이사_참여인력_투자현황),1), (OFFSET(대표이사_참여인력_투자현황,0,17,ROWS(대표이사_참여인력_투자현황),1)="회수료")*1 ) )),0) -> 1.146 | AF11: =IF(ISBLANK($E11), "", SUMPRODUCT( (OFFSET(제안사_투자현황,0,24,ROWS(제안사_투자현황),1)=$E11)*1, (OFFSET(제안사_투자현황,0,10,ROWS(제안사_투자현황),1)<>"회수료")*1 ) ) -> 2 | AG11: =IF(ISBLANK($E11), "", SUMPRODUCT( (OFFSET(제안사_투자현황,0,24,ROWS(제안사_투자현황),1)=$E11)*1, (OFFSET(제안사_투자현황,0,10,ROWS(제안사_투자현황),1)<>"회수료")*1, OFFSET(제안사_투자현황,0,21,ROWS(제안사_투자현황),1) ) ) -> 3000 | AH11: =IF(ISBLANK($E11), "", SUMPRODUCT( (OFFSET(제안사_투자현황,0,24,ROWS(제안사_투자현황),1)=$E11)*1, (OFFSET(제안사_투자현황,0,10,ROWS(제안사_투자현황),1)<>"회수료")*1, OFFSET(제안사_투자현황,0,22,ROWS(제안사_투자현황),1) ) ) -> 2000
E12: 김00 | F12: 710101 | G12: 대한민국 | H12: 가인베스트먼트 | I12: 투자1본부 | J12: 투자이사 | N12: 02-0000-0000 | O12: 010-0000-0000 | Q12: 핵심운용인력 | R12: YES | S12: NO | U12: {=IF(ISBLANK($E12), "", SUMPRODUCT((OFFSET(대표이사_참여인력_경력,0,0,ROWS(대표이사_참여인력_경력),1)=$E12)*1, OFFSET(대표이사_참여인력_경력,0,13,ROWS(대표이사_참여인력_경력),1), (OFFSET(대표이사_참여인력_경력,0,14,ROWS(대표이사_참여인력_경력),1)="YES")*1) )} -> 14.008219 | V12: {=IF(ISBLANK($E12), "", SUMPRODUCT((OFFSET(대표이사_참여인력_경력,0,0,ROWS(대표이사_참여인력_경력),1)=$E12)*1, OFFSET(대표이사_참여인력_경력,0,13,ROWS(대표이사_참여인력_경력),1), (OFFSET(대표이사_참여인력_경력,0,14,ROWS(대표이사_참여인력_경력),1)="NO")*1, (OFFSET(대표이사_참여인력_경력,0,16,ROWS(대표이사_참여인력_경력),1)="YES")*1) )} -> 0 | W12: {=IF(ISBLANK($E12), "", SUMPRODUCT((OFFSET(대표이사_참여인력_투자현황,0,0,ROWS(대표이사_참여인력_투자현황),1)=$E12)*1, ISTEXT(OFFSET(대표이사_참여인력_투자현황,0,8,ROWS(대표이사_참여인력_투자현황),1))*1))} -> 1 | X12: {=IF(ISBLANK($E12), "", SUMPRODUCT((OFFSET(대표이사_참여인력_투자현황,0,0,ROWS(대표이사_참여인력_투자현황),1)=$E12)*1, (OFFSET(대표이사_참여인력_투자현황,0,17,ROWS(대표이사_참여인력_투자현황),1)="회수료")*1))} -> 1 | Y12: {=IF(ISBLANK($E12), "", SUMPRODUCT((OFFSET(대표이사_참여인력_투자현황,0,0,ROWS(대표이사_참여인력_투자현황),1)=$E12)*1, OFFSET(대표이사_참여인력_투자현황,0,15,ROWS(대표이사_참여인력_투자현황),1)))} -> 50000 | Z12: =IF(ISBLANK($E12), "", SUMPRODUCT((OFFSET(대표이사_참여인력_투자현황,0,0,ROWS(대표이사_참여인력_투자현황),1)=$E12)*1, OFFSET(대표이사_참여인력_투자현황,0,21,ROWS(대표이사_참여인력_투자현황),1))) -> 0 | AA12: =IF(ISBLANK($E12), "", SUMPRODUCT((OFFSET(대표이사_참여인력_투자현황,0,0,ROWS(대표이사_참여인력_투자현황),1)=$E12)*1, OFFSET(대표이사_참여인력_투자현황,0,28,ROWS(대표이사_참여인력_투자현황),1))) -> 0 | AB12: =IF(ISBLANK($E12), "", SUMPRODUCT((OFFSET(대표이사_참여인력_투자현황,0,0,ROWS(대표이사_참여인력_투자현황),1)=$E12)*1, OFFSET(대표이사_참여인력_투자현황,0,29,ROWS(대표이사_참여인력_투자현황),1))) -> 0 | AC12: =IFERROR(IF(ISBLANK($E12), "", SUMPRODUCT((OFFSET(대표이사_참여인력_투자현황,0,0,ROWS(대표이사_참여인력_투자현황),1)=$E12)*1, OFFSET(대표이사_참여인력_투자현황,0,15,ROWS(대표이사_참여인력_투자현황),1), OFFSET(대표이사_참여인력_투자현황,0,18,ROWS(대표이사_참여인력_투자현황),1))/Y12),0) -> -1 | AD12: =IFERROR(IF(ISBLANK($E12), "",IF(SUMPRODUCT( (OFFSET(대표이사_참여인력_투자현황,0,0,ROWS(대표이사_참여인력_투자현황),1)=$E12)*1, OFFSET(대표이사_참여인력_투자현황,0,15,ROWS(대표이사_참여인력_투자현황),1), (OFFSET(대표이사_참여인력_투자현황,0,17,ROWS(대표이사_참여인력_투자현황),1)="회수료")*1 ) = 0, 0, SUMPRODUCT( (OFFSET(대표이사_참여인력_투자현황,0,0,ROWS(대표이사_참여인력_투자현황),1)=$E12)*1, OFFSET(대표이사_참여인력_투자현황,0,15,ROWS(대표이사_참여인력_투자현황),1), (OFFSET(대표이사_참여인력_투자현황,0,17,ROWS(대표이사_참여인력_투자현황),1)="회수료")*1, OFFSET(대표이사_참여인력_투자현황,0,18,ROWS(대표이사_참여인력_투자현황),1) ) / SUMPRODUCT( (OFFSET(대표이사_참여인력_투자현황,0,0,ROWS(대표이사_참여인력_투자현황),1)=$E12)*1, OFFSET(대표이사_참여인력_투자현황,0,15,ROWS(대표이사_참여인력_투자현황),1), (OFFSET(대표이사_참여인력_투자현황,0,17,ROWS(대표이사_참여인력_투자현황),1)="회수료")*1 ) )),0) -> -1 | AE12: =IFERROR(IF(ISBLANK($E12), "",IF(SUMPRODUCT( (OFFSET(대표이사_참여인력_투자현황,0,0,ROWS(대표이사_참여인력_투자현황),1)=$E12)*1, OFFSET(대표이사_참여인력_투자현황,0,15,ROWS(대표이사_참여인력_투자현황),1), (OFFSET(대표이사_참여인력_투자현황,0,17,ROWS(대표이사_참여인력_투자현황),1)="회수료")*1 ) = 0, 0, SUMPRODUCT( (OFFSET(대표이사_참여인력_투자현황,0,0,ROWS(대표이사_참여인력_투자현황),1)=$E12)*1, OFFSET(대표이사_참여인력_투자현황,0,15,ROWS(대표이사_참여인력_투자현황),1), (OFFSET(대표이사_참여인력_투자현황,0,17,ROWS(대표이사_참여인력_투자현황),1)="회수료")*1, OFFSET(대표이사_참여인력_투자현황,0,19,ROWS(대표이사_참여인력_투자현황),1) ) / SUMPRODUCT( (OFFSET(대표이사_참여인력_투자현황,0,0,ROWS(대표이사_참여인력_투자현황),1)=$E12)*1, OFFSET(대표이사_참여인력_투자현황,0,15,ROWS(대표이사_참여인력_투자현황),1), (OFFSET(대표이사_참여인력_투자현황,0,17,ROWS(대표이사_참여인력_투자현황),1)="회수료")*1 ) )),0) -> 0 | AF12: =IF(ISBLANK($E12), "", SUMPRODUCT( (OFFSET(제안사_투자현황,0,24,ROWS(제안사_투자현황),1)=$E12)*1, (OFFSET(제안사_투자현황,0,10,ROWS(제안사_투자현황),1)<>"회수료")*1 ) ) -> 0 | AG12: =IF(ISBLANK($E12), "", SUMPRODUCT( (OFFSET(제안사_투자현황,0,24,ROWS(제안사_투자현황),1)=$E12)*1, (OFFSET(제안사_투자현황,0,10,ROWS(제안사_투자현황),1)<>"회수료")*1, OFFSET(제안사_투자현황,0,21,ROWS(제안사_투자현황),1) ) ) -> 0 | AH12: =IF(ISBLANK($E12), "", SUMPRODUCT( (OFFSET(제안사_투자현황,0,24,ROWS(제안사_투자현황),1)=$E12)*1, (OFFSET(제안사_투자현황,0,10,ROWS(제안사_투자현황),1)<>"회수료")*1, OFFSET(제안사_투자현황,0,22,ROWS(제안사_투자현황),1) ) ) -> 0
E13: 박00 | F13: 720101 | G13: 대한민국 | H13: 가인베스트먼트 | I13: 투자1본부 | J13: 투자이사 | N13: 02-0000-0000 | O13: 010-0000-0000 | Q13: 핵심운용인력 | R13: YES | S13: NO | U13: {=IF(ISBLANK($E13), "", SUMPRODUCT((OFFSET(대표이사_참여인력_경력,0,0,ROWS(대표이사_참여인력_경력),1)=$E13)*1, OFFSET(대표이사_참여인력_경력,0,13,ROWS(대표이사_참여인력_경력),1), (OFFSET(대표이사_참여인력_경력,0,14,ROWS(대표이사_참여인력_경력),1)="YES")*1) )} -> 0 | V13: {=IF(ISBLANK($E13), "", SUMPRODUCT((OFFSET(대표이사_참여인력_경력,0,0,ROWS(대표이사_참여인력_경력),1)=$E13)*1, OFFSET(대표이사_참여인력_경력,0,13,ROWS(대표이사_참여인력_경력),1), (OFFSET(대표이사_참여인력_경력,0,14,ROWS(대표이사_참여인력_경력),1)="NO")*1, (OFFSET(대표이사_참여인력_경력,0,16,ROWS(대표이사_참여인력_경력),1)="YES")*1) )} -> 0 | W13: {=IF(ISBLANK($E13), "", SUMPRODUCT((OFFSET(대표이사_참여인력_투자현황,0,0,ROWS(대표이사_참여인력_투자현황),1)=$E13)*1, ISTEXT(OFFSET(대표이사_참여인력_투자현황,0,8,ROWS(대표이사_참여인력_투자현황),1))*1))} -> 2 | X13: {=IF(ISBLANK($E13), "", SUMPRODUCT((OFFSET(대표이사_참여인력_투자현황,0,0,ROWS(대표이사_참여인력_투자현황),1)=$E13)*1, (OFFSET(대표이사_참여인력_투자현황,0,17,ROWS(대표이사_참여인력_투자현황),1)="회수료")*1))} -> 0 | Y13: {=IF(ISBLANK($E13), "", SUMPRODUCT((OFFSET(대표이사_참여인력_투자현황,0,0,ROWS(대표이사_참여인력_투자현황),1)=$E13)*1, OFFSET(대표이사_참여인력_투자현황,0,15,ROWS(대표이사_참여인력_투자현황),1)))} -> 250 | Z13: =IF(ISBLANK($E13), "", SUMPRODUCT((OFFSET(대표이사_참여인력_투자현황,0,0,ROWS(대표이사_참여인력_투자현황),1)=$E13)*1, OFFSET(대표이사_참여인력_투자현황,0,21,ROWS(대표이사_참여인력_투자현황),1))) -> 290 | AA13: =IF(ISBLANK($E13), "", SUMPRODUCT((OFFSET(대표이사_참여인력_투자현황,0,0,ROWS(대표이사_참여인력_투자현황),1)=$E13)*1, OFFSET(대표이사_참여인력_투자현황,0,28,ROWS(대표이사_참여인력_투자현황),1))) -> 0 | AB13: =IF(ISBLANK($E13), "", SUMPRODUCT((OFFSET(대표이사_참여인력_투자현황,0,0,ROWS(대표이사_참여인력_투자현황),1)=$E13)*1, OFFSET(대표이사_참여인력_투자현황,0,29,ROWS(대표이사_참여인력_투자현황),1))) -> 0 | AC13: =IFERROR(IF(ISBLANK($E13), "", SUMPRODUCT((OFFSET(대표이사_참여인력_투자현황,0,0,ROWS(대표이사_참여인력_투자현황),1)=$E13)*1, OFFSET(대표이사_참여인력_투자현황,0,15,ROWS(대표이사_참여인력_투자현황),1), OFFSET(대표이사_참여인력_투자현황,0,18,ROWS(대표이사_참여인력_투자현황),1))/Y13),0) -> 0 | AD13: =IFERROR(IF(ISBLANK($E13), "",IF(SUMPRODUCT( (OFFSET(대표이사_참여인력_투자현황,0,0,ROWS(대표이사_참여인력_투자현황),1)=$E13)*1, OFFSET(대표이사_참여인력_투자현황,0,15,ROWS(대표이사_참여인력_투자현황),1), (OFFSET(대표이사_참여인력_투자현황,0,17,ROWS(대표이사_참여인력_투자현황),1)="회수료")*1 ) = 0, 0, SUMPRODUCT( (OFFSET(대표이사_참여인력_투자현황,0,0,ROWS(대표이사_참여인력_투자현황),1)=$E13)*1, OFFSET(대표이사_참여인력_투자현황,0,15,ROWS(대표이사_참여인력_투자현황),1), (OFFSET(대표이사_참여인력_투자현황,0,17,ROWS(대표이사_참여인력_투자현황),1)="회수료")*1, OFFSET(대표이사_참여인력_투자현황,0,18,ROWS(대표이사_참여인력_투자현황),1) ) / SUMPRODUCT( (OFFSET(대표이사_참여인력_투자현황,0,0,ROWS(대표이사_참여인력_투자현황),1)=$E13)*1, OFFSET(대표이사_참여인력_투자현황,0,15,ROWS(대표이사_참여인력_투자현황),1), (OFFSET(대표이사_참여인력_투자현황,0,17,ROWS(대표이사_참여인력_투자현황),1)="회수료")*1 ) )),0) -> 0 | AE13: =IFERROR(IF(ISBLANK($E13), "",IF(SUMPRODUCT( (OFFSET(대표이사_참여인력_투자현황,0,0,ROWS(대표이사_참여인력_투자현황),1)=$E13)*1, OFFSET(대표이사_참여인력_투자현황,0,15,ROWS(대표이사_참여인력_투자현황),1), (OFFSET(대표이사_참여인력_투자현황,0,17,ROWS(대표이사_참여인력_투자현황),1)="회수료")*1 ) = 0, 0, SUMPRODUCT( (OFFSET(대표이사_참여인력_투자현황,0,0,ROWS(대표이사_참여인력_투자현황),1)=$E13)*1, OFFSET(대표이사_참여인력_투자현황,0,15,ROWS(대표이사_참여인력_투자현황),1), (OFFSET(대표이사_참여인력_투자현황,0,17,ROWS(대표이사_참여인력_투자현황),1)="회수료")*1, OFFSET(대표이사_참여인력_투자현황,0,19,ROWS(대표이사_참여인력_투자현황),1) ) / SUMPRODUCT( (OFFSET(대표이사_참여인력_투자현황,0,0,ROWS(대표이사_참여인력_투자현황),1)=$E13)*1, OFFSET(대표이사_참여인력_투자현황,0,15,ROWS(대표이사_참여인력_투자현황),1), (OFFSET(대표이사_참여인력_투자현황,0,17,ROWS(대표이사_참여인력_투자현황),1)="회수료")*1 ) )),0) -> 0 | AF13: =IF(ISBLANK($E13), "", SUMPRODUCT( (OFFSET(제안사_투자현황,0,24,ROWS(제안사_투자현황),1)=$E13)*1, (OFFSET(제안사_투자현황,0,10,ROWS(제안사_투자현황),1)<>"회수료")*1 ) ) -> 0 | AG13: =IF(ISBLANK($E13), "", SUMPRODUCT( (OFFSET(제안사_투자현황,0,24,ROWS(제안사_투자현황),1)=$E13)*1, (OFFSET(제안사_투자현황,0,10,ROWS(제안사_투자현황),1)<>"회수료")*1, OFFSET(제안사_투자현황,0,21,ROWS(제안사_투자현황),1) ) ) -> 0 | AH13: =IF(ISBLANK($E13), "", SUMPRODUCT( (OFFSET(제안사_투자현황,0,24,ROWS(제안사_투자현황),1)=$E13)*1, (OFFSET(제안사_투자현황,0,10,ROWS(제안사_투자현황),1)<>"회수료")*1, OFFSET(제안사_투자현황,0,22,ROWS(제안사_투자현황),1) ) ) -> 0
E14: 최00 | F14: 730101 | G14: 대한민국 | H14: 가인베스트먼트 | I14: 투자1본부 | J14: 투자이사 | N14: 02-0000-0000 | O14: 010-0000-0000 | Q14: 핵심운용인력 | R14: NO | S14: NO | U14: {=IF(ISBLANK($E14), "", SUMPRODUCT((OFFSET(대표이사_참여인력_경력,0,0,ROWS(대표이사_참여인력_경력),1)=$E14)*1, OFFSET(대표이사_참여인력_경력,0,13,ROWS(대표이사_참여인력_경력),1), (OFFSET(대표이사_참여인력_경력,0,14,ROWS(대표이사_참여인력_경력),1)="YES")*1) )} -> 0 | V14: {=IF(ISBLANK($E14), "", SUMPRODUCT((OFFSET(대표이사_참여인력_경력,0,0,ROWS(대표이사_참여인력_경력),1)=$E14)*1, OFFSET(대표이사_참여인력_경력,0,13,ROWS(대표이사_참여인력_경력),1), (OFFSET(대표이사_참여인력_경력,0,14,ROWS(대표이사_참여인력_경력),1)="NO")*1, (OFFSET(대표이사_참여인력_경력,0,16,ROWS(대표이사_참여인력_경력),1)="YES")*1) )} -> 0 | W14: {=IF(ISBLANK($E14), "", SUMPRODUCT((OFFSET(대표이사_참여인력_투자현황,0,0,ROWS(대표이사_참여인력_투자현황),1)=$E14)*1, ISTEXT(OFFSET(대표이사_참여인력_투자현황,0,8,ROWS(대표이사_참여인력_투자현황),1))*1))} -> 1 | X14: =IF(ISBLANK($E14), "", SUMPRODUCT((OFFSET(대표이사_참여인력_투자현황,0,0,ROWS(대표이사_참여인력_투자현황),1)=$E14)*1, (OFFSET(대표이사_참여인력_투자현황,0,17,ROWS(대표이사_참여인력_투자현황),1)="회수료")*1)) -> 1 | Y14: {=IF(ISBLANK($E14), "", SUMPRODUCT((OFFSET(대표이사_참여인력_투자현황,0,0,ROWS(대표이사_참여인력_투자현황),1)=$E14)*1, OFFSET(대표이사_참여인력_투자현황,0,15,ROWS(대표이사_참여인력_투자현황),1)))} -> 390 | Z14: =IF(ISBLANK($E14), "", SUMPRODUCT((OFFSET(대표이사_참여인력_투자현황,0,0,ROWS(대표이사_참여인력_투자현황),1)=$E14)*1, OFFSET(대표이사_참여인력_투자현황,0,21,ROWS(대표이사_참여인력_투자현황),1))) -> 200 | AA14: =IF(ISBLANK($E14), "", SUMPRODUCT((OFFSET(대표이사_참여인력_투자현황,0,0,ROWS(대표이사_참여인력_투자현황),1)=$E14)*1, OFFSET(대표이사_참여인력_투자현황,0,28,ROWS(대표이사_참여인력_투자현황),1))) -> 0 | AB14: =IF(ISBLANK($E14), "", SUMPRODUCT((OFFSET(대표이사_참여인력_투자현황,0,0,ROWS(대표이사_참여인력_투자현황),1)=$E14)*1, OFFSET(대표이사_참여인력_투자현황,0,29,ROWS(대표이사_참여인력_투자현황),1))) -> 0 | AC14: =IFERROR(IF(ISBLANK($E14), "", SUMPRODUCT((OFFSET(대표이사_참여인력_투자현황,0,0,ROWS(대표이사_참여인력_투자현황),1)=$E14)*1, OFFSET(대표이사_참여인력_투자현황,0,15,ROWS(대표이사_참여인력_투자현황),1), OFFSET(대표이사_참여인력_투자현황,0,18,ROWS(대표이사_참여인력_투자현황),1))/Y14),0) -> 0 | AD14: =IFERROR(IF(ISBLANK($E14), "",IF(SUMPRODUCT( (OFFSET(대표이사_참여인력_투자현황,0,0,ROWS(대표이사_참여인력_투자현황),1)=$E14)*1, OFFSET(대표이사_참여인력_투자현황,0,15,ROWS(대표이사_참여인력_투자현황),1), (OFFSET(대표이사_참여인력_투자현황,0,17,ROWS(대표이사_참여인력_투자현황),1)="회수료")*1 ) = 0, 0, SUMPRODUCT( (OFFSET(대표이사_참여인력_투자현황,0,0,ROWS(대표이사_참여인력_투자현황),1)=$E14)*1, OFFSET(대표이사_참여인력_투자현황,0,15,ROWS(대표이사_참여인력_투자현황),1), (OFFSET(대표이사_참여인력_투자현황,0,17,ROWS(대표이사_참여인력_투자현황),1)="회수료")*1, OFFSET(대표이사_참여인력_투자현황,0,18,ROWS(대표이사_참여인력_투자현황),1) ) / SUMPRODUCT( (OFFSET(대표이사_참여인력_투자현황,0,0,ROWS(대표이사_참여인력_투자현황),1)=$E14)*1, OFFSET(대표이사_참여인력_투자현황,0,15,ROWS(대표이사_참여인력_투자현황),1), (OFFSET(대표이사_참여인력_투자현황,0,17,ROWS(대표이사_참여인력_투자현황),1)="회수료")*1 ) )),0) -> 0 | AE14: =IFERROR(IF(ISBLANK($E14), "",IF(SUMPRODUCT( (OFFSET(대표이사_참여인력_투자현황,0,0,ROWS(대표이사_참여인력_투자현황),1)=$E14)*1, OFFSET(대표이사_참여인력_투자현황,0,15,ROWS(대표이사_참여인력_투자현황),1), (OFFSET(대표이사_참여인력_투자현황,0,17,ROWS(대표이사_참여인력_투자현황),1)="회수료")*1 ) = 0, 0, SUMPRODUCT( (OFFSET(대표이사_참여인력_투자현황,0,0,ROWS(대표이사_참여인력_투자현황),1)=$E14)*1, OFFSET(대표이사_참여인력_투자현황,0,15,ROWS(대표이사_참여인력_투자현황),1), (OFFSET(대표이사_참여인력_투자현황,0,17,ROWS(대표이사_참여인력_투자현황),1)="회수료")*1, OFFSET(대표이사_참여인력_투자현황,0,19,ROWS(대표이사_참여인력_투자현황),1) ) / SUMPRODUCT( (OFFSET(대표이사_참여인력_투자현황,0,0,ROWS(대표이사_참여인력_투자현황),1)=$E14)*1, OFFSET(대표이사_참여인력_투자현황,0,15,ROWS(대표이사_참여인력_투자현황),1), (OFFSET(대표이사_참여인력_투자현황,0,17,ROWS(대표이사_참여인력_투자현황),1)="회수료")*1 ) )),0) -> 0.51282051 | AF14: =IF(ISBLANK($E14), "", SUMPRODUCT( (OFFSET(제안사_투자현황,0,24,ROWS(제안사_투자현황),1)=$E14)*1, (OFFSET(제안사_투자현황,0,10,ROWS(제안사_투자현황),1)<>"회수료")*1 ) ) -> 0 | AG14: =IF(ISBLANK($E14), "", SUMPRODUCT( (OFFSET(제안사_투자현황,0,24,ROWS(제안사_투자현황),1)=$E14)*1, (OFFSET(제안사_투자현황,0,10,ROWS(제안사_투자현황),1)<>"회수료")*1, OFFSET(제안사_투자현황,0,21,ROWS(제안사_투자현황),1) ) ) -> 0 | AH14: =IF(ISBLANK($E14), "", SUMPRODUCT( (OFFSET(제안사_투자현황,0,24,ROWS(제안사_투자현황),1)=$E14)*1, (OFFSET(제안사_투자현황,0,10,ROWS(제안사_투자현황),1)<>"회수료")*1, OFFSET(제안사_투자현황,0,22,ROWS(제안사_투자현황),1) ) ) -> 0
E15: 성00 | F15: 700101 | G15: 대한민국 | H15: 가인베스트먼트 | I15: 투자1본부 | J15: 투자이사 | N15: 02-0000-0000 | O15: 010-0000-0000 | Q15: 관리인력 | R15: NO | S15: NO | U15: {=IF(ISBLANK($E15), "", SUMPRODUCT((OFFSET(대표이사_참여인력_경력,0,0,ROWS(대표이사_참여인력_경력),1)=$E15)*1, OFFSET(대표이사_참여인력_경력,0,13,ROWS(대표이사_참여인력_경력),1), (OFFSET(대표이사_참여인력_경력,0,14,ROWS(대표이사_참여인력_경력),1)="YES")*1) )} -> 0 | V15: {=IF(ISBLANK($E15), "", SUMPRODUCT((OFFSET(대표이사_참여인력_경력,0,0,ROWS(대표이사_참여인력_경력),1)=$E15)*1, OFFSET(대표이사_참여인력_경력,0,13,ROWS(대표이사_참여인력_경력),1), (OFFSET(대표이사_참여인력_경력,0,14,ROWS(대표이사_참여인력_경력),1)="NO")*1, (OFFSET(대표이사_참여인력_경력,0,16,ROWS(대표이사_참여인력_경력),1)="YES")*1) )} -> 0 | W15: {=IF(ISBLANK($E15), "", SUMPRODUCT((OFFSET(대표이사_참여인력_투자현황,0,0,ROWS(대표이사_참여인력_투자현황),1)=$E15)*1, ISTEXT(OFFSET(대표이사_참여인력_투자현황,0,8,ROWS(대표이사_참여인력_투자현황),1))*1))} -> 0 | X15: =IF(ISBLANK($E15), "", SUMPRODUCT((OFFSET(대표이사_참여인력_투자현황,0,0,ROWS(대표이사_참여인력_투자현황),1)=$E15)*1, (OFFSET(대표이사_참여인력_투자현황,0,17,ROWS(대표이사_참여인력_투자현황),1)="회수료")*1)) -> 0 | Y15: {=IF(ISBLANK($E15), "", SUMPRODUCT((OFFSET(대표이사_참여인력_투자현황,0,0,ROWS(대표이사_참여인력_투자현황),1)=$E15)*1, OFFSET(대표이사_참여인력_투자현황,0,15,ROWS(대표이사_참여인력_투자현황),1)))} -> 0 | Z15: =IF(ISBLANK($E15), "", SUMPRODUCT((OFFSET(대표이사_참여인력_투자현황,0,0,ROWS(대표이사_참여인력_투자현황),1)=$E15)*1, OFFSET(대표이사_참여인력_투자현황,0,21,ROWS(대표이사_참여인력_투자현황),1))) -> 0 | AA15: =IF(ISBLANK($E15), "", SUMPRODUCT((OFFSET(대표이사_참여인력_투자현황,0,0,ROWS(대표이사_참여인력_투자현황),1)=$E15)*1, OFFSET(대표이사_참여인력_투자현황,0,28,ROWS(대표이사_참여인력_투자현황),1))) -> 0 | AB15: =IF(ISBLANK($E15), "", SUMPRODUCT((OFFSET(대표이사_참여인력_투자현황,0,0,ROWS(대표이사_참여인력_투자현황),1)=$E15)*1, OFFSET(대표이사_참여인력_투자현황,0,29,ROWS(대표이사_참여인력_투자현황),1))) -> 0 | AC15: =IFERROR(IF(ISBLANK($E15), "", SUMPRODUCT((OFFSET(대표이사_참여인력_투자현황,0,0,ROWS(대표이사_참여인력_투자현황),1)=$E15)*1, OFFSET(대표이사_참여인력_투자현황,0,15,ROWS(대표이사_참여인력_투자현황),1), OFFSET(대표이사_참여인력_투자현황,0,18,ROWS(대표이사_참여인력_투자현황),1))/Y15),0) -> 0 | AD15: =IFERROR(IF(ISBLANK($E15), "",IF(SUMPRODUCT( (OFFSET(대표이사_참여인력_투자현황,0,0,ROWS(대표이사_참여인력_투자현황),1)=$E15)*1, OFFSET(대표이사_참여인력_투자현황,0,15,ROWS(대표이사_참여인력_투자현황),1), (OFFSET(대표이사_참여인력_투자현황,0,17,ROWS(대표이사_참여인력_투자현황),1)="회수료")*1 ) = 0, 0, SUMPRODUCT( (OFFSET(대표이사_참여인력_투자현황,0,0,ROWS(대표이사_참여인력_투자현황),1)=$E15)*1, OFFSET(대표이사_참여인력_투자현황,0,15,ROWS(대표이사_참여인력_투자현황),1), (OFFSET(대표이사_참여인력_투자현황,0,17,ROWS(대표이사_참여인력_투자현황),1)="회수료")*1, OFFSET(대표이사_참여인력_투자현황,0,18,ROWS(대표이사_참여인력_투자현황),1) ) / SUMPRODUCT( (OFFSET(대표이사_참여인력_투자현황,0,0,ROWS(대표이사_참여인력_투자현황),1)=$E15)*1, OFFSET(대표이사_참여인력_투자현황,0,15,ROWS(대표이사_참여인력_투자현황),1), (OFFSET(대표이사_참여인력_투자현황,0,17,ROWS(대표이사_참여인력_투자현황),1)="회수료")*1 ) )),0) -> 0 | AE15: =IFERROR(IF(ISBLANK($E15), "",IF(SUMPRODUCT( (OFFSET(대표이사_참여인력_투자현황,0,0,ROWS(대표이사_참여인력_투자현황),1)=$E15)*1, OFFSET(대표이사_참여인력_투자현황,0,15,ROWS(대표이사_참여인력_투자현황),1), (OFFSET(대표이사_참여인력_투자현황,0,17,ROWS(대표이사_참여인력_투자현황),1)="회수료")*1 ) = 0, 0, SUMPRODUCT( (OFFSET(대표이사_참여인력_투자현황,0,0,ROWS(대표이사_참여인력_투자현황),1)=$E15)*1, OFFSET(대표이사_참여인력_투자현황,0,15,ROWS(대표이사_참여인력_투자현황),1), (OFFSET(대표이사_참여인력_투자현황,0,17,ROWS(대표이사_참여인력_투자현황),1)="회수료")*1, OFFSET(대표이사_참여인력_투자현황,0,19,ROWS(대표이사_참여인력_투자현황),1) ) / SUMPRODUCT( (OFFSET(대표이사_참여인력_투자현황,0,0,ROWS(대표이사_참여인력_투자현황),1)=$E15)*1, OFFSET(대표이사_참여인력_투자현황,0,15,ROWS(대표이사_참여인력_투자현황),1), (OFFSET(대표이사_참여인력_투자현황,0,17,ROWS(대표이사_참여인력_투자현황),1)="회수료")*1 ) )),0) -> 0 | AF15: =IF(ISBLANK($E15), "", SUMPRODUCT( (OFFSET(제안사_투자현황,0,24,ROWS(제안사_투자현황),1)=$E15)*1, (OFFSET(제안사_투자현황,0,10,ROWS(제안사_투자현황),1)<>"회수료")*1 ) ) -> 0 | AG15: =IF(ISBLANK($E15), "", SUMPRODUCT( (OFFSET(제안사_투자현황,0,24,ROWS(제안사_투자현황),1)=$E15)*1, (OFFSET(제안사_투자현황,0,10,ROWS(제안사_투자현황),1)<>"회수료")*1, OFFSET(제안사_투자현황,0,21,ROWS(제안사_투자현황),1) ) ) -> 0 | AH15: =IF(ISBLANK($E15), "", SUMPRODUCT( (OFFSET(제안사_투자현황,0,24,ROWS(제안사_투자현황),1)=$E15)*1, (OFFSET(제안사_투자현황,0,10,ROWS(제안사_투자현황),1)<>"회수료")*1, OFFSET(제안사_투자현황,0,22,ROWS(제안사_투자현황),1) ) ) -> 0

Sheet 3.2 참여인력 투자현황
E4: 대표이사/참여인력 | G4: 회사경력 | I4: 부서경력 | M4: 투자 내역 | Y4: 회수투자자산 | AD4: 부실발생기준에 의거한 회계상 감액내역 | AF4: 미회수투자자산 | AJ4: 투자건 담당 기간 | AL4: 투자 계정 구분 | AM4: 담당 역할(중복선택 가능) | AS4: 투자펀드 내역(펀드계정일 경우 작성) | AY4: 기타사항 | AZ4: 검증인
E5: 성명 | F5: 주민등록번호상 앞6자리 | G5: 재직회사명 | H5: 기간 | I5: 부서명 | J5: 시작일 | K5: 종료일 | L5: 기간 | M5: 피투자기업명 | N5: 피투자기업 법인유형 | O5: 피투자기업 주요산업분야 | P5: 기업규모 | Q5: 투자자금 용도 및 사업내용 | R5: 투자일 | S5: 투자형태 | T5: 투자금액 | U5: 투자시점 취득 지분율 | V5: 회수여부 | W5: 투자 수익율 (IRR) | X5: 투자 수익율 (Multiple) | Y5: 최종회수일 | Z5: 회수총액 | AA5: 투자원금 | AB5: 회수방법 | AC5: 투자 기간 | AD5: 감액 여부 | AE5: 감액 금액 | AF5: 시장성유무 | AG5: 투자원금 | AH5: 가치 | AI5: 가치산출근거 | AJ5: 시작일 | AK5: 종료일 | AM5: 의사 결정 | AN5: 발굴 | AO5: 투자 검토 및 실행 | AP5: 사후 관리 | AQ5: 회수 | AR5: 담당 역할 상세서술 | AS5: 펀드명 | AT5: 펀드법적유형 | AU5: 인력구분 | AV5: 펀드 담당업무 시작일 | AW5: 펀드 담당업무 종료일 | AX5: 기간 (년수) | AZ5: 성명 | BA5: 소속 | BB5: 연락처
A6: =IFERROR(SUMPRODUCT((OFFSET(대표이사_참여인력_투자현황,0,0,ROWS(대표이사_참여인력_투자현황),1)=$E11)*1,OFFSET(대표이사_참여인력_투자현황,0,59,ROWS(대표이사_참여인력_투자현황),1),OFFSET(대표이사_참여인력_투자현황,0,80,ROWS(대표이사_참여인력_투자현황),1)),0)
A7: =IF(#REF!=0,IF( AND(#REF!>=#REF!,#REF!<=#REF!,#REF!=1),1,0),0) -> #REF!
A8: =IFERROR(SUMPRODUCT((OFFSET(대표이사_참여인력_투자현황,0,0,ROWS(대표이사_참여인력_투자현황),1)=$E11)*1, (OFFSET(대표이사_참여인력_투자현황,0,17,ROWS(대표이사_참여인력_투자현황),1)="회수료")*1,OFFSET(대표이사_참여인력_투자현황,0,59,ROWS(대표이사_참여인력_투자현황),1),OFFSET(대표이사_참여인력_투자현황,0,81,ROWS(대표이사_참여인력_투자현황),1)),0) -> 0
A9: =SUMPRODUCT((OFFSET(대표이사_참여인력_투자현황,0,0,ROWS(대표이사_참여인력_투자현황),1)=$E11)*1,OFFSET(대표이사_참여인력_투자현황,0,74,ROWS(대표이사_참여인력_투자현황),1)) -> 0
E11: 이00 | F11: =IF(ISBLANK($E11), "", VLOOKUP($E11,대표이사_참여인력_개요,2,FALSE)) -> 700101 | G11: 가인베스트먼트 | H11: {=IF(ISBLANK(G11),"",SUMPRODUCT( (OFFSET(대표이사_참여인력_경력,0,0,ROWS(대표이사_참여인력_경력),1)=$E11)*1, (OFFSET(대표이사_참여인력_경력,0,3,ROWS(대표이사_참여인력_경력),1)=$G11)*1, OFFSET(대표이사_참여인력_경력,0,7,ROWS(대표이사_참여인력_경력),1) ) /COUNTIFS(OFFSET(대표이사_참여인력_경력,0,0,ROWS(대표이사_참여인력_경력),1),$E11,OFFSET(대표이사_참여인력_경력,0,3,ROWS(대표이사_참여인력_경력),1),$G11))} -> 11.005479 | I11: PE본부 | J11: 41640 | K11: 42369 | L11: {=IF(ISBLANK(I11),"",SUMPRODUCT( (OFFSET(대표이사_참여인력_경력,0,0,ROWS(대표이사_참여인력_경력),1)=$E11)*1, (OFFSET(대표이사_참여인력_경력,0,3,ROWS(대표이사_참여인력_경력),1)=$G11)*1, (OFFSET(대표이사_참여인력_경력,0,8,ROWS(대표이사_참여인력_경력),1)=$I11)*1, OFFSET(대표이사_참여인력_경력,0,13,ROWS(대표이사_참여인력_경력),1) ) /COUNTIFS(OFFSET(대표이사_참여인력_경력,0,0,ROWS(대표이사_참여인력_경력),1),$E11,OFFSET(대표이사_참여인력_경력,0,3,ROWS(대표이사_참여인력_경력),1),$G11,OFFSET(대표이사_참여인력_경력,0,8,ROWS(대표이사_참여인력_경력),1),$I11 ))} -> 10.005479 | M11: A기업 | N11: 국내설립법인 | O11: 전자/반도체 | P11: 중소(벤처) | Q11: 운영자금 | R11: 41671 | S11: 보통주 | T11: 1000 | U11: 0.501 | V11: 회수료 | W11: 0.146 | X11: 1.146 | Y11: 42368 | Z11: 1146 | AA11: 500 | AB11: 코스닥 | AC11: =IF(ISBLANK(Y11),DATEDIF(R11,제안서작성기준일,"d")/365,DATEDIF(R11,Y11,"d")/365) -> 1.909589 | AD11: YES | AE11: 500 | AF11: YES | AG11: 0 | AH11: 0 | AL11: PE펀드계정투자 | AM11: YES | AN11: NO | AO11: NO | AP11: NO | AQ11: NO | AS11: 펀드1호 | AT11: PE-(가) | AU11: 대표펀드매니저 | AX11: =IF(ISBLANK(AV11),"",DATEDIF(AV11,AW11,"d")/365) | AZ11: 김00 | BA11: 가인베스트먼트㈜ | BB11: 0000-0000
E12: 이00 | F12: =IF(ISBLANK($E12), "", VLOOKUP($E12,대표이사_참여인력_개요,2,FALSE)) -> 700101 | G12: 가인베스트먼트 | H12: {=IF(ISBLANK(G12),"",SUMPRODUCT( (OFFSET(대표이사_참여인력_경력,0,0,ROWS(대표이사_참여인력_경력),1)=$E12)*1, (OFFSET(대표이사_참여인력_경력,0,3,ROWS(대표이사_참여인력_경력),1)=$G12)*1, OFFSET(대표이사_참여인력_경력,0,7,ROWS(대표이사_참여인력_경력),1) ) /COUNTIFS(OFFSET(대표이사_참여인력_경력,0,0,ROWS(대표이사_참여인력_경력),1),$E12,OFFSET(대표이사_참여인력_경력,0,3,ROWS(대표이사_참여인력_경력),1),$G12))} -> 11.005479 | I12: VC본부 | J12: 42370 | K12: 43496 | L12: {=IF(ISBLANK(I12),"",SUMPRODUCT( (OFFSET(대표이사_참여인력_경력,0,0,ROWS(대표이사_참여인력_경력),1)=$E12)*1, (OFFSET(대표이사_참여인력_경력,0,3,ROWS(대표이사_참여인력_경력),1)=$G12)*1, (OFFSET(대표이사_참여인력_경력,0,8,ROWS(대표이사_참여인력_경력),1)=$I12)*1, OFFSET(대표이사_참여인력_경력,0,13,ROWS(대표이사_참여인력_경력),1) ) /COUNTIFS(OFFSET(대표이사_참여인력_경력,0,0,ROWS(대표이사_참여인력_경력),1),$E12,OFFSET(대표이사_참여인력_경력,0,3,ROWS(대표이사_참여인력_경력),1),$G12,OFFSET(대표이사_참여인력_경력,0,8,ROWS(대표이사_참여인력_경력),1),$I12 ))} -> 5.5013699 | M12: B기업 | N12: 국내설립법인 | O12: 통신/IT서비스 | P12: 중소(벤처) | R12: 42736 | S12: 보통주 | T12: 510 | U12: 0.2 | V12: 부분회수 | W12: 0.1 | X12: 0.392 | Y12: 43465 | Z12: 200 | AA12: 100 | AB12: 코스닥 | AC12: =IF(ISBLANK(Y12),DATEDIF(R12,제안서작성기준일,"d")/365,DATEDIF(R12,Y12,"d")/365) -> 1.9972603 | AD12: NO | AF12: YES | AG12: 410 | AH12: 550 | AI12: 88,000주*@6,250=550백만원(24.12.31 종가기준) | AL12: VC고유계정투자 | AM12: YES | AN12: YES | AO12: YES | AP12: NO | AQ12: YES | AT12: VC-(가) | AU12: 핵심운용인력 | AX12: =IF(ISBLANK(AV12),"",DATEDIF(AV12,AW12,"d")/365) | AZ12: 김00 | BA12: 가인베스트먼트㈜ | BB12: 0000-0000
E13: 김00 | F13: =IF(ISBLANK($E13), "", VLOOKUP($E13,대표이사_참여인력_개요,2,FALSE)) -> 710101 | G13: 가인베스트먼트 | H13: {=IF(ISBLANK(G13),"",SUMPRODUCT( (OFFSET(대표이사_참여인력_경력,0,0,ROWS(대표이사_참여인력_경력),1)=$E13)*1, (OFFSET(대표이사_참여인력_경력,0,3,ROWS(대표이사_참여인력_경력),1)=$G13)*1, OFFSET(대표이사_참여인력_경력,0,7,ROWS(대표이사_참여인력_경력),1) ) /COUNTIFS(OFFSET(대표이사_참여인력_경력,0,0,ROWS(대표이사_참여인력_경력),1),$E13,OFFSET(대표이사_참여인력_경력,0,3,ROWS(대표이사_참여인력_경력),1),$G13))} -> 14.008219 | I13: PE투자팀 | J13: 42370 | K13: 43496 | L13: {=IF(ISBLANK(I13),"",SUMPRODUCT( (OFFSET(대표이사_참여인력_경력,0,0,ROWS(대표이사_참여인력_경력),1)=$E13)*1, (OFFSET(대표이사_참여인력_경력,0,3,ROWS(대표이사_참여인력_경력),1)=$G13)*1, (OFFSET(대표이사_참여인력_경력,0,8,ROWS(대표이사_참여인력_경력),1)=$I13)*1, OFFSET(대표이사_참여인력_경력,0,13,ROWS(대표이사_참여인력_경력),1) ) /COUNTIFS(OFFSET(대표이사_참여인력_경력,0,0,ROWS(대표이사_참여인력_경력),1),$E13,OFFSET(대표이사_참여인력_경력,0,3,ROWS(대표이사_참여인력_경력),1),$G13,OFFSET(대표이사_참여인력_경력,0,8,ROWS(대표이사_참여인력_경력),1),$I13 ))} -> 14.008219 | M13: C기업 | N13: 국내설립법인 | O13: 통신/IT서비스 | P13: 중견 | R13: 42370 | S13: 보통주 | T13: 50000 | U13: 1 | V13: 회수료 | W13: -1 | X13: 0 | Y13: 43101 | AB13: 기타 | AC13: =IF(ISBLANK(Y13),DATEDIF(R13,제안서작성기준일,"d")/365,DATEDIF(R13,Y13,"d")/365) -> 2.0027397 | AD13: YES | AE13: 50000 | AF13: NO | AH13: 0 | AL13: PE펀드계정투자 | AM13: NO | AN13: NO | AO13: NO | AP13: YES | AQ13: YES | AS13: 펀드1호 | AT13: PE-(나) | AU13: 핵심운용인력 | AX13: =IF(ISBLANK(AV13),"",DATEDIF(AV13,AW13,"d")/365) | AZ13: 김00 | BA13: 가인베스트먼트㈜ | BB13: 0000-0000
E14: 이00 | F14: =IF(ISBLANK($E14), "", VLOOKUP($E14,대표이사_참여인력_개요,2,FALSE)) -> 700101 | G14: 한국은행 | H14: {=IF(ISBLANK(G14),"",SUMPRODUCT( (OFFSET(대표이사_참여인력_경력,0,0,ROWS(대표이사_참여인력_경력),1)=$E14)*1, (OFFSET(대표이사_참여인력_경력,0,3,ROWS(대표이사_참여인력_경력),1)=$G14)*1, OFFSET(대표이사_참여인력_경력,0,7,ROWS(대표이사_참여인력_경력),1) ) /COUNTIFS(OFFSET(대표이사_참여인력_경력,0,0,ROWS(대표이사_참여인력_경력),1),$E14,OFFSET(대표이사_참여인력_경력,0,3,ROWS(대표이사_참여인력_경력),1),$G14))} -> 4.2520548 | I14: 투자1본부 | J14: 40087 | K14: 40268 | L14: {=IF(ISBLANK(I14),"",SUMPRODUCT( (OFFSET(대표이사_참여인력_경력,0,0,ROWS(대표이사_참여인력_경력),1)=$E14)*1, (OFFSET(대표이사_참여인력_경력,0,3,ROWS(대표이사_참여인력_경력),1)=$G14)*1, (OFFSET(대표이사_참여인력_경력,0,8,ROWS(대표이사_참여인력_경력),1)=$I14)*1, OFFSET(대표이사_참여인력_경력,0,13,ROWS(대표이사_참여인력_경력),1) ) /COUNTIFS(OFFSET(대표이사_참여인력_경력,0,0,ROWS(대표이사_참여인력_경력),1),$E14,OFFSET(대표이사_참여인력_경력,0,3,ROWS(대표이사_참여인력_경력),1),$G14,OFFSET(대표이사_참여인력_경력,0,8,ROWS(대표이사_참여인력_경력),1),$I14 ))} -> 4.2520548 | M14: C기업 | N14: 국내설립법인 | O14: 통신/IT서비스 | R14: 40087 | S14: 보통주 | T14: 390 | U14: 0.03 | V14: 부분회수 | W14: 0.08 | X14: 0.51282051 | Y14: 40179 | Z14: 200 | AA14: 150 | AB14: 장외매각 | AC14: =IF(ISBLANK(Y14),DATEDIF(R14,제안서작성기준일,"d")/365,DATEDIF(R14,Y14,"d")/365) -> 0.25205479 | AD14: NO | AF14: YES | AG14: 240 | AH14: 300 | AI14: 190,470주*@6,250=1,190백만원(24.12.31종가기준) | AL14: PE펀드계정투자 | AM14: NO | AN14: NO | AO14: NO | AP14: YES | AQ14: YES | AS14: 펀드1호 | AT14: PE-(다) | AU14: 핵심운용인력 | AX14: =IF(ISBLANK(AV14),"",DATEDIF(AV14,AW14,"d")/365) | AZ14: 김00 | BA14: 가인베스트먼트㈜ | BB14: 0000-0000
E15: 박00 | F15: =IF(ISBLANK($E15), "", VLOOKUP($E15,대표이사_참여인력_개요,2,FALSE)) -> 720101 | G15: 가인베스트먼트 | H15: {=IF(ISBLANK(G15),"",SUMPRODUCT( (OFFSET(대표이사_참여인력_경력,0,0,ROWS(대표이사_참여인력_경력),1)=$E15)*1, (OFFSET(대표이사_참여인력_경력,0,3,ROWS(대표이사_참여인력_경력),1)=$G15)*1, OFFSET(대표이사_참여인력_경력,0,7,ROWS(대표이사_참여인력_경력),1) ) /COUNTIFS(OFFSET(대표이사_참여인력_경력,0,0,ROWS(대표이사_참여인력_경력),1),$E15,OFFSET(대표이사_참여인력_경력,0,3,ROWS(대표이사_참여인력_경력),1),$G15))} -> 10.005479 | I15: PE본부 | J15: 41640 | K15: 42369 | L15: {=IF(ISBLANK(I15),"",SUMPRODUCT( (OFFSET(대표이사_참여인력_경력,0,0,ROWS(대표이사_참여인력_경력),1)=$E15)*1, (OFFSET(대표이사_참여인력_경력,0,3,ROWS(대표이사_참여인력_경력),1)=$G15)*1, (OFFSET(대표이사_참여인력_경력,0,8,ROWS(대표이사_참여인력_경력),1)=$I15)*1, OFFSET(대표이사_참여인력_경력,0,13,ROWS(대표이사_참여인력_경력),1) ) /COUNTIFS(OFFSET(대표이사_참여인력_경력,0,0,ROWS(대표이사_참여인력_경력),1),$E15,OFFSET(대표이사_참여인력_경력,0,3,ROWS(대표이사_참여인력_경력),1),$G15,OFFSET(대표이사_참여인력_경력,0,8,ROWS(대표이사_참여인력_경력),1),$I15 ))} -> #DIV/0! | M15: D기업 | N15: 해외출자법인 | O15: 전자/반도체 | R15: 40543 | S15: 우선주(RCPS포함) | T15: 100 | U15: 0.02 | V15: 미회수 | X15: 1.2 | Z15: 120 | AA15: 100 | AB15: 장외매각 | AD15: NO | AF15: YES | AG15: 0 | AH15: 0 | AL15: PE펀드계정투자 | AM15: NO | AN15: NO | AO15: NO | AP15: NO | AQ15: YES | AS15: A펀드 | AT15: PE-(라) | AU15: 일반운용인력 | AX15: =IF(ISBLANK(AV15),"",DATEDIF(AV15,AW15,"d")/365) | AZ15: 김00 | BA15: 가인베스트먼트㈜ | BB15: 0000-0000
E16: 박00 | F16: =IF(ISBLANK($E16), "", VLOOKUP($E16,대표이사_참여인력_개요,2,FALSE)) -> 720101 | G16: 나인베스트먼트 | H16: {=IF(ISBLANK(G16),"",SUMPRODUCT( (OFFSET(대표이사_참여인력_경력,0,0,ROWS(대표이사_참여인력_경력),1)=$E16)*1, (OFFSET(대표이사_참여인력_경력,0,3,ROWS(대표이사_참여인력_경력),1)=$G16)*1, OFFSET(대표이사_참여인력_경력,0,7,ROWS(대표이사_참여인력_경력),1) ) /COUNTIFS(OFFSET(대표이사_참여인력_경력,0,0,ROWS(대표이사_참여인력_경력),1),$E16,OFFSET(대표이사_참여인력_경력,0,3,ROWS(대표이사_참여인력_경력),1),$G16))} -> 2 | L16: {=IF(ISBLANK(I16),"",SUMPRODUCT( (OFFSET(대표이사_참여인력_경력,0,0,ROWS(대표이사_참여인력_경력),1)=$E16)*1, (OFFSET(대표이사_참여인력_경력,0,3,ROWS(대표이사_참여인력_경력),1)=$G16)*1, (OFFSET(대표이사_참여인력_경력,0,8,ROWS(대표이사_참여인력_경력),1)=$I16)*1, OFFSET(대표이사_참여인력_경력,0,13,ROWS(대표이사_참여인력_경력),1) ) /COUNTIFS(OFFSET(대표이사_참여인력_경력,0,0,ROWS(대표이사_참여인력_경력),1),$E16,OFFSET(대표이사_참여인력_경력,0,3,ROWS(대표이사_참여인력_경력),1),$G16,OFFSET(대표이사_참여인력_경력,0,8,ROWS(대표이사_참여인력_경력),1),$I16 ))} | M16: E기업 | N16: 외국법인 | O16: 통신/IT서비스 | S16: CB | T16: 150 | U16: 0.01 | V16: 미회수 | X16: 1.1333333 | Z16: 170 | AA16: 150 | AB16: 장외매각(M&A) | AD16: NO | AF16: NO | AG16: 0 | AH16: 0 | AL16: 기타 투자 | AM16: YES | AN16: YES | AO16: YES | AP16: NO | AQ16: YES | AU16: 일반운용인력 | AX16: =IF(ISBLANK(AV16),"",DATEDIF(AV16,AW16,"d")/365) | AZ16: 김00 | BA16: 가인베스트먼트㈜ | BB16: 0000-0000
E17: 최00 | F17: =IF(ISBLANK($E17), "", VLOOKUP($E17,대표이사_참여인력_개요,2,FALSE)) -> 730101 | G17: 나인베스트먼트 | H17: {=IF(ISBLANK(G17),"",SUMPRODUCT( (OFFSET(대표이사_참여인력_경력,0,0,ROWS(대표이사_참여인력_경력),1)=$E17)*1, (OFFSET(대표이사_참여인력_경력,0,3,ROWS(대표이사_참여인력_경력),1)=$G17)*1, OFFSET(대표이사_참여인력_경력,0,7,ROWS(대표이사_참여인력_경력),1) ) /COUNTIFS(OFFSET(대표이사_참여인력_경력,0,0,ROWS(대표이사_참여인력_경력),1),$E17,OFFSET(대표이사_참여인력_경력,0,3,ROWS(대표이사_참여인력_경력),1),$G17))} -> #DIV/0! | L17: {=IF(ISBLANK(I17),"",SUMPRODUCT( (OFFSET(대표이사_참여인력_경력,0,0,ROWS(대표이사_참여인력_경력),1)=$E17)*1, (OFFSET(대표이사_참여인력_경력,0,3,ROWS(대표이사_참여인력_경력),1)=$G17)*1, (OFFSET(대표이사_참여인력_경력,0,8,ROWS(대표이사_참여인력_경력),1)=$I17)*1, OFFSET(대표이사_참여인력_경력,0,13,ROWS(대표이사_참여인력_경력),1) ) /COUNTIFS(OFFSET(대표이사_참여인력_경력,0,0,ROWS(대표이사_참여인력_경력),1),$E17,OFFSET(대표이사_참여인력_경력,0,3,ROWS(대표이사_참여인력_경력),1),$G17,OFFSET(대표이사_참여인력_경력,0,8,ROWS(대표이사_참여인력_경력),1),$I17 ))} | M17: C기업 | N17: 국내설립법인 | O17: 통신/IT서비스 | S17: 보통주 | T17: 390 | U17: 0 | V17: 회수료 | X17: 0.51282051 | Z17: 200 | AA17: 150 | AB17: 코스닥 | AD17: YES | AE17: 240 | AF17: NO | AG17: 0 | AH17: 0 | AX17: =IF(ISBLANK(AV17),"",DATEDIF(AV17,AW17,"d")/365)

Sheet 3.3 참여인력 학력
E4: 대표이사/참여인력 | G4: 학력사항
E5: 성명 | F5: 주민등록번호상 앞6자리 | G5: 졸업일/수료일 | H5: 졸업/수료 학교명 | I5: 학과(전공)명 | J5: 학위명 | K5: 취득국명
E11: 이00 | F11: =IF(ISBLANK($E11),"",VLOOKUP($E11,대표이사_참여인력_개요,2,FALSE)) -> 700101 | G11: 36892 | H11: 00대학교 | I11: 경영학 | J11: 학사 | K11: 대한민국
E12: 이00 | F12: =IF(ISBLANK($E12),"",VLOOKUP($E12,대표이사_참여인력_개요,2,FALSE)) -> 700101 | G12: 35065 | H12: 00고등학교 | K12: 대한민국
F13: =IF(ISBLANK($E13),"",VLOOKUP($E13,대표이사_참여인력_개요,2,FALSE))
F14: =IF(ISBLANK($E14),"",VLOOKUP($E14,대표이사_참여인력_개요,2,FALSE))
F15: =IF(ISBLANK($E15),"",VLOOKUP($E15,대표이사_참여인력_개요,2,FALSE))
F16: =IF(ISBLANK($E16),"",VLOOKUP($E16,대표이사_참여인력_개요,2,FALSE))
F17: =IF(ISBLANK($E17),"",VLOOKUP($E17,대표이사_참여인력_개요,2,FALSE))
F18: =IF(ISBLANK($E18),"",VLOOKUP($E18,대표이사_참여인력_개요,2,FALSE))
F19: =IF(ISBLANK($E19),"",VLOOKUP($E19,대표이사_참여인력_개요,2,FALSE))
F20: =IF(ISBLANK($E20),"",VLOOKUP($E20,대표이사_참여인력_개요,2,FALSE))
F21: =IF(ISBLANK($E21),"",VLOOKUP($E21,대표이사_참여인력_개요,2,FALSE))

Sheet 3.4 대표이사&참여인력 경력
I3: 4
E4: 대표이사/참여인력 | G4: 재직회사 | J4: 회사 재직기간 | M4: 재직부서 및 담당업무 | P4: 부서 재직기간 | S4: 업무상세내역 | W4: 업무수행기간
E5: 성명 | F5: 주민등록번호상 앞6자리 | G5: 재직회사 유형 | H5: 재직회사명 | J5: 시작일 | K5: 종료일 | L5: 기간(년수) | M5: 재직시 소속부서명 | N5: 재직시 직위 | O5: 재직시 담당업무(자세히 기재) | P5: 시작일 | Q5: 종료일 | R5: 기간(년수) | S5: 투자업무 수행여부 | T5: 주요업무 수행내역 | U5: 제안펀드 신청분야 관련여부 | V5: 제안펀드 신청분야 관련성 상세서술 | W5: 시작일 | X5: 종료일 | Y5: 기간(년수)
E11: 이00 | F11: =IF(ISBLANK($E11),"",VLOOKUP($E11,대표이사_참여인력_개요,2,FALSE)) -> 700101 | G11: 금융투자기관 | H11: 가인베스트먼트 | J11: 41640 | K11: 45657 | L11: =IF(ISBLANK(J11),"",DATEDIF(J11,K11,"d")/365) -> 11.005479 | M11: PE본부 | N11: 차장 | P11: 42005 | Q11: 45657 | R11: =IF(ISBLANK(P11),"",DATEDIF(P11,Q11,"d")/365) -> 10.005479 | S11: YES | T11: PE펀드운용 | U11: YES | W11: 42005 | X11: 45657 | Y11: =IF(ISBLANK(W11),"",DATEDIF(W11,X11,"d")/365) -> 10.005479
E12: 이00 | F12: =IF(ISBLANK($E12),"",VLOOKUP($E12,대표이사_참여인력_개요,2,FALSE)) -> 700101 | G12: 금융투자기관 | H12: 가인베스트먼트 | J12: 41640 | K12: 45657 | L12: =IF(ISBLANK(J12),"",DATEDIF(J12,K12,"d")/365) -> 11.005479 | M12: VC본부 | N12: 팀장 | P12: 42005 | Q12: 45657 | R12: =IF(ISBLANK(P12),"",DATEDIF(P12,Q12,"d")/365) -> 10.005479 | S12: YES | T12: VC펀드운용 | U12: NO | W12: 42005 | X12: 45657 | Y12: =IF(ISBLANK(W12),"",DATEDIF(W12,X12,"d")/365) -> 10.005479
E13: 이00 | F13: =IF(ISBLANK($E13),"",VLOOKUP($E13,대표이사_참여인력_개요,2,FALSE)) -> 700101 | G13: 금융투자기관 | H13: 가인베스트먼트 | J13: 41640 | K13: 45657 | L13: =IF(ISBLANK(J13),"",DATEDIF(J13,K13,"d")/365) -> 11.005479 | M13: VC본부 | N13: 본부장 | P13: 41640 | Q13: 42004 | R13: =IF(ISBLANK(P13),"",DATEDIF(P13,Q13,"d")/365) -> 0.99726027 | S13: YES | T13: 기타투자업무 | U13: YES | W13: 41640 | X13: 42004 | Y13: =IF(ISBLANK(W13),"",DATEDIF(W13,X13,"d")/365) -> 0.99726027
E14: 이00 | F14: =IF(ISBLANK($E14),"",VLOOKUP($E14,대표이사_참여인력_개요,2,FALSE)) -> 700101 | G14: 기타기관 | H14: 한국은행 | J14: 40087 | K14: 41639 | L14: =IF(ISBLANK(J14),"",DATEDIF(J14,K14,"d")/365) -> 4.2520548 | M14: 투자1본부 | N14: 팀장 | P14: 40087 | Q14: 41639 | R14: =IF(ISBLANK(P14),"",DATEDIF(P14,Q14,"d")/365) -> 4.2520548 | S14: NO | T14: 비투자업무 | U14: NO | W14: 40087 | X14: 41639 | Y14: =IF(ISBLANK(W14),"",DATEDIF(W14,X14,"d")/365) -> 4.2520548
E15: 이00 | F15: =IF(ISBLANK($E15),"",VLOOKUP($E15,대표이사_참여인력_개요,2,FALSE)) -> 700101 | G15: 금융투자기관 | H15: 나인베스트먼트 | J15: 39083 | K15: 40086 | L15: =IF(ISBLANK(J15),"",DATEDIF(J15,K15,"d")/365) -> 2.7479452 | M15: PE투자팀 | N15: 차장 | P15: 39448 | Q15: 40086 | R15: =IF(ISBLANK(P15),"",DATEDIF(P15,Q15,"d")/365) -> 1.7479452 | S15: YES | T15: PE펀드운용 | U15: NO | W15: 39448 | X15: 40086 | Y15: =IF(ISBLANK(W15),"",DATEDIF(W15,X15,"d")/365) -> 1.7479452
E16: 이00 | F16: =IF(ISBLANK($E16),"",VLOOKUP($E16,대표이사_참여인력_개요,2,FALSE)) -> 700101 | G16: 금융투자기관 | H16: 나인베스트먼트 | J16: 39083 | K16: 40086 | L16: =IF(ISBLANK(J16),"",DATEDIF(J16,K16,"d")/365) -> 2.7479452 | M16: PE투자팀 | N16: 팀장 | P16: 39083 | Q16: 39447 | R16: =IF(ISBLANK(P16),"",DATEDIF(P16,Q16,"d")/365) -> 0.99726027 | S16: YES | T16: PE펀드운용 | U16: NO | W16: 39083 | X16: 39447 | Y16: =IF(ISBLANK(W16),"",DATEDIF(W16,X16,"d")/365) -> 0.99726027
E17: 김00 | F17: =IF(ISBLANK($E17),"",VLOOKUP($E17,대표이사_참여인력_개요,2,FALSE)) -> 710101 | G17: 금융투자기관 | H17: 가인베스트먼트 | J17: 40544 | K17: 45657 | L17: =IF(ISBLANK(J17),"",DATEDIF(J17,K17,"d")/365) -> 14.008219 | M17: PE투자팀 | N17: 팀장 | P17: 40544 | Q17: 45657 | R17: =IF(ISBLANK(P17),"",DATEDIF(P17,Q17,"d")/365) -> 14.008219 | S17: YES | T17: PE펀드운용 | U17: NO | W17: 40544 | X17: 45657 | Y17: =IF(ISBLANK(W17),"",DATEDIF(W17,X17,"d")/365) -> 14.008219
E18: 박00 | F18: =IF(ISBLANK($E18),"",VLOOKUP($E18,대표이사_참여인력_개요,2,FALSE)) -> 720101 | G18: 금융투자기관 | H18: 가인베스트먼트 | J18: 42005 | K18: 45657 | L18: =IF(ISBLANK(J18),"",DATEDIF(J18,K18,"d")/365) -> 10.005479 | R18: =IF(ISBLANK(P18),"",DATEDIF(P18,Q18,"d")/365) | Y18: =IF(ISBLANK(W18),"",DATEDIF(W18,X18,"d")/365)
E19: 박00 | F19: =IF(ISBLANK($E19),"",VLOOKUP($E19,대표이사_참여인력_개요,2,FALSE)) -> 720101 | G19: 기타기관 | H19: 한국은행 | J19: 40179 | K19: 42004 | L19: =IF(ISBLANK(J19),"",DATEDIF(J19,K19,"d")/365) -> 5 | R19: =IF(ISBLANK(P19),"",DATEDIF(P19,Q19,"d")/365) | Y19: =IF(ISBLANK(W19),"",DATEDIF(W19,X19,"d")/365)
E20: 박00 | F20: =IF(ISBLANK($E20),"",VLOOKUP($E20,대표이사_참여인력_개요,2,FALSE)) -> 720101 | G20: 금융투자기관 | H20: 나인베스트먼트 | J20: 39448 | K20: 40178 | L20: =IF(ISBLANK(J20),"",DATEDIF(J20,K20,"d")/365) -> 2 | R20: =IF(ISBLANK(P20),"",DATEDIF(P20,Q20,"d")/365) | Y20: =IF(ISBLANK(W20),"",DATEDIF(W20,X20,"d")/365)
R21: =IF(ISBLANK(P21),"",DATEDIF(P21,Q21,"d")/365) | Y21: =IF(ISBLANK(W21),"",DATEDIF(W21,X21,"d")/365)

Sheet 4.1 펀드거래
A1: 펀드명 | B1: 거래구분 | C1: 거래금액 | D1: 거래일자
A2: 펀드1호 | B2: 납입 | C2: -10000000000 | D2: 36161
A3: 펀드1호 | B3: 현금분배 | C3: 2700000000 | D3: 36891
A4: 펀드1호 | B4: 현금분배 | C4: 14000000000 | D4: 36892
A5: 펀드1호 | B5: 현금분배 | C5: 1000000000 | D5: 36892
A6: 펀드2호 | B6: 납입 | C6: -3000000000 | D6: 37226
A7: 펀드2호 | B7: 현금분배 | C7: 300000000 | D7: 38384
A8: 펀드2호 | B8: 현금분배 | C8: 350000000 | D8: 38477
A9: 펀드2호 | B9: 현금분배 | C9: 400000000 | D9: 38718
A10: 펀드2호 | B10: 현금분배 | C10: 150000000 | D10: 38869
A11: 펀드2호 | B11: 현금분배 | C11: 130000000 | D11: 39083
A12: 펀드2호 | B12: 현금분배 | C12: 60000000 | D12: 39234
A13: 펀드2호 | B13: 현금분배 | C13: 1800000000 | D13: 39448
... A20: 펀드4호 | B20: 현금분배 | C20: 6000000000 | D20: 41640

Sheet 4.2 핵심운용인력 변경이력
A1: 펀드명 | B1: 기재대상핵심인력 변경구분 | C1: 이름 | D1: 변경일자 | E1: 비고
A2: 펀드1호 | B2: 설립 | C2: 홍길동 | D2: 38353 | E2: 설립시(대표펀드매니저)
A3: 펀드1호 | B3: 설립 | C3: 김영희 | D3: 38353 | E3: 설립시(핵심운용인력)
A4: 펀드1호 | B4: 설립 | C4: 김영철 | D4: 38353 | E4: 설립시(핵심운용인력)
A5: 펀드1호 | B5: 유출 | C5: 홍길동 | D5: 38718 | E5: 퇴사
A6: 펀드1호 | B6: 유입 | C6: 홍영희 | D6: 38718 | E6: 변경선임
A7: 펀드1호 | B7: 유출 | C7: 김영희 | D7: 39083 | E7: 퇴사
A8: 펀드1호 | B8: 유입 | C8: 김철수 | D8: 39083 | E8: 변경선임
A9: 펀드1호 | B9: 유출 | C9: 김영철 | D9: 39448 | E9: 퇴사
A10: 펀드1호 | B10: 유입 | C10: 홍영철 | D10: 39448 | E10: 변경선임
A11: 펀드1호 | B11: 유입 | C11: 이수지 | D11: 39814 | E11: 추가선임
A12: 펀드1호 | B12: 기타 | C12: 홍영희 | D12: 39814 | E12: 펀드내 변경(일반인력->대표펀드매니저)
A13: 펀드1호 | B13: 청산시 또는 제안서기준일 | C13: 홍영희 | D13: 40543 | E13: 청산일 현재
... A19: 펀드2호 | B19: 설립 | C19: 김영철 | D19: 38353 | E19: 설립시(핵심운용인력)
A20: 펀드2호 | B20: 청산시 또는 제안서기준일 | C20: 홍길동 | D20: 40543
A21: 펀드2호 | B21: 청산시 또는 제안서기준일 | C21: 김영희 | D21: 40543
A22: 펀드2호 | B22: 청산시 또는 제안서기준일 | C22: 김영철 | D22: 40543
A23: 펀드3호 | B23: 설립 | C23: 홍길동 | D23: 38353 | E23: 설립시(대표펀드매니저)
A24: 펀드3호 | B24: 설립 | C24: 김영희 | D24: 38353 | E24: 설립시(핵심운용인력)
A25: 펀드3호 | B25: 설립 | C25: 김영철 | D25: 38353 | E25: 설립시(핵심운용인력)
A26: 펀드3호 | B26: 유출 | C26: 홍길동 | D26: 38718 | E26: 퇴사
A27: 펀드3호 | B27: 유입 | C27: 홍영희 | D27: 38718 | E27: 변경선임
A28: 펀드3호 | B28: 청산시 또는 제안서기준일 | C28: 홍영희 | D28: 40543
A29: 펀드3호 | B29: 청산시 또는 제안서기준일 | C29: 김영희 | D29: 40543
A30: 펀드3호 | B30: 청산시 또는 제안서기준일 | C30: 김영철 | D30: 40543

Sheet 5.1 업무협력 현황
D4: 업무협력 개요 | J4: 투자 및 거래 | N4: 업무협력 기간 | Q4: 증빙서류 제출여부
D5: 업무협력 사업명 | E5: 산업은행 담당부서 | F5: 산업은행 담당자 | G5: 업무협력구분 | H5: 업무협력구분 상세 | I5: 업무협력 내용 상세기술 | J5: 거래기업명 | K5: 신규 거래기업 여부 | L5: 신규 건 여부 | M5: 거래금액 (대출,투자 참여금액 등) | N5: 시작일 | O5: 종료일 | P5: 기간(년수)
E11: 넥스트라운드실 | F11: 홍길동 | G11: 투자 | H11: 제안사의 후속투자 | K11: YES | L11: YES | N11: 44562 | O11: 44927 | P11: =IF(ISBLANK(N11),"",DATEDIF(N11,O11,"d")/365) -> 1 | Q11: YES
P12: =IF(ISBLANK(N12),"",DATEDIF(N12,O12,"d")/365)
P13: =IF(ISBLANK(N13),"",DATEDIF(N13,O13,"d")/365)
P14: =IF(ISBLANK(N14),"",DATEDIF(N14,O14,"d")/365)
P15: =IF(ISBLANK(N15),"",DATEDIF(N15,O15,"d")/365)
P16: =IF(ISBLANK(N16),"",DATEDIF(N16,O16,"d")/365)
P17: =IF(ISBLANK(N17),"",DATEDIF(N17,O17,"d")/365)
P18: =IF(ISBLANK(N18),"",DATEDIF(N18,O18,"d")/365)
P19: =IF(ISBLANK(N19),"",DATEDIF(N19,O19,"d")/365)
P20: =IF(ISBLANK(N20),"",DATEDIF(N20,O20,"d")/365)
P21: =IF(ISBLANK(N21),"",DATEDIF(N21,O21,"d")/365)
P22: =IF(ISBLANK(N22),"",DATEDIF(N22,O22,"d")/365)
P23: =IF(ISBLANK(N23),"",DATEDIF(N23,O23,"d")/365)
... P48: =IF(ISBLANK(N48),"",DATEDIF(N48,O48,"d")/365)

Sheet 5.2 정책펀드 현황
D1: 산업은행 출자사업 선정년도
D4: 출자사업명 | E4: 결성일자 | F4: 펀드명 | G4: 목표결성금액 | H4: 출자약정금 총액 | I4: 누적 투자 집행액 | J4: 펀드 존속기간 | M4: 주목적 투자 달성비율(A) | R4: 주목적 투자 의무비율(B)
J5: 결성일 | K5: 투자기간 종료일 | L5: 해산(예정)일 | M5: 분야① | N5: 분야② | O5: 분야③ | P5: 분야④ | Q5: 분야⑤ | R5: 분야① | S5: 분야② | T5: 분야③ | U5: 분야④ | V5: 분야⑤
D11: '18년 성장지원펀드 | E11: 43465 | F11: 펀드A | G11: 100000 | H11: 100000 | I11: 800 | J11: 43465 | K11: 44925 | L11: 46386 | M11: 0.6 | N11: 0.7 | O11: 0.65 | R11: 0.6 | S11: 0.6 | T11: 0.6
