Workbook
Name a: '[1]4.1.펀드 거래'!$A$2:$D$217
Name KDB출자_요청액: '열제목별 목록값'!#REF!
Name 경력구분: [1]작성요령!$F$356:$F$358
Name 공동투자약정_상대방_유형: '열제목별 목록값'!$C$19:$C$23
Name 구분: '열제목별 목록값'!#REF!
Name 납입방식: '열제목별 목록값'!$C$17:$C$18
Name 담당역할: '열제목별 목록값'!$F$47:$F$52
Name 대표이사_구분: '열제목별 목록값'!$C$73:$C$75
Name 대표이사_참여인력_개요: '3.1 대표이사&참여인력 개요'!$E$11:$AG$17
Name 대표이사_참여인력_경력: '3.4 대표이사&참여인력 경력'!$E$11:$V$41
Name 대표이사_참여인력_투자현황: '3.2 참여인력 투자현황'!$E$6:$BA$146
Name 대표이사참여인력경력: '3.4 대표이사&참여인력 경력'!$E$11:$V$41
Name 동반투자자유형: '열제목별 목록값'!$C$68:$C$72
Name 리그: '열제목별 목록값'!$C$4:$C$16
Name 민간출자자인센티브: '열제목별 목록값'!#REF!
Name 법인유형: [1]작성요령!$F$344:$F$347
Name 스튜어드십코드참여여부: '열제목별 목록값'!$C$85:$C$86
Name 신청리그: '열제목별 목록값'!#REF!
Name 신청분야: '열제목별 목록값'!#REF!
Name 업무협력유형: '열제목별 목록값'!#REF!
Name 여부: '열제목별 목록값'!$C$76:$C$77
Name 운용사유형: '열제목별 목록값'!$C$53:$C$62
Name 운용사인센티브: '열제목별 목록값'!$F$71:$F$73
Name 운용인력직무구분: [1]작성요령!$F$312:$F$313
Name 일반인력_경력: '[1]3.4.2.일반운용인력 경력'!$E$11:$O$20
Name 일반인력_투자현황: '[1]3.2.2.일반운용인력 투자현황'!$E$11:$AI$66
Name 재직회사_유형: '열제목별 목록값'!$F$59:$F$60
Name 재직회사법인유형: [1]작성요령!$F$352:$F$355
Name 정책출자: '열제목별 목록값'!#REF!
Name 제안사_투자현황: '2.6 제안사 투자현황'!$E$6:$AG$237
Name 제안사_펀드현황: '2.5 제안사 펀드현황'!$E$6:$CC$16
Name 제안서작성기준일: '1.1 제안펀드'!$E$11
Name 제안펀드의_주목적투자분야와_관련성: '열제목별 목록값'!$F$61:$F$64
Name 주요업무수행내역: '열제목별 목록값'!$F$53:$F$58
Name 참여인력_개요: '[1]3.1.참여인력 개요'!$D$11:$AC$18
Name 참여인력구분: '열제목별 목록값'!$F$4:$F$7
Name 참여인력투자법인유형: [1]작성요령!$F$348:$F$351
Name 출자자유형: '열제목별 목록값'!$C$42:$C$48
Name 출자자인센티브: '열제목별 목록값'!#REF!
Name 출자자확정구분: [1]작성요령!$C$338:$C$341
Name 출자확정구분: '열제목별 목록값'!$C$49:$C$52
Name 투자계정구분: '열제목별 목록값'!$F$37:$F$41
Name 투자기업_법인유형: '열제목별 목록값'!$F$42:$F$46
Name 투자유형: '열제목별 목록값'!$F$8:$F$19
Name 펀드_거래: '4.1 펀드거래'!$A$2:$D$129
Name 펀드거래유형: '열제목별 목록값'!$F$32:$F$36
Name 펀드계정구분: '열제목별 목록값'!$F$65:$F$67
Name 펀드구분: '열제목별 목록값'!$F$68:$F$70
Name 펀드법적유형: '열제목별 목록값'!$C$24:$C$37
Name 펀드상태: '열제목별 목록값'!$C$63:$C$67
Name 펀드유형: [1]작성요령!$C$322:$C$323
Name 펀드유형__투자대상확정여부: '열제목별 목록값'!$C$40:$C$41
Name 펀드투자유형: [1]작성요령!$F$322:$F$323
Name 핵심운용인력_변경구분: '열제목별 목록값'!$C$78:$C$83
Name 핵심운용인력_변경내역: '4.2 핵심운용인력 변경이력'!$A$2:$E$92
Name 핵심운용인력변경구분: '열제목별 목록값'!$C$78:$C$83
Name 핵심인력_경력: '[1]3.4.1.핵심운용인력 경력'!$E$11:$O$22
Name 핵심인력_투자현황: '[1]3.2.1.핵심운용인력 투자현황'!$E$11:$AI$52
Name 회수구분: '열제목별 목록값'!$F$20:$F$22
Name 회수유형: '열제목별 목록값'!$F$23:$F$31

Sheet 작성요령
A1: Ⅰ.작성시 주의사항
A3: [공통사항]
A4: 제안서 작성 기준일 | C4: 45107
A5: 1. 별첨(1.1~5.1) 자료 작성전에 본 사항을 반드시 숙지할 것 (별첨번호는 Sheet별 머리글에서 확인 가능)
A6: 2. 일자는 yyyy-mm-dd, 주민등록번호 앞 6자리까지만 '111111'로 기재(외국인의 경우 생일 6자리)
A7: 사업자등록번호는 000-00-00000, 법인등록번호는 000000-0000000 형식으로 입력
A8: 3. drop down 목록이 있는 셀은 목록에 포함되어 있는 값을 입력하거나 목록에서 선택 ("열제목별 목록값" 참고)
A9: 4. 'Alt+Enter'나 연이은 공백은 입력하지 말 것
A10: 5. 연록색으로 음영처리된 셀은 자동 반영되므로 별도의 입력은 하지 말 것
A11: - 신한자산운용의 사전 허락 없이 수식을 편집한 경우는 허위사실 기재로 간주될 수 있음
A12: 6. 펀드명, 회사명 등은 정식명칭을 기입하기 바람
A13: 7. 목록행(1행~10행)은 절대 삭제 및 수정 금지. 또한, Sheet 삭제 및 명칭 변경 금지
A14: 8. 단위 : 백만원([4.1. 펀드거래] Sheet 는 단위를 "원"으로 함), %, 건
A15: 9. '열삽입'은 불가능, '행삽입'은 가능
A16: ★행삽입시 주의사항 : 지정된 범위 내에서만 행삽입하기(양식 아래에 이어서 쓰지 말 것)
... A34: Ⅱ. 용어의 정의 등
A36: 제안서 작성 기준일 | C36: 45107
A37: 설립일 | C37: 제안사 법인등기부등본 상의 설립일
A38: 펀드운용업무시작일 | C38: 제안사가 펀드법적유형 중 하나에 해당하는 자격을 가지고 있는 경우 해당 자격 취득일
C39: 자격이 필요 없는 경우는 조직개편일 등
C40: ※ M&A 또는 회사분할 등이 있었던 경우 변경전의 펀드운용업무시작일을 기재
A41: 운용펀드 최초결성일 | C41: 펀드 규약(또는 정관) 상에 제안사가 운용사로 기재된 펀드 중 아래의 '펀드' 기준을 충족하는 펀드로서,
C42: 결성일이 가장 빠른 펀드의 펀드결성일
C43: ※ PE 펀드로 지원시 PE 펀드 최초 결성일, VC 펀드로 지원시 VC펀드 최초 결성일 작성
C44: ※ M&A이전 운용 펀드와 회사분할 후 운용한 펀드는 고려하되 회사분할 이전에 청산한 펀드는 제외
A45: 펀드 | C45: ⅰ) 투자자를 사모로 모집한 경우로서 (즉, 사모펀드)
C46: ⅱ) 법적유형이 다음 중 하나에 해당하는 경우에 한하며
C47: ① PE펀드
C48: - [자본시장과금융투자업에관한법률]제9조18항7호('15.7.24자 삭제되기 전의 것을 말함)에
C49: 따른 사모투자전문회사
C50: - [자본시장과금융투자업에관한법률]제9조19항1호에 따른 경영참여형 사모집합투자기구
C51: (창업·벤처전문 경영참여형 사모집합투자기구는 제외)
C52: - [자본시장과금융투자업에관한법률]제249조의7 5항에 따른 경영참여목적 투자를 하는 제9조19항에 따른 일반사모집합투자기구 ('21.10.21일 이후 설립)
C53: - [자본시장과금융투자업에관한법률]제249조의7 5항에 따른 경영참여목적 투자를 하는 제9조19항에 따른 기관전용사모집합투자기구 ('21.10.21일 이후 설립)
C54: ② VC펀드
C55: - [벤처투자촉진에관한법률]제2조제11호에 따른 벤처투자조합
C56: - [중소기업창원지원법]제2조제5호에 따른 중소기업창업투자조합
C57: - [벤처기업육성에관한특별조치법]제4조의3에 따른 한국벤처투자조합
... C71: 펀드, 트레이딩 등 단기투자 펀드, 펀드 결성부터 해산까지의 기간이 1년 이내인 펀드는 제외함
A72: 펀드운용 | C72: 의사결정, 투자대상 발굴, 투자검토 및 투자실행, 사후관리, 회수 업무
A73: 펀드결성(예정)일 | C73: 관련 법령에 따라 감독기관에 등록한 날 또는 그 예정일.
C74: 등록이 필요없는 경우 결성총회일, 창립총회일 또는 계약체결일
A75: 투자기간종료(예정)일 | C75: 펀드 투자규약(또는 정관) 상에 기재된 투자기간 종료(예정)일.
C76: 프로젝트 펀드 등 펀드 투자규약(또는 정관) 상에 투자기간이 정해지지 않은 경우에는 제안사가 펀드운용
C77: 목적 달성을 위해 판단하고 있는 투자기간의 종료(예정)일
A78: 펀드해산(예정)일 | C78: 출자자총회에서 의결된 해산일. 또는 투자규약(또는 정관) 상의 해산 예정일
A79: 펀드 유형 | B79: 블라인드펀드 | C79: 투자대상이 확정되지 않은 펀드
B80: 프로젝트펀드 | C80: 투자대상이 확정되어 있는 펀드
A81: 펀드 상태 | B81: 결성예정 | C81: 제3자로부터 Contest 방식에 의해 펀드운용사로 선정되어 출자자를 모집하고 있는 경우
B82: 운용예정 | C82: 출자자 구성을 완료하고 투자규약(또는 정관)은 체결되었으나 납입출자금이 없는 경우
B83: 운용중 | C83: 펀드결성일의 기준에 따라 펀드를 결성한 경우로서 납입출자금 있는 경우
B84: 청산중 | C84: 해산 후 청산절차를 진행중인 경우
B85: 청산료 | C85: 청산 절차를 완료한 경우
A86: 투자 기업 법인 유형 | B86: 국내설립법인 | C86: 본점 소재지가 국내인 법인 및 국내에 법인 등기한 외국법인의 국내 지사
B87: 해외출자법인 | C87: 국내설립법인의 사업과 관련하여 동 국내설립법인이 출자한 외국법인
C88: ※ 펀드 또는 운용인력이 국내설립법인과 공동 투자하여 해외출자법인이 된 경우 포함
B89: 외국법인 국내지점 | C89: 외국환거래규정에 따라 국내에 지점 신고와 영업소를 등기를 완료한 외국법인의 국내 영업소
B90: 외국법인 | C90: 본점 소재지가 국외인 법인으로서 해외출자법인 및 외국법인 국내지점을 제외한 법인
B91: 기타 | C91: 법인이 아닌 경우
A92: 펀드 순자산 | C92: 운용 중 또는 청산 중 펀드에 대해 다음 식으로 계산된 금액
C93: [(미회수투자자산 가치총액) + (예금 등 투자자산 이외 자산총액) - (미지급 등 부채총액)]
A94: 펀드추가투자 예상금액 | C94: ⅰ) 제안서 작성 기준일이 펀드의 투자기간종료(예정)일 이전인 경우로서
C95: ⅱ) 펀드 투자규약(또는 정관)상의 투자의무비율 준수 또는 펀드운용목적 달성을 위해
C96: ⅲ) 해당 펀드를 통해 추가로 투자할 계획인 금액
A97: 참여 인력 | B97: 대표펀드 매니저 | C97: ⅰ) 핵심운용인력중 규약(또는 정관) 상에 타펀드에 대한 겸임을 금지하는 겸임금지조항 및 교체금지조항이
C98: 적용될 인력으로
C99: ⅱ) 해당 펀드를 대표하는 인력(1인 이상)
B100: 핵심운용인력 | C100: ⅰ) 제안서작성기준일 현재 제안사에 재직중이면서
C101: ⅱ) 금번 제안펀드를 책임지고 전담하여 운용할 인력으로서
C102: ⅲ) 제안펀드의 규약(또는 정관)에 기재될 예정인 인력
C103: ⅳ) 제안사는 선정 심사시 主 평가대상이 되는 핵심운용인력 3인(대표펀드매니저 1인, 핵심운용인력 2인)을
C104: 선택하여야 함 (3인 미만인 경우 별도 사유 제공 요청)
C105: * 투자기간 중 펀드의 본건 펀드를 포함하여 핵심운용인력으로 참여할 수 있는 펀드의 개수는 4개**를 초과할 수 없음 ** 투자기간이 경과하였거나, 약정총액의 60% 이상 투자하고 투자의무비율을 달성한 펀드는 미포함
B106: 일반운용인력 | C106: ⅰ) 제안서 작성 기준일 현재 제안사에 재직중이면서
C107: ⅱ) 핵심운용인력과 관리인력이 아닌 자로서
C108: ⅲ) 제안하는 펀드에서 투자대상기업 발굴, 투자검토, 투자실행, 사후관리, 회수 등
C109: 펀드운용 실무를 담당할 인력
B110: 관리인력 | C110: ⅰ) 제안서 작성 기준일 현재 제안사에 재직중이면서
C111: ⅱ) 제안펀드의 운용에는 참여하지 않으나 제안펀드를 관리(회계관리, 리스크관리 등)하는 인력
B112: ※ 참여인력은 제안서작성기준일 현재 제안사에 재직중인 것이 원칙이나 접수일 현재 재직자에 한해서도 인정
A113: 펀드 거래 유형 | B113: 납입 | C113: 출자자가 납입한 출자금
B114: 현금분배 | C114: 펀드 운용중 또는 청산시 출자자에게 현금으로 분배한 경우 그 금액
C115: (원천징수 후 금액을 분배한 경우 원천징수 후 금액)
B116: 현물분배 | C116: 펀드 청산시 출자자에게 현물로 분배한 경우 그 가치
B117: 성과보수 | C117: 펀드 운용중 또는 청산시 운용사에게 지급한 성과보수
B118: 가상분배 | C118: 운용중 또는 청산중인 펀드의 수익률 산출을 위한 가상의 거래로 펀드 순자산을 출자자 앞 분배하는 것으로
C119: 가정한 금액
A120: 기재대상핵심인력 | C120: 규약(또는 정관) 등에 기재되어 있는 인력
C121: ※ 펀드 규약(또는 정관) 상 대표펀드매니저, 핵심운용인력, 운용전문인력 등 용어를 불문하고,
C122: 본 작성요령에서 정의하는 "핵심운용인력"에 준하는 인력
C123: ※ [2.5 제안사 펀드현황] · [4.2 핵심운용인력 변경이력] 작성관련 정의
A125: ※ 핵심운용인력 자격요건
A126: - 대표펀드매니저 : 투자경력주1) 5년 이상 또는 주목적 투자대상 관련 산업경력주2) 10년 이상의 경력을 가진 자
A127: - 핵심운용인력 : 투자경력주1) 3년 이상 또는 주목적 투자대상 관련 산업경력주2) 6년 이상의 경력을 가진 자
A128: (단, 투자경력과 산업경력의 합산 산정은 불가)
A130: 주1) 투자경력 : 자산에 대한 투자 또는 자산운용을 목적으로 설립된 법인(금융투자기관) 재직 중에 ①PE 및 VC 펀드 계정을
A131: 통한 투자업무, ②PE 및 VC 고유계정을 통한 투자업무, ③기타 투자업무와 관련하여 투자대상 발굴 ∙ 투자검토 ∙ 사후관리 ∙
A132: 회수 등의 실무 수행 또는 의사결정 과정에 참여한 경력
A133: ① PE펀드 : 자본시장법에 따른 사모투자전문회사, 경영참여형 사모집합투자기구, 일반사모집합투자기구, 기관전용사모집합투자 기구
A134: VC펀드 : 중소기업창업투자조합, 한국벤처투자조합, 신기술사업투자조합, 부품 ∙ 소재전문투자조합, 농수산식품투자조합,
...

Sheet 열제목별 목록값
A1: Ⅰ. 열제목별 목록값
A3: 구분 | C3: 목록값 | E3: 구분 | F3: 목록값
A4: 리그/출자분야 | C4: 투자제안형(1,200억원이하) | E4: 참여인력구분 | F4: 대표펀드매니저
C5: 투자제안형(1,200억원초과) | F5: 핵심운용인력
C6: 비대면(루키) | F6: 일반운용인력
C7: 바이오 | F7: 관리인력
C8: 그린뉴딜 | E8: 투자유형 | F8: 보통주
C9: 멘토기업매칭출자 | F9: 우선주
C10: 스케일업 | F10: BW
C11: 버팀목 | F11: CB
C12: 소재부품장비 | F12: 기타메자닌증권
C13: 창업초기 일반 | F13: 프로젝트투자 (문화·컨텐츠 분야 한정)
F14: 일반회사채
F15: 자펀드출자
C16: 기타 | F16: 대출채권
A17: 납입방식 | C17: 수시납 | F17: 대여금
C18: 분할납 | F18: 펀드청산시자본계정투자
A19: 공동투자약정 상대방 유형 | C19: 제안사 펀드 | F19: 기타
C20: 타운용사 펀드 | E20: 회수구분 | F20: 회수료
C21: 전략적투자자(SI) | F21: 부분회수
C22: 재무적투자자(FI) | F22: 미회수
C23: 기타 | E23: 회수유형 | F23: 장외매각
A24: 펀드법적유형 | C24: 중소기업창업투자조합 | F24: 장외매각(M&A)
C25: 신기술사업투자조합 | F25: 코스닥
C26: 벤처투자조합 | F26: 코스피
C27: 부품소재전문투자조합 | F27: 환매
C28: 농식품투자조합 | F28: 운용사자본계정매각
C29: 사모투자전문회사 | F29: 상환
C30: 사모투자회사 | F30: 현물분배
C31: 사모투자신탁 | F31: 기타
C32: 기업구조조정투자회사 | E32: 펀드거래유형 | F32: 납입
C33: 기업재무안정 경영참여형 사모집합투자기구 | F33: 현금분배
C34: 해외자원개발투자전문회사 | F34: 현물분배
C35: 경영참여형 사모집합투자기구 | F35: 성과보수
C36: 창업·벤처전문 경영참여형 사모집합투자기구 | F36: 가상분배
C37: 기타 주식 등 투자펀드 | E37: 투자계정구분 | F37: PE펀드계정투자
C38: 일반사모집합투자기구 | F38: VC펀드계정투자
C39: 기관전용사모집합투자기구 | F39: PE고유계정투자
A40: 펀드유형 (투자대상확정여부) | C40: 블라인드펀드 | F40: VC고유계정투자
C41: 프로젝트펀드 | F41: 기타 투자
A42: 출자자유형 | C42: 제안사(GP) | E42: 투자기업 법인유형 | F42: 국내설립법인
C43: 계열회사 및 특수관계인 | F43: 해외출자법인
C44: 펀드참여인력(핵심운용인력) | F44: 외국법인국내지점
C45: 정책기관(정부,지자체,공공기관 등) | F45: 외국법인
C46: 신한혁신성장펀드 | F46: 기타(부동산 및 부실채권 자산의 합계액이 자산총액 50% 이상인 법인 등)
C47: 민간출자자(연기금, 공제회 포함) | E47: 담당역할 | F47: M&A자문
C48: 산업은행 | F48: 투자컨설팅
A49: 출자확정구분 | C49: LOC | F49: 부동산 및 부실채권
C50: 운용사 | F50: LP업무
C51: LOI
C52: 미정 | F52: 기타
A53: 운용사유형 | C53: 중소기업창업투자회사 | E53: 주요업무수행내역 | F53: PE펀드운용
C54: 신기술사업금융회사 | F54: VC펀드운용
C55: 자산운용사 | F55: PE고유계정투자
C56: 은행 | F56: VC고유계정투자
C57: 증권사 | F57: 기타투자업무
C58: 중기특화금융투자회사 | F58: 비투자업무
C59: 금융회사계열 PEF 운용사 | E59: 재직회사 유형 | F59: 금융투자기관
C60: 독립 PEF 운용사 | F60: 기타기관
C61: 유한회사형 운용사 | E61: 기업규모 | F61: 중소(벤처)
C62: 기타 | F62: 중견
A63: 펀드상태 | C63: 결성예정 | F63: 대기업
C64: 운용예정 | F64: 기타
C65: 운용중 | E65: 펀드계정구분 | F65: PE펀드계정
C66: 청산중 | F66: VC펀드계정
C67: 청산료 | F67: 기타 주식등 투자펀드계정
A68: 동반투자자유형 | C68: 제안사내 (타)펀드 | E68: 펀드구분 | F68: PE펀드
C69: 타운용사 펀드 | F69: VC펀드
C70: 제안사 자본계정 | F70: 기타 주식등 투자펀드
C71: 타운용사 자본계정 | E71: 운용사 인센티브 | F71: M&A 회수 실적
C72: 기타 | F72: 초기기업 후속투자 실적
A73: 대표이사 구분 | C73: 대표이사 | F73: 보통주 투자 실적
C74: 공동(각자)대표이사
C75: 사업부문 대표
A76: 여부 | C76: YES
C77: NO
A78: 핵심운용인력 변경구분 | C78: 설립
C79: 유출
C80: 유입
C82: 기타
C83: 청산시 또는 제안서기준일
A84: 스튜어드십 코드 참여여부 | C84: 참여
C85: 참여 예정
C86: 미참여

Sheet 1.1 제안펀드
E4: 제안서 작성 기준일 | F4: 제안펀드 | O4: 보수 | R4: 인센티브 | S4: 제안사 | Y4: 제안펀드 담당자
F5: 펀드명 | G5: 투자기구 | H5: 운용사 주목적 제안 분야 | I5: 펀드규모 (백만원) | J5: 정책출자 확정액 (백만원) | K5: 존속기간 (년) | L5: 투자기간 (년) | M5: 납입방식 | N5: 목표 수익율 (IRR) | O5: 기준 수익률 | P5: 성과보수제안 | Q5: 관리보수제안 | R5: 의무투자금액 초과투자실적 (선택) | S5: 회사명 | T5: 법인등록번호 | U5: 출자약정예상액 | V5: 우선 손실 충당 비율 | W5: 참여 핵심 운용 인력수 | X5: 참여 일반 운용 인력수 | Y5: 성명 | Z5: 소속 | AA5: 연락처
E11: 45107 | F11: A | G11: 경영참여형 사모집합투자기구

Sheet 1.2 예상출자내역
E4: 출자자유형 | F4: 출자자명 | G4: 출자확정구분 | H4: 출자약정예상액 | I4: 지분율 | J4: 펀드 전략 연계 SI 여부 | K4: 우선손실충당비율 | L4: 우선손실충당예상액 | M4: 비고
E11: 정책기관(정부,지자체,공공기관 등) | I11: =IF(OR(ISBLANK(H11),0),"",H11/$H$23) | L11: =IF(OR(ISBLANK(K11),0),"",'1.1 제안펀드'!$I$11*K11)
E12: 신한혁신성장펀드 | F12: 신한혁신성장일반사모혼합자산투자신탁제1호 | G12: 미정 | I12: =IF(OR(ISBLANK(H12),0),"",H12/$H$23) | J12: NO | L12: =IF(OR(ISBLANK(K12),0),"",'1.1 제안펀드'!$I$11*K12) | M12: 제안/신청금액 기재
E13: 산업은행 | F13: 산업은행 | G13: 미정 | J13: NO | M13: 제안/신청금액 기재
E14: 민간출자자(연기금, 공제회 포함) | G14: 운용사 | I14: =IF(OR(ISBLANK(H14),0),"",H14/$H$23) | L14: =IF(OR(ISBLANK(K14),0),"",'1.1 제안펀드'!$I$11*K14)
E15: 민간출자자(연기금, 공제회 포함) | G15: 운용사 | I15: =IF(OR(ISBLANK(H15),0),"",H15/$H$23) | L15: =IF(OR(ISBLANK(K15),0),"",'1.1 제안펀드'!$I$11*K15)
E16: 민간출자자(연기금, 공제회 포함) | I16: =IF(OR(ISBLANK(H16),0),"",H16/$H$23) | L16: =IF(OR(ISBLANK(K16),0),"",'1.1 제안펀드'!$I$11*K16)
E17: 민간출자자(연기금, 공제회 포함) | I17: =IF(OR(ISBLANK(H17),0),"",H17/$H$23) | L17: =IF(OR(ISBLANK(K17),0),"",'1.1 제안펀드'!$I$11*K17)
E18: 민간출자자(연기금, 공제회 포함) | I18: =IF(OR(ISBLANK(H18),0),"",H18/$H$23) | L18: =IF(OR(ISBLANK(K18),0),"",'1.1 제안펀드'!$I$11*K18)
E19: 민간출자자(연기금, 공제회 포함) | I19: =IF(OR(ISBLANK(H19),0),"",H19/$H$23) | L19: =IF(OR(ISBLANK(K19),0),"",'1.1 제안펀드'!$I$11*K19)
E20: 제안사 | I20: =IF(OR(ISBLANK(H20),0),"",H20/$H$23) | L20: =IF(OR(ISBLANK(K20),0),"",'1.1 제안펀드'!$I$11*K20)
G23: 결성 예정액 | H23: ='1.1 제안펀드'!I11 -> 0
G24: 확정금액 | H24: =H27+H28 -> 0
G25: 확정비중 | H25: =IF(H23=0,"",H24/H23)
G27: 운용사 | H27: =SUMIF(G11:G20,G27,H11:H20) -> 0
G28: LOC | H28: =SUMIF(G11:G20,G28,H11:H20) -> 0

Sheet 2.1 제안사 개요
E4: 기본정보 | L4: 업력 | P4: 주소 | S4: 인원 | V4: 제안사 내규 현황 | AB4: 담당자 | AI4: 청산완료 펀드 | AR4: 운용(결성)예정/운용중/청산중 펀드 | BA4: PE펀드계정 투자 | BI4: VC펀드계정 투자 | BQ4: 기타 주식등 투자펀드 계정
E5: 제안사명 | F5: 법인 등록번호 | G5: 사업자 등록번호 | H5: 대표자명 | I5: 제안사유형 | J5: 총발행주식수 | K5: 스튜어드십 코드 참여여부 | L5: 설립일 | M5: 펀드운용 업무 시작일 | N5: 운용펀드 최초결성일 | P5: 우편번호 | Q5: 주소 | R5: 주소상세 | S5: 전체 인원수 | T5: 펀드운용 담당 인력수 | U5: 자본계정 투자 담당인력수 | V5: 리스크관리 기준 보유 유무 | W5: 리스크관리전담조직 유무 | X5: 내부통제 기준 보유 유무 | Y5: 내부통제 전담조식 유무 | Z5: 운용인력앞성과보수 지급규정 보유 유무 | AA5: 규정상 성과보수 최대지급 비율 | AB5: 성명 | AC5: 부서 | AD5: 직위 | AE5: 전화 | AF5: 팩스 | AG5: 휴대전화 번호 | AH5: Email | AI5: 펀드수 | AJ5: 약정총액 | AK5: 납입총액 | AL5: 투자총액 | AM5: 회수총액 | AN5: 출자자앞 분배총액 | AO5: 성과보수 지급총액 | AP5: 납입총액 가중평균 펀드 수익률 (IRR) | AQ5: 펀드 수익율 (Multiple) | AR5: 펀드수 | AS5: 약정총액 | AT5: 납입총액 | AU5: 투자총액 | AV5: 회수총액 | AW5: 출자자앞 분배총액 | AX5: 성과보수 지급총액 | AY5: 펀드 순자산 | AZ5: 추가투자 예상금액 | BA5: 투자건수 | BB5: 투자건수 (회수료) | BC5: 투자총액 | BD5: 회수총액 | BE5: 미회수 투자자산 투자원금 총액 | BF5: 미회수 투자자산 가치총액 | BG5: 투자금액 가중평균 수익율 | BH5: 투자금액 가중평균 수익율 (회수료) | BI5: 투자건수 | BJ5: 투자건수 (회수료) | BK5: 투자총액 | BL5: 회수총액 | BM5: 미회수 투자자산 투자원금 총액 | BN5: 미회수 투자자산 가치총액 | BO5: 투자금액 가중수익율 | BP5: 투자금액 가중평균 수익율 (회수료) | BQ5: 투자건수 | BR5: 투자건수 (회수료) | BS5: 투자총액 | BT5: 회수총액 | BU5: 미회수 투자자산 투자원금 총액 | BV5: 미회수 투자자산 가치총액 | BW5: 투자금액 가중수익율 | BX5: 투자금액 가중평균 수익율 (회수료)
AI11: =SUMPRODUCT( (OFFSET(제안사_펀드현황,0,3,ROWS(제안사_펀드현황),1)="청산료")*1 ) -> 0 | AJ11: =SUMPRODUCT( (OFFSET(제안사_펀드현황,0,3,ROWS(제안사_펀드현황),1)="청산료")*1, OFFSET(제안사_펀드현황,0,10,ROWS(제안사_펀드현황),1) ) -> 0 | AK11: =SUMPRODUCT( (OFFSET(제안사_펀드현황,0,3,ROWS(제안사_펀드현황),1)="청산료")*1, OFFSET(제안사_펀드현황,0,11,ROWS(제안사_펀드현황),1) ) -> 0 | AL11: =SUMPRODUCT( (OFFSET(제안사_펀드현황,0,3,ROWS(제안사_펀드현황),1)="청산료")*1, OFFSET(제안사_펀드현황,0,22,ROWS(제안사_펀드현황),1) ) -> 0 | AM11: =SUMPRODUCT( (OFFSET(제안사_펀드현황,0,3,ROWS(제안사_펀드현황),1)="청산료")*1, OFFSET(제안사_펀드현황,0,23,ROWS(제안사_펀드현황),1) ) -> 0 | AN11: =SUMPRODUCT( (OFFSET(제안사_펀드현황,0,3,ROWS(제안사_펀드현황),1)="청산료")*1, OFFSET(제안사_펀드현황,0,26,ROWS(제안사_펀드현황),1) ) -> 0 | AO11: =SUMPRODUCT( (OFFSET(제안사_펀드현황,0,3,ROWS(제안사_펀드현황),1)="청산료")*1, OFFSET(제안사_펀드현황,0,27,ROWS(제안사_펀드현황),1) ) -> 0 | AP11: =SUMPRODUCT( (OFFSET(제안사_펀드현황,0,3,ROWS(제안사_펀드현황),1)="청산료")*1, OFFSET(제안사_펀드현황,0,11,ROWS(제안사_펀드현황),1), OFFSET(제안사_펀드현황,0,19,ROWS(제안사_펀드현황),1) )/AK11 -> #DIV/0! | AQ11: =(AN11+AO11)/AK11 -> #DIV/0! | AR11: =SUMPRODUCT( (OFFSET(제안사_펀드현황,0,3,ROWS(제안사_펀드현황),1)<>"청산료")*1, (OFFSET(제안사_펀드현황,0,3,ROWS(제안사_펀드현황),1)<>"")*1 ) -> 0 | AS11: =SUMPRODUCT( (OFFSET(제안사_펀드현황,0,3,ROWS(제안사_펀드현황),1)<>"청산료")*1, (OFFSET(제안사_펀드현황,0,3,ROWS(제안사_펀드현황),1)<>"")*1, OFFSET(제안사_펀드현황,0,10,ROWS(제안사_펀드현황),1) ) -> 0 | AT11: =SUMPRODUCT( (OFFSET(제안사_펀드현황,0,3,ROWS(제안사_펀드현황),1)<>"청산료")*1, (OFFSET(제안사_펀드현황,0,3,ROWS(제안사_펀드현황),1)<>"")*1, OFFSET(제안사_펀드현황,0,11,ROWS(제안사_펀드현황),1) ) -> 0 | AU11: =SUMPRODUCT( (OFFSET(제안사_펀드현황,0,3,ROWS(제안사_펀드현황),1)<>"청산료")*1, (OFFSET(제안사_펀드현황,0,3,ROWS(제안사_펀드현황),1)<>"")*1, OFFSET(제안사_펀드현황,0,22,ROWS(제안사_펀드현황),1) ) -> 0 | AV11: =SUMPRODUCT( (OFFSET(제안사_펀드현황,0,3,ROWS(제안사_펀드현황),1)<>"청산료")*1, (OFFSET(제안사_펀드현황,0,3,ROWS(제안사_펀드현황),1)<>"")*1, OFFSET(제안사_펀드현황,0,23,ROWS(제안사_펀드현황),1) ) -> 0 | AW11: =SUMPRODUCT( (OFFSET(제안사_펀드현황,0,3,ROWS(제안사_펀드현황),1)<>"청산료")*1, (OFFSET(제안사_펀드현황,0,3,ROWS(제안사_펀드현황),1)<>"")*1, OFFSET(제안사_펀드현황,0,26,ROWS(제안사_펀드현황),1) ) -> 0 | AX11: =SUMPRODUCT( (OFFSET(제안사_펀드현황,0,3,ROWS(제안사_펀드현황),1)<>"청산료")*1, (OFFSET(제안사_펀드현황,0,3,ROWS(제안사_펀드현황),1)<>"")*1, OFFSET(제안사_펀드현황,0,27,ROWS(제안사_펀드현황),1) ) -> 0 | AY11: =SUMPRODUCT( (OFFSET(제안사_펀드현황,0,3,ROWS(제안사_펀드현황),1)<>"청산료")*1, (OFFSET(제안사_펀드현황,0,3,ROWS(제안사_펀드현황),1)<>"")*1, OFFSET(제안사_펀드현황,0,33,ROWS(제안사_펀드현황),1) ) -> 0 | AZ11: =SUMPRODUCT( (OFFSET(제안사_펀드현황,0,2,ROWS(제안사_펀드현황),1)<>"청산료")*1, (OFFSET(제안사_펀드현황,0,2,ROWS(제안사_펀드현황),1)<>"")*1, OFFSET(제안사_펀드현황,0,34,ROWS(제안사_펀드현황),1) ) -> 0 | BA11: =SUMPRODUCT( (OFFSET(제안사_투자현황,0,0,ROWS(제안사_투자현황),1)="PE펀드계정")*1 ) -> 0 | BB11: =SUMPRODUCT( (OFFSET(제안사_투자현황,0,0,ROWS(제안사_투자현황),1)="PE펀드계정")*1, (OFFSET(제안사_투자현황,0,10,ROWS(제안사_투자현황),1)="회수료")*1 ) -> 0 | BC11: =SUMPRODUCT( (OFFSET(제안사_투자현황,0,0,ROWS(제안사_투자현황),1)="PE펀드계정")*1, OFFSET(제안사_투자현황,0,9,ROWS(제안사_투자현황),1) ) -> 0 | BD11: =SUMPRODUCT( (OFFSET(제안사_투자현황,0,0,ROWS(제안사_투자현황),1)="PE펀드계정")*1, OFFSET(제안사_투자현황,0,14,ROWS(제안사_투자현황),1) ) -> 0 | BE11: =SUMPRODUCT( (OFFSET(제안사_투자현황,0,0,ROWS(제안사_투자현황),1)="PE펀드계정")*1, OFFSET(제안사_투자현황,0,21,ROWS(제안사_투자현황),1) ) -> 0 | BF11: =SUMPRODUCT( (OFFSET(제안사_투자현황,0,0,ROWS(제안사_투자현황),1)="PE펀드계정")*1, OFFSET(제안사_투자현황,0,22,ROWS(제안사_투자현황),1) ) -> 0 | BG11: =IF(BC11=0,"N/A", SUMPRODUCT( (OFFSET(제안사_투자현황,0,0,ROWS(제안사_투자현황),1)="PE펀드계정")*1, OFFSET(제안사_투자현황,0,9,ROWS(제안사_투자현황),1), OFFSET(제안사_투자현황,0,11,ROWS(제안사_투자현황),1) ) / BC11) -> N/A | BH11: =IF( SUMPRODUCT( (OFFSET(제안사_투자현황,0,0,ROWS(제안사_투자현황),1)="PE펀드계정")*1, OFFSET(제안사_투자현황,0,9,ROWS(제안사_투자현황),1), (OFFSET(제안사_투자현황,0,10,ROWS(제안사_투자현황),1)="회수료")*1) = 0, "N/A", SUMPRODUCT( (OFFSET(제안사_투자현황,0,0,ROWS(제안사_투자현황),1)="PE펀드계정")*1, OFFSET(제안사_투자현황,0,9,ROWS(제안사_투자현황),1), (OFFSET(제안사_투자현황,0,10,ROWS(제안사_투자현황),1)="회수료")*1, OFFSET(제안사_투자현황,0,11,ROWS(제안사_투자현황),1) ) / SUMPRODUCT( (OFFSET(제안사_투자현황,0,0,ROWS(제안사_투자현황),1)="PE펀드계정")*1, OFFSET(제안사_투자현황,0,9,ROWS(제안사_투자현황),1), (OFFSET(제안사_투자현황,0,10,ROWS(제안사_투자현황),1)="회수료")*1) ) -> N/A | BI11: =SUMPRODUCT( (OFFSET(제안사_투자현황,0,0,ROWS(제안사_투자현황),1)="VC펀드계정")*1 ) -> 0 | BJ11: =SUMPRODUCT( (OFFSET(제안사_투자현황,0,0,ROWS(제안사_투자현황),1)="VC펀드계정")*1, (OFFSET(제안사_투자현황,0,10,ROWS(제안사_투자현황),1)="회수료")*1 ) -> 0 | BK11: =SUMPRODUCT( (OFFSET(제안사_투자현황,0,0,ROWS(제안사_투자현황),1)="VC펀드계정")*1, OFFSET(제안사_투자현황,0,9,ROWS(제안사_투자현황),1) ) -> 0 | BL11: =SUMPRODUCT( (OFFSET(제안사_투자현황,0,0,ROWS(제안사_투자현황),1)="VC펀드계정")*1, OFFSET(제안사_투자현황,0,14,ROWS(제안사_투자현황),1) ) -> 0 | BM11: =SUMPRODUCT( (OFFSET(제안사_투자현황,0,0,ROWS(제안사_투자현황),1)="VC펀드계정")*1, OFFSET(제안사_투자현황,0,21,ROWS(제안사_투자현황),1) ) -> 0 | BN11: =SUMPRODUCT( (OFFSET(제안사_투자현황,0,0,ROWS(제안사_투자현황),1)="VC펀드계정")*1, OFFSET(제안사_투자현황,0,22,ROWS(제안사_투자현황),1) ) -> 0 | BO11: =IF(BK11=0,"N/A", SUMPRODUCT( (OFFSET(제안사_투자현황,0,0,ROWS(제안사_투자현황),1)="VC펀드계정")*1, OFFSET(제안사_투자현황,0,9,ROWS(제안사_투자현황),1), OFFSET(제안사_투자현황,0,11,ROWS(제안사_투자현황),1) ) / BK11) -> N/A | BP11: =IF( SUMPRODUCT( (OFFSET(제안사_투자현황,0,0,ROWS(제안사_투자현황),1)="VC펀드계정")*1, OFFSET(제안사_투자현황,0,9,ROWS(제안사_투자현황),1), (OFFSET(제안사_투자현황,0,10,ROWS(제안사_투자현황),1)="회수료")*1) = 0, "N/A", SUMPRODUCT( (OFFSET(제안사_투자현황,0,0,ROWS(제안사_투자현황),1)="VC펀드계정")*1, OFFSET(제안사_투자현황,0,9,ROWS(제안사_투자현황),1), (OFFSET(제안사_투자현황,0,10,ROWS(제안사_투자현황),1)="회수료")*1, OFFSET(제안사_투자현황,0,11,ROWS(제안사_투자현황),1) ) / SUMPRODUCT( (OFFSET(제안사_투자현황,0,0,ROWS(제안사_투자현황),1)="VC펀드계정")*1, OFFSET(제안사_투자현황,0,9,ROWS(제안사_투자현황),1), (OFFSET(제안사_투자현황,0,10,ROWS(제안사_투자현황),1)="회수료")*1) ) -> N/A | BQ11: =SUMPRODUCT( (OFFSET(제안사_투자현황,0,0,ROWS(제안사_투자현황),1)="기타 주식등 투자펀드계정")*1 ) -> 0 | BR11: =SUMPRODUCT( (OFFSET(제안사_투자현황,0,0,ROWS(제안사_투자현황),1)="기타 주식등 투자펀드계정")*1, (OFFSET(제안사_투자현황,0,10,ROWS(제안사_투자현황),1)="회수료")*1 ) -> 0 | BS11: =SUMPRODUCT( (OFFSET(제안사_투자현황,0,0,ROWS(제안사_투자현황),1)="기타 주식등 투자펀드계정")*1, OFFSET(제안사_투자현황,0,9,ROWS(제안사_투자현황),1) ) -> 0 | BT11: =SUMPRODUCT( (OFFSET(제안사_투자현황,0,0,ROWS(제안사_투자현황),1)="기타 주식등 투자펀드계정")*1, OFFSET(제안사_투자현황,0,14,ROWS(제안사_투자현황),1) ) -> 0 | BU11: =SUMPRODUCT( (OFFSET(제안사_투자현황,0,0,ROWS(제안사_투자현황),1)="기타 주식등 투자펀드계정")*1, OFFSET(제안사_투자현황,0,21,ROWS(제안사_투자현황),1) ) -> 0 | BV11: =SUMPRODUCT( (OFFSET(제안사_투자현황,0,0,ROWS(제안사_투자현황),1)="기타 주식등 투자펀드계정")*1, OFFSET(제안사_투자현황,0,22,ROWS(제안사_투자현황),1) ) -> 0 | BW11: =IF(BS11=0,"N/A", SUMPRODUCT( (OFFSET(제안사_투자현황,0,0,ROWS(제안사_투자현황),1)="기타 주식등 투자펀드계정")*1, OFFSET(제안사_투자현황,0,9,ROWS(제안사_투자현황),1), OFFSET(제안사_투자현황,0,11,ROWS(제안사_투자현황),1) ) / BS11) -> N/A | BX11: =IF( SUMPRODUCT( (OFFSET(제안사_투자현황,0,0,ROWS(제안사_투자현황),1)="기타 주식등 투자펀드계정")*1, OFFSET(제안사_투자현황,0,9,ROWS(제안사_투자현황),1), (OFFSET(제안사_투자현황,0,10,ROWS(제안사_투자현황),1)="회수료")*1) = 0, "N/A", SUMPRODUCT( (OFFSET(제안사_투자현황,0,0,ROWS(제안사_투자현황),1)="기타 주식등 투자펀드계정")*1, OFFSET(제안사_투자현황,0,9,ROWS(제안사_투자현황),1), (OFFSET(제안사_투자현황,0,10,ROWS(제안사_투자현황),1)="회수료")*1, OFFSET(제안사_투자현황,0,11,ROWS(제안사_투자현황),1) ) / SUMPRODUCT( (OFFSET(제안사_투자현황,0,0,ROWS(제안사_투자현황),1)="기타 주식등 투자펀드계정")*1, OFFSET(제안사_투자현황,0,9,ROWS(제안사_투자현황),1), (OFFSET(제안사_투자현황,0,10,ROWS(제안사_투자현황),1)="회수료")*1) ) -> N/A

Sheet 2.2 제안사 재무현황
E4: (가)결산일자 | F4: 총자산 | G4: 유동자산 | H4: 총부채 | I4: 유동부채 | J4: 자기자본 | K4: 자본금 | L4: 영업수익 | M4: 영업비용 | N4: 당기순이익 | O4: 유동비율 | P4: 부채비율 | Q4: 자본충실률 | R4: 영업수지율 | S4: 자기자본순이익률
E11: 44926 | O11: =G11/I11 -> #DIV/0! | P11: =H11/J11 -> #DIV/0! | Q11: =J11/K11 -> #DIV/0! | R11: =L11/M11 -> #DIV/0! | S11: =N11/J11 -> #DIV/0!
E12: 44561 | O12: =G12/I12 -> #DIV/0! | P12: =H12/J12 -> #DIV/0! | Q12: =J12/K12 -> #DIV/0! | R12: =L12/M12 -> #DIV/0! | S12: =N12/J12 -> #DIV/0!
E13: 44196 | O13: =G13/I13 -> #DIV/0! | P13: =H13/J13 -> #DIV/0! | Q13: =J13/K13 -> #DIV/0! | R13: =L13/M13 -> #DIV/0! | S13: =N13/J13 -> #DIV/0!
E14: 43830 | O14: =G14/I14 -> #DIV/0! | P14: =H14/J14 -> #DIV/0! | Q14: =J14/K14 -> #DIV/0! | R14: =L14/M14 -> #DIV/0! | S14: =N14/J14 -> #DIV/0!
E15: 43465 | O15: =G15/I15 -> #DIV/0! | P15: =H15/J15 -> #DIV/0! | Q15: =J15/K15 -> #DIV/0! | R15: =L15/M15 -> #DIV/0! | S15: =N15/J15 -> #DIV/0!

Sheet 2.3 제안사 주주현황
E4: 주주명 | F4: 보유주식수 | G4: 지분율 | H4: 최대주주와의 관계 | I4: 핵심운용인력 여부 | J4: 비고
G11: =IF(OR(ISBLANK(F11),0),"",F11/'2.1 제안사 개요'!$J$11)
G12: =IF(OR(ISBLANK(F12),0),"",F12/'2.1 제안사 개요'!$J$11)
G13: =IF(OR(ISBLANK(F13),0),"",F13/'2.1 제안사 개요'!$J$11)
G14: =IF(OR(ISBLANK(F14),0),"",F14/'2.1 제안사 개요'!$J$11)
G15: =IF(OR(ISBLANK(F15),0),"",F15/'2.1 제안사 개요'!$J$11)
G16: =IF(OR(ISBLANK(F16),0),"",F16/'2.1 제안사 개요'!$J$11)
G17: =IF(OR(ISBLANK(F17),0),"",F17/'2.1 제안사 개요'!$J$11)
G18: =IF(OR(ISBLANK(F18),0),"",F18/'2.1 제안사 개요'!$J$11)

Sheet 2.4 제안사 대표이사 변경이력
E4: 제안사 대표이사 | G4: 대표이사 재직기간 | J4: 비고
E5: 구분 | F5: 이름 | G5: 시작일 | H5: 종료일 | I5: 기간(년수)
I11: =IF(ISBLANK(G11),"",DATEDIF(G11,H11,"d")/365)
I12: =IF(ISBLANK(G12),"",DATEDIF(G12,H12,"d")/365)

Sheet 2.5 제안사 펀드현황
E4: 펀드명칭 | H4: 펀드개요 | O4: 펀드규모 | Q4: 펀드 존속기간 | U4: 보수 | X4: 펀드수익율 | Z4: 투자 및 회수 | AC4: 미회수투자자산 | AE4: 분배 및 비용 | AJ4: 예금 등 투자자산 이외 자산총액 | AK4: 미지급등 부채총액 | AL4: 펀드 순자산 | AM4: 추가투자 예상금액 | AN4: 핵심운용인력1 (최초규약상) | AR4: 핵심운용인력2 (최초규약상) | AV4: 핵심운용인력3 (최초규약상) | AZ4: 최초규약상 핵심 운용인력 수 | BA4: 핵심운용인력1(청산시 or 작성기준일 상) | BE4: 핵심운용인력2(청산시 or 작성기준일 상) | BI4: 핵심운용인력3(청산시 or 작성기준일 상) | BM4: 핵심인력변경횟수 | BN4: 운용사수 | BO4: 제안사출자 | BR4: 공동운용사1출자 | BU4: 공동운용사2출자 | BX4: 투자자1 출자 | BZ4: 투자자2 출자 | CB4: 투자자3 출자
E5: 펀드명 | F5: 펀드구분 | G5: 펀드 사업자번호(고유번호) | H5: 펀드 상태 | I5: 펀드법적유형 | J5: 펀드유형 | K5: 주목적투자분야 | L5: 투자기업의 주된 법인유형 | M5: 주된 투자유형 | N5: 성장금융/KDB/모태펀드 위탁펀드 여부 | O5: 약정 총액 | P5: 납입 총액 | Q5: 결성(예정)일 | R5: 투자기간 종료(예정)일 | S5: 해산(예정)일 | T5: 기간(연) | U5: 기준 수익률 | V5: 성과보수 | W5: 관리보수 | X5: IRR | Y5: Multiple | Z5: 투자건수 | AA5: 투자 총액 | AB5: 회수 총액 | AC5: 투자 원금 총액 | AD5: 가치 총액 | AE5: 출자자앞 분배총액 | AF5: 성과보수지급총액 | AG5: 성과보수 운용인력 분배총액 | AH5: 관리보수 지급총액 | AI5: 비용 지급총액 | AN5: 성명 | AO5: 시작일 | AP5: 종료일 | AQ5: 재직여부 | AR5: 성명 | AS5: 시작일 | AT5: 종료일 | AU5: 재직여부 | AV5: 성명 | AW5: 시작일 | AX5: 종료일 | AY5: 재직여부 | BA5: 성명 | BB5: 시작일 | BC5: 종료일 | BD5: 재직여부 | BE5: 성명 | BF5: 시작일 | BG5: 종료일 | BH5: 재직여부 | BI5: 성명 | BJ5: 시작일 | BK5: 종료일 | BL5: 재직여부 | BO5: 제안사명 | BP5: 약정액 | BQ5: 우선손실 충당액 | BR5: 운용사명 | BS5: 약정액 | BT5: 우선손실 충당액 | BU5: 운용사명 | BV5: 약정액 | BW5: 우선손실 충당액 | BX5: 출자자명 | BY5: 약정액 | BZ5: 출자자명 | CA5: 약정액 | CB5: 출자자명 | CC5: 약정액
T6: =IF(ISBLANK(Q6),"",DATEDIF(Q6,S6,"d")/365) | X6: =IF(ISBLANK($E6), "", IF( ISERROR( XIRR( OFFSET(펀드_거래,MATCH($E6,OFFSET(펀드_거래,0,0,ROWS(펀드_거래),1),0)-1,2,COUNTIF(펀드_거래,$E6),1), OFFSET(펀드_거래,MATCH($E6,OFFSET(펀드_거래,0,0,ROWS(펀드_거래),1),0)-1,3,COUNTIF(펀드_거래,$E6),1) ) ), "N/A", XIRR( OFFSET(펀드_거래,MATCH($E6,OFFSET(펀드_거래,0,0,ROWS(펀드_거래),1),0)-1,2,COUNTIF(펀드_거래,$E6),1), OFFSET(펀드_거래,MATCH($E6,OFFSET(펀드_거래,0,0,ROWS(펀드_거래),1),0)-1,3,COUNTIF(펀드_거래,$E6),1), IF(SUM(OFFSET(펀드_거래,MATCH($E6,OFFSET(펀드_거래,0,0,ROWS(펀드_거래),1),0)-1,2,COUNTIF(펀드_거래,$E6),1))>0, 1%, -1%) ) ) ) | Y6: =IF( ISBLANK($F6), "", IF(ISNUMBER(P6), (AD6+AE6+AF6+AJ6-AK6)/P6, "N/A") ) | Z6: =IF( ISBLANK($E6), "", SUMPRODUCT( (OFFSET(제안사_투자현황,0,1,ROWS(제안사_투자현황),1)=$E6)*1, ISTEXT(OFFSET(제안사_투자현황,0,4,ROWS(제안사_투자현황),1))*1 ) ) | AA6: =IF( ISBLANK($E6), "", SUMPRODUCT( (OFFSET(제안사_투자현황,0,1,ROWS(제안사_투자현황),1)=$E6)*1, OFFSET(제안사_투자현황,0,9,ROWS(제안사_투자현황),1)) ) | AB6: =IF( ISBLANK($E6), "", SUMPRODUCT( (OFFSET(제안사_투자현황,0,1,ROWS(제안사_투자현황),1)=$E6)*1, OFFSET(제안사_투자현황,0,14,ROWS(제안사_투자현황),1)) ) | AC6: =IF( ISBLANK($E6), "", SUMPRODUCT( (OFFSET(제안사_투자현황,0,1,ROWS(제안사_투자현황),1)=$E6)*1, OFFSET(제안사_투자현황,0,21,ROWS(제안사_투자현황),1)) ) | AD6: =IF( ISBLANK($E6), "", SUMPRODUCT( (OFFSET(제안사_투자현황,0,1,ROWS(제안사_투자현황),1)=$E6)*1, OFFSET(제안사_투자현황,0,22,ROWS(제안사_투자현황),1)) ) | AE6: =IF( ISBLANK($E6), "", SUMPRODUCT( (OFFSET(펀드_거래,0,0,ROWS(펀드_거래),1)=$E6)*1, (OFFSET(펀드_거래,0,1,ROWS(펀드_거래),1)="현금분배")*1, OFFSET(펀드_거래,0,2,ROWS(펀드_거래),1)/1000000 ) + SUMPRODUCT( (OFFSET(펀드_거래,0,0,ROWS(펀드_거래),1)=$F6)*1, (OFFSET(펀드_거래,0,1,ROWS(펀드_거래),1)="현물분배")*1, OFFSET(펀드_거래,0,2,ROWS(펀드_거래),1)/1000000 ) ) | AF6: =IF( ISBLANK($E6), "", SUMPRODUCT( (OFFSET(펀드_거래,0,0,ROWS(펀드_거래),1)=$E6)*1, (OFFSET(펀드_거래,0,1,ROWS(펀드_거래),1)="성과보수")*1, OFFSET(펀드_거래,0,2,ROWS(펀드_거래),1)/1000000) ) | AL6: =IF( ISERROR(AD6+AJ6-AK6), "", AD6+AJ6-AK6 ) | BM6: =IF(ISBLANK($E6),"",SUMPRODUCT((OFFSET(핵심운용인력_변경내역,0,0,ROWS(핵심운용인력_변경내역),1)=$E6)*1,(OFFSET(핵심운용인력_변경내역,0,1,ROWS(핵심운용인력_변경내역),1)="유출")*1))
T7: =IF(ISBLANK(Q7),"",DATEDIF(Q7,S7,"d")/365) | X7: =IF(ISBLANK($E7), "", IF( ISERROR( XIRR( OFFSET(펀드_거래,MATCH($E7,OFFSET(펀드_거래,0,0,ROWS(펀드_거래),1),0)-1,2,COUNTIF(펀드_거래,$E7),1), OFFSET(펀드_거래,MATCH($E7,OFFSET(펀드_거래,0,0,ROWS(펀드_거래),1),0)-1,3,COUNTIF(펀드_거래,$E7),1) ) ), "N/A", XIRR( OFFSET(펀드_거래,MATCH($E7,OFFSET(펀드_거래,0,0,ROWS(펀드_거래),1),0)-1,2,COUNTIF(펀드_거래,$E7),1), OFFSET(펀드_거래,MATCH($E7,OFFSET(펀드_거래,0,0,ROWS(펀드_거래),1),0)-1,3,COUNTIF(펀드_거래,$E7),1), IF(SUM(OFFSET(펀드_거래,MATCH($E7,OFFSET(펀드_거래,0,0,ROWS(펀드_거래),1),0)-1,2,COUNTIF(펀드_거래,$E7),1))>0, 1%, -1%) ) ) ) | Y7: =IF( ISBLANK($F7), "", IF(ISNUMBER(P7), (AD7+AE7+AF7+AJ7-AK7)/P7, "N/A") ) | Z7: =IF( ISBLANK($E7), "", SUMPRODUCT( (OFFSET(제안사_투자현황,0,1,ROWS(제안사_투자현황),1)=$E7)*1, ISTEXT(OFFSET(제안사_투자현황,0,4,ROWS(제안사_투자현황),1))*1 ) ) | AA7: =IF( ISBLANK($E7), "", SUMPRODUCT( (OFFSET(제안사_투자현황,0,1,ROWS(제안사_투자현황),1)=$E7)*1, OFFSET(제안사_투자현황,0,9,ROWS(제안사_투자현황),1)) ) | AB7: =IF( ISBLANK($E7), "", SUMPRODUCT( (OFFSET(제안사_투자현황,0,1,ROWS(제안사_투자현황),1)=$E7)*1, OFFSET(제안사_투자현황,0,14,ROWS(제안사_투자현황),1)) ) | AC7: =IF( ISBLANK($E7), "", SUMPRODUCT( (OFFSET(제안사_투자현황,0,1,ROWS(제안사_투자현황),1)=$E7)*1, OFFSET(제안사_투자현황,0,21,ROWS(제안사_투자현황),1)) ) | AD7: =IF( ISBLANK($E7), "", SUMPRODUCT( (OFFSET(제안사_투자현황,0,1,ROWS(제안사_투자현황),1)=$E7)*1, OFFSET(제안사_투자현황,0,22,ROWS(제안사_투자현황),1)) ) | AE7: =IF( ISBLANK($E7), "", SUMPRODUCT( (OFFSET(펀드_거래,0,0,ROWS(펀드_거래),1)=$E7)*1, (OFFSET(펀드_거래,0,1,ROWS(펀드_거래),1)="현금분배")*1, OFFSET(펀드_거래,0,2,ROWS(펀드_거래),1)/1000000 ) + SUMPRODUCT( (OFFSET(펀드_거래,0,0,ROWS(펀드_거래),1)=$F7)*1, (OFFSET(펀드_거래,0,1,ROWS(펀드_거래),1)="현물분배")*1, OFFSET(펀드_거래,0,2,ROWS(펀드_거래),1)/1000000 ) ) | AF7: =IF( ISBLANK($E7), "", SUMPRODUCT( (OFFSET(펀드_거래,0,0,ROWS(펀드_거래),1)=$E7)*1, (OFFSET(펀드_거래,0,1,ROWS(펀드_거래),1)="성과보수")*1, OFFSET(펀드_거래,0,2,ROWS(펀드_거래),1)/1000000) ) | AL7: =IF( ISERROR(AD7+AJ7-AK7), "", AD7+AJ7-AK7 ) | BM7: =IF(ISBLANK($E7),"",SUMPRODUCT((OFFSET(핵심운용인력_변경내역,0,0,ROWS(핵심운용인력_변경내역),1)=$E7)*1,(OFFSET(핵심운용인력_변경내역,0,1,ROWS(핵심운용인력_변경내역),1)="유출")*1))
T8: =IF(ISBLANK(Q8),"",DATEDIF(Q8,S8,"d")/365) | X8: =IF(ISBLANK($E8), "", IF( ISERROR( XIRR( OFFSET(펀드_거래,MATCH($E8,OFFSET(펀드_거래,0,0,ROWS(펀드_거래),1),0)-1,2,COUNTIF(펀드_거래,$E8),1), OFFSET(펀드_거래,MATCH($E8,OFFSET(펀드_거래,0,0,ROWS(펀드_거래),1),0)-1,3,COUNTIF(펀드_거래,$E8),1) ) ), "N/A", XIRR( OFFSET(펀드_거래,MATCH($E8,OFFSET(펀드_거래,0,0,ROWS(펀드_거래),1),0)-1,2,COUNTIF(펀드_거래,$E8),1), OFFSET(펀드_거래,MATCH($E8,OFFSET(펀드_거래,0,0,ROWS(펀드_거래),1),0)-1,3,COUNTIF(펀드_거래,$E8),1), IF(SUM(OFFSET(펀드_거래,MATCH($E8,OFFSET(펀드_거래,0,0,ROWS(펀드_거래),1),0)-1,2,COUNTIF(펀드_거래,$E8),1))>0, 1%, -1%) ) ) ) | Y8: =IF( ISBLANK($F8), "", IF(ISNUMBER(P8), (AD8+AE8+AF8+AJ8-AK8)/P8, "N/A") ) | Z8: =IF( ISBLANK($E8), "", SUMPRODUCT( (OFFSET(제안사_투자현황,0,1,ROWS(제안사_투자현황),1)=$E8)*1, ISTEXT(OFFSET(제안사_투자현황,0,4,ROWS(제안사_투자현황),1))*1 ) ) | AA8: =IF( ISBLANK($E8), "", SUMPRODUCT( (OFFSET(제안사_투자현황,0,1,ROWS(제안사_투자현황),1)=$E8)*1, OFFSET(제안사_투자현황,0,9,ROWS(제안사_투자현황),1)) ) | AB8: =IF( ISBLANK($E8), "", SUMPRODUCT( (OFFSET(제안사_투자현황,0,1,ROWS(제안사_투자현황),1)=$E8)*1, OFFSET(제안사_투자현황,0,14,ROWS(제안사_투자현황),1)) ) | AC8: =IF( ISBLANK($E8), "", SUMPRODUCT( (OFFSET(제안사_투자현황,0,1,ROWS(제안사_투자현황),1)=$E8)*1, OFFSET(제안사_투자현황,0,21,ROWS(제안사_투자현황),1)) ) | AD8: =IF( ISBLANK($E8), "", SUMPRODUCT( (OFFSET(제안사_투자현황,0,1,ROWS(제안사_투자현황),1)=$E8)*1, OFFSET(제안사_투자현황,0,22,ROWS(제안사_투자현황),1)) ) | AE8: =IF( ISBLANK($E8), "", SUMPRODUCT( (OFFSET(펀드_거래,0,0,ROWS(펀드_거래),1)=$E8)*1, (OFFSET(펀드_거래,0,1,ROWS(펀드_거래),1)="현금분배")*1, OFFSET(펀드_거래,0,2,ROWS(펀드_거래),1)/1000000 ) + SUMPRODUCT( (OFFSET(펀드_거래,0,0,ROWS(펀드_거래),1)=$F8)*1, (OFFSET(펀드_거래,0,1,ROWS(펀드_거래),1)="현물분배")*1, OFFSET(펀드_거래,0,2,ROWS(펀드_거래),1)/1000000 ) ) | AF8: =IF( ISBLANK($E8), "", SUMPRODUCT( (OFFSET(펀드_거래,0,0,ROWS(펀드_거래),1)=$E8)*1, (OFFSET(펀드_거래,0,1,ROWS(펀드_거래),1)="성과보수")*1, OFFSET(펀드_거래,0,2,ROWS(펀드_거래),1)/1000000) ) | AL8: =IF( ISERROR(AD8+AJ8-AK8), "", AD8+AJ8-AK8 ) | BM8: =IF(ISBLANK($E8),"",SUMPRODUCT((OFFSET(핵심운용인력_변경내역,0,0,ROWS(핵심운용인력_변경내역),1)=$E8)*1,(OFFSET(핵심운용인력_변경내역,0,1,ROWS(핵심운용인력_변경내역),1)="유출")*1))
T9: =IF(ISBLANK(Q9),"",DATEDIF(Q9,S9,"d")/365) | X9: =IF(ISBLANK($E9), "", IF( ISERROR( XIRR( OFFSET(펀드_거래,MATCH($E9,OFFSET(펀드_거래,0,0,ROWS(펀드_거래),1),0)-1,2,COUNTIF(펀드_거래,$E9),1), OFFSET(펀드_거래,MATCH($E9,OFFSET(펀드_거래,0,0,ROWS(펀드_거래),1),0)-1,3,COUNTIF(펀드_거래,$E9),1) ) ), "N/A", XIRR( OFFSET(펀드_거래,MATCH($E9,OFFSET(펀드_거래,0,0,ROWS(펀드_거래),1),0)-1,2,COUNTIF(펀드_거래,$E9),1), OFFSET(펀드_거래,MATCH($E9,OFFSET(펀드_거래,0,0,ROWS(펀드_거래),1),0)-1,3,COUNTIF(펀드_거래,$E9),1), IF(SUM(OFFSET(펀드_거래,MATCH($E9,OFFSET(펀드_거래,0,0,ROWS(펀드_거래),1),0)-1,2,COUNTIF(펀드_거래,$E9),1))>0, 1%, -1%) ) ) ) | Y9: =IF( ISBLANK($F9), "", IF(ISNUMBER(P9), (AD9+AE9+AF9+AJ9-AK9)/P9, "N/A") ) | Z9: =IF( ISBLANK($E9), "", SUMPRODUCT( (OFFSET(제안사_투자현황,0,1,ROWS(제안사_투자현황),1)=$E9)*1, ISTEXT(OFFSET(제안사_투자현황,0,4,ROWS(제안사_투자현황),1))*1 ) ) | AA9: =IF( ISBLANK($E9), "", SUMPRODUCT( (OFFSET(제안사_투자현황,0,1,ROWS(제안사_투자현황),1)=$E9)*1, OFFSET(제안사_투자현황,0,9,ROWS(제안사_투자현황),1)) ) | AB9: =IF( ISBLANK($E9), "", SUMPRODUCT( (OFFSET(제안사_투자현황,0,1,ROWS(제안사_투자현황),1)=$E9)*1, OFFSET(제안사_투자현황,0,14,ROWS(제안사_투자현황),1)) ) | AC9: =IF( ISBLANK($E9), "", SUMPRODUCT( (OFFSET(제안사_투자현황,0,1,ROWS(제안사_투자현황),1)=$E9)*1, OFFSET(제안사_투자현황,0,21,ROWS(제안사_투자현황),1)) ) | AD9: =IF( ISBLANK($E9), "", SUMPRODUCT( (OFFSET(제안사_투자현황,0,1,ROWS(제안사_투자현황),1)=$E9)*1, OFFSET(제안사_투자현황,0,22,ROWS(제안사_투자현황),1)) ) | AE9: =IF( ISBLANK($E9), "", SUMPRODUCT( (OFFSET(펀드_거래,0,0,ROWS(펀드_거래),1)=$E9)*1, (OFFSET(펀드_거래,0,1,ROWS(펀드_거래),1)="현금분배")*1, OFFSET(펀드_거래,0,2,ROWS(펀드_거래),1)/1000000 ) + SUMPRODUCT( (OFFSET(펀드_거래,0,0,ROWS(펀드_거래),1)=$F9)*1, (OFFSET(펀드_거래,0,1,ROWS(펀드_거래),1)="현물분배")*1, OFFSET(펀드_거래,0,2,ROWS(펀드_거래),1)/1000000 ) ) | AF9: =IF( ISBLANK($E9), "", SUMPRODUCT( (OFFSET(펀드_거래,0,0,ROWS(펀드_거래),1)=$E9)*1, (OFFSET(펀드_거래,0,1,ROWS(펀드_거래),1)="성과보수")*1, OFFSET(펀드_거래,0,2,ROWS(펀드_거래),1)/1000000) ) | AL9: =IF( ISERROR(AD9+AJ9-AK9), "", AD9+AJ9-AK9 ) | BM9: =IF(ISBLANK($E9),"",SUMPRODUCT((OFFSET(핵심운용인력_변경내역,0,0,ROWS(핵심운용인력_변경내역),1)=$E9)*1,(OFFSET(핵심운용인력_변경내역,0,1,ROWS(핵심운용인력_변경내역),1)="유출")*1))
T10: =IF(ISBLANK(Q10),"",DATEDIF(Q10,S10,"d")/365) | X10: =IF(ISBLANK($E10), "", IF( ISERROR( XIRR( OFFSET(펀드_거래,MATCH($E10,OFFSET(펀드_거래,0,0,ROWS(펀드_거래),1),0)-1,2,COUNTIF(펀드_거래,$E10),1), OFFSET(펀드_거래,MATCH($E10,OFFSET(펀드_거래,0,0,ROWS(펀드_거래),1),0)-1,3,COUNTIF(펀드_거래,$E10),1) ) ), "N/A", XIRR( OFFSET(펀드_거래,MATCH($E10,OFFSET(펀드_거래,0,0,ROWS(펀드_거래),1),0)-1,2,COUNTIF(펀드_거래,$E10),1), OFFSET(펀드_거래,MATCH($E10,OFFSET(펀드_거래,0,0,ROWS(펀드_거래),1),0)-1,3,COUNTIF(펀드_거래,$E10),1), IF(SUM(OFFSET(펀드_거래,MATCH($E10,OFFSET(펀드_거래,0,0,ROWS(펀드_거래),1),0)-1,2,COUNTIF(펀드_거래,$E10),1))>0, 1%, -1%) ) ) ) | Y10: =IF( ISBLANK($F10), "", IF(ISNUMBER(P10), (AD10+AE10+AF10+AJ10-AK10)/P10, "N/A") ) | Z10: =IF( ISBLANK($E10), "", SUMPRODUCT( (OFFSET(제안사_투자현황,0,1,ROWS(제안사_투자현황),1)=$E10)*1, ISTEXT(OFFSET(제안사_투자현황,0,4,ROWS(제안사_투자현황),1))*1 ) ) | AA10: =IF( ISBLANK($E10), "", SUMPRODUCT( (OFFSET(제안사_투자현황,0,1,ROWS(제안사_투자현황),1)=$E10)*1, OFFSET(제안사_투자현황,0,9,ROWS(제안사_투자현황),1)) ) | AB10: =IF( ISBLANK($E10), "", SUMPRODUCT( (OFFSET(제안사_투자현황,0,1,ROWS(제안사_투자현황),1)=$E10)*1, OFFSET(제안사_투자현황,0,14,ROWS(제안사_투자현황),1)) ) | AC10: =IF( ISBLANK($E10), "", SUMPRODUCT( (OFFSET(제안사_투자현황,0,1,ROWS(제안사_투자현황),1)=$E10)*1, OFFSET(제안사_투자현황,0,21,ROWS(제안사_투자현황),1)) ) | AD10: =IF( ISBLANK($E10), "", SUMPRODUCT( (OFFSET(제안사_투자현황,0,1,ROWS(제안사_투자현황),1)=$E10)*1, OFFSET(제안사_투자현황,0,22,ROWS(제안사_투자현황),1)) ) | AE10: =IF( ISBLANK($E10), "", SUMPRODUCT( (OFFSET(펀드_거래,0,0,ROWS(펀드_거래),1)=$E10)*1, (OFFSET(펀드_거래,0,1,ROWS(펀드_거래),1)="현금분배")*1, OFFSET(펀드_거래,0,2,ROWS(펀드_거래),1)/1000000 ) + SUMPRODUCT( (OFFSET(펀드_거래,0,0,ROWS(펀드_거래),1)=$F10)*1, (OFFSET(펀드_거래,0,1,ROWS(펀드_거래),1)="현물분배")*1, OFFSET(펀드_거래,0,2,ROWS(펀드_거래),1)/1000000 ) ) | AF10: =IF( ISBLANK($E10), "", SUMPRODUCT( (OFFSET(펀드_거래,0,0,ROWS(펀드_거래),1)=$E10)*1, (OFFSET(펀드_거래,0,1,ROWS(펀드_거래),1)="성과보수")*1, OFFSET(펀드_거래,0,2,ROWS(펀드_거래),1)/1000000) ) | AL10: =IF( ISERROR(AD10+AJ10-AK10), "", AD10+AJ10-AK10 ) | BM10: =IF(ISBLANK($E10),"",SUMPRODUCT((OFFSET(핵심운용인력_변경내역,0,0,ROWS(핵심운용인력_변경내역),1)=$E10)*1,(OFFSET(핵심운용인력_변경내역,0,1,ROWS(핵심운용인력_변경내역),1)="유출")*1))
T11: =IF(ISBLANK(Q11),"",DATEDIF(Q11,S11,"d")/365) | X11: =IF(ISBLANK($E11), "", IF( ISERROR( XIRR( OFFSET(펀드_거래,MATCH($E11,OFFSET(펀드_거래,0,0,ROWS(펀드_거래),1),0)-1,2,COUNTIF(펀드_거래,$E11),1), OFFSET(펀드_거래,MATCH($E11,OFFSET(펀드_거래,0,0,ROWS(펀드_거래),1),0)-1,3,COUNTIF(펀드_거래,$E11),1) ) ), "N/A", XIRR( OFFSET(펀드_거래,MATCH($E11,OFFSET(펀드_거래,0,0,ROWS(펀드_거래),1),0)-1,2,COUNTIF(펀드_거래,$E11),1), OFFSET(펀드_거래,MATCH($E11,OFFSET(펀드_거래,0,0,ROWS(펀드_거래),1),0)-1,3,COUNTIF(펀드_거래,$E11),1), IF(SUM(OFFSET(펀드_거래,MATCH($E11,OFFSET(펀드_거래,0,0,ROWS(펀드_거래),1),0)-1,2,COUNTIF(펀드_거래,$E11),1))>0, 1%, -1%) ) ) ) | Y11: =IF( ISBLANK($F11), "", IF(ISNUMBER(P11), (AD11+AE11+AF11+AJ11-AK11)/P11, "N/A") ) | Z11: =IF( ISBLANK($E11), "", SUMPRODUCT( (OFFSET(제안사_투자현황,0,1,ROWS(제안사_투자현황),1)=$E11)*1, ISTEXT(OFFSET(제안사_투자현황,0,4,ROWS(제안사_투자현황),1))*1 ) ) | AA11: =IF( ISBLANK($E11), "", SUMPRODUCT( (OFFSET(제안사_투자현황,0,1,ROWS(제안사_투자현황),1)=$E11)*1, OFFSET(제안사_투자현황,0,9,ROWS(제안사_투자현황),1)) ) | AB11: =IF( ISBLANK($E11), "", SUMPRODUCT( (OFFSET(제안사_투자현황,0,1,ROWS(제안사_투자현황),1)=$E11)*1, OFFSET(제안사_투자현황,0,14,ROWS(제안사_투자현황),1)) ) | AC11: =IF( ISBLANK($E11), "", SUMPRODUCT( (OFFSET(제안사_투자현황,0,1,ROWS(제안사_투자현황),1)=$E11)*1, OFFSET(제안사_투자현황,0,21,ROWS(제안사_투자현황),1)) ) | AD11: =IF( ISBLANK($E11), "", SUMPRODUCT( (OFFSET(제안사_투자현황,0,1,ROWS(제안사_투자현황),1)=$E11)*1, OFFSET(제안사_투자현황,0,22,ROWS(제안사_투자현황),1)) ) | AE11: =IF( ISBLANK($E11), "", SUMPRODUCT( (OFFSET(펀드_거래,0,0,ROWS(펀드_거래),1)=$E11)*1, (OFFSET(펀드_거래,0,1,ROWS(펀드_거래),1)="현금분배")*1, OFFSET(펀드_거래,0,2,ROWS(펀드_거래),1)/1000000 ) + SUMPRODUCT( (OFFSET(펀드_거래,0,0,ROWS(펀드_거래),1)=$F11)*1, (OFFSET(펀드_거래,0,1,ROWS(펀드_거래),1)="현물분배")*1, OFFSET(펀드_거래,0,2,ROWS(펀드_거래),1)/1000000 ) ) | AF11: =IF( ISBLANK($E11), "", SUMPRODUCT( (OFFSET(펀드_거래,0,0,ROWS(펀드_거래),1)=$E11)*1, (OFFSET(펀드_거래,0,1,ROWS(펀드_거래),1)="성과보수")*1, OFFSET(펀드_거래,0,2,ROWS(펀드_거래),1)/1000000) ) | AL11: =IF( ISERROR(AD11+AJ11-AK11), "", AD11+AJ11-AK11 ) | BM11: =IF(ISBLANK($E11),"",SUMPRODUCT((OFFSET(핵심운용인력_변경내역,0,0,ROWS(핵심운용인력_변경내역),1)=$E11)*1,(OFFSET(핵심운용인력_변경내역,0,1,ROWS(핵심운용인력_변경내역),1)="유출")*1))
T12: =IF(ISBLANK(Q12),"",DATEDIF(Q12,S12,"d")/365) | X12: =IF(ISBLANK($E12), "", IF( ISERROR( XIRR( OFFSET(펀드_거래,MATCH($E12,OFFSET(펀드_거래,0,0,ROWS(펀드_거래),1),0)-1,2,COUNTIF(펀드_거래,$E12),1), OFFSET(펀드_거래,MATCH($E12,OFFSET(펀드_거래,0,0,ROWS(펀드_거래),1),0)-1,3,COUNTIF(펀드_거래,$E12),1) ) ), "N/A", XIRR( OFFSET(펀드_거래,MATCH($E12,OFFSET(펀드_거래,0,0,ROWS(펀드_거래),1),0)-1,2,COUNTIF(펀드_거래,$E12),1), OFFSET(펀드_거래,MATCH($E12,OFFSET(펀드_거래,0,0,ROWS(펀드_거래),1),0)-1,3,COUNTIF(펀드_거래,$E12),1), IF(SUM(OFFSET(펀드_거래,MATCH($E12,OFFSET(펀드_거래,0,0,ROWS(펀드_거래),1),0)-1,2,COUNTIF(펀드_거래,$E12),1))>0, 1%, -1%) ) ) ) | Y12: =IF( ISBLANK($F12), "", IF(ISNUMBER(P12), (AD12+AE12+AF12+AJ12-AK12)/P12, "N/A") ) | Z12: =IF( ISBLANK($E12), "", SUMPRODUCT( (OFFSET(제안사_투자현황,0,1,ROWS(제안사_투자현황),1)=$E12)*1, ISTEXT(OFFSET(제안사_투자현황,0,4,ROWS(제안사_투자현황),1))*1 ) ) | AA12: =IF( ISBLANK($E12), "", SUMPRODUCT( (OFFSET(제안사_투자현황,0,1,ROWS(제안사_투자현황),1)=$E12)*1, OFFSET(제안사_투자현황,0,9,ROWS(제안사_투자현황),1)) ) | AB12: =IF( ISBLANK($E12), "", SUMPRODUCT( (OFFSET(제안사_투자현황,0,1,ROWS(제안사_투자현황),1)=$E12)*1, OFFSET(제안사_투자현황,0,14,ROWS(제안사_투자현황),1)) ) | AC12: =IF( ISBLANK($E12), "", SUMPRODUCT( (OFFSET(제안사_투자현황,0,1,ROWS(제안사_투자현황),1)=$E12)*1, OFFSET(제안사_투자현황,0,21,ROWS(제안사_투자현황),1)) ) | AD12: =IF( ISBLANK($E12), "", SUMPRODUCT( (OFFSET(제안사_투자현황,0,1,ROWS(제안사_투자현황),1)=$E12)*1, OFFSET(제안사_투자현황,0,22,ROWS(제안사_투자현황),1)) ) | AE12: =IF( ISBLANK($E12), "", SUMPRODUCT( (OFFSET(펀드_거래,0,0,ROWS(펀드_거래),1)=$E12)*1, (OFFSET(펀드_거래,0,1,ROWS(펀드_거래),1)="현금분배")*1, OFFSET(펀드_거래,0,2,ROWS(펀드_거래),1)/1000000 ) + SUMPRODUCT( (OFFSET(펀드_거래,0,0,ROWS(펀드_거래),1)=$F12)*1, (OFFSET(펀드_거래,0,1,ROWS(펀드_거래),1)="현물분배")*1, OFFSET(펀드_거래,0,2,ROWS(펀드_거래),1)/1000000 ) ) | AF12: =IF( ISBLANK($E12), "", SUMPRODUCT( (OFFSET(펀드_거래,0,0,ROWS(펀드_거래),1)=$E12)*1, (OFFSET(펀드_거래,0,1,ROWS(펀드_거래),1)="성과보수")*1, OFFSET(펀드_거래,0,2,ROWS(펀드_거래),1)/1000000) ) | AL12: =IF( ISERROR(AD12+AJ12-AK12), "", AD12+AJ12-AK12 ) | BM12: =IF(ISBLANK($E12),"",SUMPRODUCT((OFFSET(핵심운용인력_변경내역,0,0,ROWS(핵심운용인력_변경내역),1)=$E12)*1,(OFFSET(핵심운용인력_변경내역,0,1,ROWS(핵심운용인력_변경내역),1)="유출")*1))
T13: =IF(ISBLANK(Q13),"",DATEDIF(Q13,S13,"d")/365) | X13: =IF(ISBLANK($E13), "", IF( ISERROR( XIRR( OFFSET(펀드_거래,MATCH($E13,OFFSET(펀드_거래,0,0,ROWS(펀드_거래),1),0)-1,2,COUNTIF(펀드_거래,$E13),1), OFFSET(펀드_거래,MATCH($E13,OFFSET(펀드_거래,0,0,ROWS(펀드_거래),1),0)-1,3,COUNTIF(펀드_거래,$E13),1) ) ), "N/A", XIRR( OFFSET(펀드_거래,MATCH($E13,OFFSET(펀드_거래,0,0,ROWS(펀드_거래),1),0)-1,2,COUNTIF(펀드_거래,$E13),1), OFFSET(펀드_거래,MATCH($E13,OFFSET(펀드_거래,0,0,ROWS(펀드_거래),1),0)-1,3,COUNTIF(펀드_거래,$E13),1), IF(SUM(OFFSET(펀드_거래,MATCH($E13,OFFSET(펀드_거래,0,0,ROWS(펀드_거래),1),0)-1,2,COUNTIF(펀드_거래,$E13),1))>0, 1%, -1%) ) ) ) | Y13: =IF( ISBLANK($F13), "", IF(ISNUMBER(P13), (AD13+AE13+AF13+AJ13-AK13)/P13, "N/A") ) | Z13: =IF( ISBLANK($E13), "", SUMPRODUCT( (OFFSET(제안사_투자현황,0,1,ROWS(제안사_투자현황),1)=$E13)*1, ISTEXT(OFFSET(제안사_투자현황,0,4,ROWS(제안사_투자현황),1))*1 ) ) | AA13: =IF( ISBLANK($E13), "", SUMPRODUCT( (OFFSET(제안사_투자현황,0,1,ROWS(제안사_투자현황),1)=$E13)*1, OFFSET(제안사_투자현황,0,9,ROWS(제안사_투자현황),1)) ) | AB13: =IF( ISBLANK($E13), "", SUMPRODUCT( (OFFSET(제안사_투자현황,0,1,ROWS(제안사_투자현황),1)=$E13)*1, OFFSET(제안사_투자현황,0,14,ROWS(제안사_투자현황),1)) ) | AC13: =IF( ISBLANK($E13), "", SUMPRODUCT( (OFFSET(제안사_투자현황,0,1,ROWS(제안사_투자현황),1)=$E13)*1, OFFSET(제안사_투자현황,0,21,ROWS(제안사_투자현황),1)) ) | AD13: =IF( ISBLANK($E13), "", SUMPRODUCT( (OFFSET(제안사_투자현황,0,1,ROWS(제안사_투자현황),1)=$E13)*1, OFFSET(제안사_투자현황,0,22,ROWS(제안사_투자현황),1)) ) | AE13: =IF( ISBLANK($E13), "", SUMPRODUCT( (OFFSET(펀드_거래,0,0,ROWS(펀드_거래),1)=$E13)*1, (OFFSET(펀드_거래,0,1,ROWS(펀드_거래),1)="현금분배")*1, OFFSET(펀드_거래,0,2,ROWS(펀드_거래),1)/1000000 ) + SUMPRODUCT( (OFFSET(펀드_거래,0,0,ROWS(펀드_거래),1)=$F13)*1, (OFFSET(펀드_거래,0,1,ROWS(펀드_거래),1)="현물분배")*1, OFFSET(펀드_거래,0,2,ROWS(펀드_거래),1)/1000000 ) ) | AF13: =IF( ISBLANK($E13), "", SUMPRODUCT( (OFFSET(펀드_거래,0,0,ROWS(펀드_거래),1)=$E13)*1, (OFFSET(펀드_거래,0,1,ROWS(펀드_거래),1)="성과보수")*1, OFFSET(펀드_거래,0,2,ROWS(펀드_거래),1)/1000000) ) | AL13: =IF( ISERROR(AD13+AJ13-AK13), "", AD13+AJ13-AK13 ) | BM13: =IF(ISBLANK($E13),"",SUMPRODUCT((OFFSET(핵심운용인력_변경내역,0,0,ROWS(핵심운용인력_변경내역),1)=$E13)*1,(OFFSET(핵심운용인력_변경내역,0,1,ROWS(핵심운용인력_변경내역),1)="유출")*1))
T14: =IF(ISBLANK(Q14),"",DATEDIF(Q14,S14,"d")/365) | X14: =IF(ISBLANK($E14), "", IF( ISERROR( XIRR( OFFSET(펀드_거래,MATCH($E14,OFFSET(펀드_거래,0,0,ROWS(펀드_거래),1),0)-1,2,COUNTIF(펀드_거래,$E14),1), OFFSET(펀드_거래,MATCH($E14,OFFSET(펀드_거래,0,0,ROWS(펀드_거래),1),0)-1,3,COUNTIF(펀드_거래,$E14),1) ) ), "N/A", XIRR( OFFSET(펀드_거래,MATCH($E14,OFFSET(펀드_거래,0,0,ROWS(펀드_거래),1),0)-1,2,COUNTIF(펀드_거래,$E14),1), OFFSET(펀드_거래,MATCH($E14,OFFSET(펀드_거래,0,0,ROWS(펀드_거래),1),0)-1,3,COUNTIF(펀드_거래,$E14),1), IF(SUM(OFFSET(펀드_거래,MATCH($E14,OFFSET(펀드_거래,0,0,ROWS(펀드_거래),1),0)-1,2,COUNTIF(펀드_거래,$E14),1))>0, 1%, -1%) ) ) ) | Y14: =IF( ISBLANK($F14), "", IF(ISNUMBER(P14), (AD14+AE14+AF14+AJ14-AK14)/P14, "N/A") ) | Z14: =IF( ISBLANK($E14), "", SUMPRODUCT( (OFFSET(제안사_투자현황,0,1,ROWS(제안사_투자현황),1)=$E14)*1, ISTEXT(OFFSET(제안사_투자현황,0,4,ROWS(제안사_투자현황),1))*1 ) ) | AA14: =IF( ISBLANK($E14), "", SUMPRODUCT( (OFFSET(제안사_투자현황,0,1,ROWS(제안사_투자현황),1)=$E14)*1, OFFSET(제안사_투자현황,0,9,ROWS(제안사_투자현황),1)) ) | AB14: =IF( ISBLANK($E14), "", SUMPRODUCT( (OFFSET(제안사_투자현황,0,1,ROWS(제안사_투자현황),1)=$E14)*1, OFFSET(제안사_투자현황,0,14,ROWS(제안사_투자현황),1)) ) | AC14: =IF( ISBLANK($E14), "", SUMPRODUCT( (OFFSET(제안사_투자현황,0,1,ROWS(제안사_투자현황),1)=$E14)*1, OFFSET(제안사_투자현황,0,21,ROWS(제안사_투자현황),1)) ) | AD14: =IF( ISBLANK($E14), "", SUMPRODUCT( (OFFSET(제안사_투자현황,0,1,ROWS(제안사_투자현황),1)=$E14)*1, OFFSET(제안사_투자현황,0,22,ROWS(제안사_투자현황),1)) ) | AE14: =IF( ISBLANK($E14), "", SUMPRODUCT( (OFFSET(펀드_거래,0,0,ROWS(펀드_거래),1)=$E14)*1, (OFFSET(펀드_거래,0,1,ROWS(펀드_거래),1)="현금분배")*1, OFFSET(펀드_거래,0,2,ROWS(펀드_거래),1)/1000000 ) + SUMPRODUCT( (OFFSET(펀드_거래,0,0,ROWS(펀드_거래),1)=$F14)*1, (OFFSET(펀드_거래,0,1,ROWS(펀드_거래),1)="현물분배")*1, OFFSET(펀드_거래,0,2,ROWS(펀드_거래),1)/1000000 ) ) | AF14: =IF( ISBLANK($E14), "", SUMPRODUCT( (OFFSET(펀드_거래,0,0,ROWS(펀드_거래),1)=$E14)*1, (OFFSET(펀드_거래,0,1,ROWS(펀드_거래),1)="성과보수")*1, OFFSET(펀드_거래,0,2,ROWS(펀드_거래),1)/1000000) ) | AL14: =IF( ISERROR(AD14+AJ14-AK14), "", AD14+AJ14-AK14 ) | BM14: =IF(ISBLANK($E14),"",SUMPRODUCT((OFFSET(핵심운용인력_변경내역,0,0,ROWS(핵심운용인력_변경내역),1)=$E14)*1,(OFFSET(핵심운용인력_변경내역,0,1,ROWS(핵심운용인력_변경내역),1)="유출")*1))
T15: =IF(ISBLANK(Q15),"",DATEDIF(Q15,S15,"d")/365) | X15: =IF(ISBLANK($E15), "", IF( ISERROR( XIRR( OFFSET(펀드_거래,MATCH($E15,OFFSET(펀드_거래,0,0,ROWS(펀드_거래),1),0)-1,2,COUNTIF(펀드_거래,$E15),1), OFFSET(펀드_거래,MATCH($E15,OFFSET(펀드_거래,0,0,ROWS(펀드_거래),1),0)-1,3,COUNTIF(펀드_거래,$E15),1) ) ), "N/A", XIRR( OFFSET(펀드_거래,MATCH($E15,OFFSET(펀드_거래,0,0,ROWS(펀드_거래),1),0)-1,2,COUNTIF(펀드_거래,$E15),1), OFFSET(펀드_거래,MATCH($E15,OFFSET(펀드_거래,0,0,ROWS(펀드_거래),1),0)-1,3,COUNTIF(펀드_거래,$E15),1), IF(SUM(OFFSET(펀드_거래,MATCH($E15,OFFSET(펀드_거래,0,0,ROWS(펀드_거래),1),0)-1,2,COUNTIF(펀드_거래,$E15),1))>0, 1%, -1%) ) ) ) | Y15: =IF( ISBLANK($F15), "", IF(ISNUMBER(P15), (AD15+AE15+AF15+AJ15-AK15)/P15, "N/A") ) | Z15: =IF( ISBLANK($E15), "", SUMPRODUCT( (OFFSET(제안사_투자현황,0,1,ROWS(제안사_투자현황),1)=$E15)*1, ISTEXT(OFFSET(제안사_투자현황,0,4,ROWS(제안사_투자현황),1))*1 ) ) | AA15: =IF( ISBLANK($E15), "", SUMPRODUCT( (OFFSET(제안사_투자현황,0,1,ROWS(제안사_투자현황),1)=$E15)*1, OFFSET(제안사_투자현황,0,9,ROWS(제안사_투자현황),1)) ) | AB15: =IF( ISBLANK($E15), "", SUMPRODUCT( (OFFSET(제안사_투자현황,0,1,ROWS(제안사_투자현황),1)=$E15)*1, OFFSET(제안사_투자현황,0,14,ROWS(제안사_투자현황),1)) ) | AC15: =IF( ISBLANK($E15), "", SUMPRODUCT( (OFFSET(제안사_투자현황,0,1,ROWS(제안사_투자현황),1)=$E15)*1, OFFSET(제안사_투자현황,0,21,ROWS(제안사_투자현황),1)) ) | AD15: =IF( ISBLANK($E15), "", SUMPRODUCT( (OFFSET(제안사_투자현황,0,1,ROWS(제안사_투자현황),1)=$E15)*1, OFFSET(제안사_투자현황,0,22,ROWS(제안사_투자현황),1)) ) | AE15: =IF( ISBLANK($E15), "", SUMPRODUCT( (OFFSET(펀드_거래,0,0,ROWS(펀드_거래),1)=$E15)*1, (OFFSET(펀드_거래,0,1,ROWS(펀드_거래),1)="현금분배")*1, OFFSET(펀드_거래,0,2,ROWS(펀드_거래),1)/1000000 ) + SUMPRODUCT( (OFFSET(펀드_거래,0,0,ROWS(펀드_거래),1)=$F15)*1, (OFFSET(펀드_거래,0,1,ROWS(펀드_거래),1)="현물분배")*1, OFFSET(펀드_거래,0,2,ROWS(펀드_거래),1)/1000000 ) ) | AF15: =IF( ISBLANK($E15), "", SUMPRODUCT( (OFFSET(펀드_거래,0,0,ROWS(펀드_거래),1)=$E15)*1, (OFFSET(펀드_거래,0,1,ROWS(펀드_거래),1)="성과보수")*1, OFFSET(펀드_거래,0,2,ROWS(펀드_거래),1)/1000000) ) | AL15: =IF( ISERROR(AD15+AJ15-AK15), "", AD15+AJ15-AK15 ) | BM15: =IF(ISBLANK($E15),"",SUMPRODUCT((OFFSET(핵심운용인력_변경내역,0,0,ROWS(핵심운용인력_변경내역),1)=$E15)*1,(OFFSET(핵심운용인력_변경내역,0,1,ROWS(핵심운용인력_변경내역),1)="유출")*1))
T16: =IF(ISBLANK(Q16),"",DATEDIF(Q16,S16,"d")/365) | X16: =IF(ISBLANK($E16), "", IF( ISERROR( XIRR( OFFSET(펀드_거래,MATCH($E16,OFFSET(펀드_거래,0,0,ROWS(펀드_거래),1),0)-1,2,COUNTIF(펀드_거래,$E16),1), OFFSET(펀드_거래,MATCH($E16,OFFSET(펀드_거래,0,0,ROWS(펀드_거래),1),0)-1,3,COUNTIF(펀드_거래,$E16),1) ) ), "N/A", XIRR( OFFSET(펀드_거래,MATCH($E16,OFFSET(펀드_거래,0,0,ROWS(펀드_거래),1),0)-1,2,COUNTIF(펀드_거래,$E16),1), OFFSET(펀드_거래,MATCH($E16,OFFSET(펀드_거래,0,0,ROWS(펀드_거래),1),0)-1,3,COUNTIF(펀드_거래,$E16),1), IF(SUM(OFFSET(펀드_거래,MATCH($E16,OFFSET(펀드_거래,0,0,ROWS(펀드_거래),1),0)-1,2,COUNTIF(펀드_거래,$E16),1))>0, 1%, -1%) ) ) ) | Y16: =IF( ISBLANK($F16), "", IF(ISNUMBER(P16), (AD16+AE16+AF16+AJ16-AK16)/P16, "N/A") ) | Z16: =IF( ISBLANK($E16), "", SUMPRODUCT( (OFFSET(제안사_투자현황,0,1,ROWS(제안사_투자현황),1)=$E16)*1, ISTEXT(OFFSET(제안사_투자현황,0,4,ROWS(제안사_투자현황),1))*1 ) ) | AA16: =IF( ISBLANK($E16), "", SUMPRODUCT( (OFFSET(제안사_투자현황,0,1,ROWS(제안사_투자현황),1)=$E16)*1, OFFSET(제안사_투자현황,0,9,ROWS(제안사_투자현황),1)) ) | AB16: =IF( ISBLANK($E16), "", SUMPRODUCT( (OFFSET(제안사_투자현황,0,1,ROWS(제안사_투자현황),1)=$E16)*1, OFFSET(제안사_투자현황,0,14,ROWS(제안사_투자현황),1)) ) | AC16: =IF( ISBLANK($E16), "", SUMPRODUCT( (OFFSET(제안사_투자현황,0,1,ROWS(제안사_투자현황),1)=$E16)*1, OFFSET(제안사_투자현황,0,21,ROWS(제안사_투자현황),1)) ) | AD16: =IF( ISBLANK($E16), "", SUMPRODUCT( (OFFSET(제안사_투자현황,0,1,ROWS(제안사_투자현황),1)=$E16)*1, OFFSET(제안사_투자현황,0,22,ROWS(제안사_투자현황),1)) ) | AE16: =IF( ISBLANK($E16), "", SUMPRODUCT( (OFFSET(펀드_거래,0,0,ROWS(펀드_거래),1)=$E16)*1, (OFFSET(펀드_거래,0,1,ROWS(펀드_거래),1)="현금분배")*1, OFFSET(펀드_거래,0,2,ROWS(펀드_거래),1)/1000000 ) + SUMPRODUCT( (OFFSET(펀드_거래,0,0,ROWS(펀드_거래),1)=$F16)*1, (OFFSET(펀드_거래,0,1,ROWS(펀드_거래),1)="현물분배")*1, OFFSET(펀드_거래,0,2,ROWS(펀드_거래),1)/1000000 ) ) | AF16: =IF( ISBLANK($E16), "", SUMPRODUCT( (OFFSET(펀드_거래,0,0,ROWS(펀드_거래),1)=$E16)*1, (OFFSET(펀드_거래,0,1,ROWS(펀드_거래),1)="성과보수")*1, OFFSET(펀드_거래,0,2,ROWS(펀드_거래),1)/1000000) ) | AL16: =IF( ISERROR(AD16+AJ16-AK16), "", AD16+AJ16-AK16 ) | BM16: =IF(ISBLANK($E16),"",SUMPRODUCT((OFFSET(핵심운용인력_변경내역,0,0,ROWS(핵심운용인력_변경내역),1)=$E16)*1,(OFFSET(핵심운용인력_변경내역,0,1,ROWS(핵심운용인력_변경내역),1)="유출")*1))

Sheet 2.6 제안사 투자현황
E2: 0 | F2: 1 | G2: 2 | H2: 3 | I2: 4 | J2: 5 | K2: 6 | L2: 7 | M2: 8 | N2: 9 | O2: 10 | P2: 11 | Q2: 12 | R2: 13 | S2: 14 | T2: 15 | U2: 16 | V2: 17 | W2: 18 | X2: 19 | Y2: 20 | Z2: 21 | AA2: 22 | AB2: 23 | AC2: 24 | AD2: 25 | AE2: 26 | AF2: 27 | AG2: 28
E4: 투자현황 | R4: 회수투자자산 | W4: 부실발생기준에 의거한 회계상 감액내역 | Y4: 미회수투자자산 | AD4: 참여자정보 | AG4: 기타사항
E5: 펀드구분 | F5: 펀드명 | G5: 펀드 사업자번호(고유번호) | H5: 펀드법적유형 | I5: 피투자기업명 | J5: 피투자기업 법인유형 | K5: 피투자기업 주요산업분야 | L5: 투자일 | M5: 투자유형 | N5: 투자금액 | O5: 회수구분 | P5: 투자 수익율 (IRR) | Q5: 동반투자자 | R5: 최종회수일 | S5: 회수총액 | T5: 투자원금 | U5: 회수방법 | V5: 투자기간 | W5: 감액 여부 | X5: 감액 금액 | Y5: 시장성 유무 | Z5: 투자원금 | AA5: 가치 | AB5: 가치산출근거 | AC5: 현재 담당자 성명 | AD5: 발굴및 투자검토 | AE5: 사후 관리 | AF5: 회수
G6: =IF(ISBLANK($F6),"",VLOOKUP($F6,제안사_펀드현황,3,FALSE)) | V6: =IF(ISBLANK(R6),"",DATEDIF(L6,R6,"d")/365)
G7: =IF(ISBLANK($F7),"",VLOOKUP($F7,제안사_펀드현황,3,FALSE)) | V7: =IF(ISBLANK(R7),"",DATEDIF(L7,R7,"d")/365)
G8: =IF(ISBLANK($F8),"",VLOOKUP($F8,제안사_펀드현황,3,FALSE)) | V8: =IF(ISBLANK(R8),"",DATEDIF(L8,R8,"d")/365)
G9: =IF(ISBLANK($F9),"",VLOOKUP($F9,제안사_펀드현황,3,FALSE)) | V9: =IF(ISBLANK(R9),"",DATEDIF(L9,R9,"d")/365)
G10: =IF(ISBLANK($F10),"",VLOOKUP($F10,제안사_펀드현황,3,FALSE)) | V10: =IF(ISBLANK(R10),"",DATEDIF(L10,R10,"d")/365)
G11: =IF(ISBLANK($F11),"",VLOOKUP($F11,제안사_펀드현황,3,FALSE)) | V11: =IF(ISBLANK(R11),"",DATEDIF(L11,R11,"d")/365)
G12: =IF(ISBLANK($F12),"",VLOOKUP($F12,제안사_펀드현황,3,FALSE)) | V12: =IF(ISBLANK(R12),"",DATEDIF(L12,R12,"d")/365)
G13: =IF(ISBLANK($F13),"",VLOOKUP($F13,제안사_펀드현황,3,FALSE)) | V13: =IF(ISBLANK(R13),"",DATEDIF(L13,R13,"d")/365)
G14: =IF(ISBLANK($F14),"",VLOOKUP($F14,제안사_펀드현황,3,FALSE)) | V14: =IF(ISBLANK(R14),"",DATEDIF(L14,R14,"d")/365)
G15: =IF(ISBLANK($F15),"",VLOOKUP($F15,제안사_펀드현황,3,FALSE)) | V15: =IF(ISBLANK(R15),"",DATEDIF(L15,R15,"d")/365)
G16: =IF(ISBLANK($F16),"",VLOOKUP($F16,제안사_펀드현황,3,FALSE)) | V16: =IF(ISBLANK(R16),"",DATEDIF(L16,R16,"d")/365)
G17: =IF(ISBLANK($F17),"",VLOOKUP($F17,제안사_펀드현황,3,FALSE)) | V17: =IF(ISBLANK(R17),"",DATEDIF(L17,R17,"d")/365)
... G237: =IF(ISBLANK($F237),"",VLOOKUP($F237,제안사_펀드현황,3,FALSE)) | V237: =IF(ISBLANK(R237),"",DATEDIF(L237,R237,"d")/365)

Sheet 3.1 대표이사&참여인력 개요
E4: 대표이사/참여인력 | H4: 현재 재직회사 | Q4: 인력구분 | R4: 대표펀드매니저 및 핵심운용인력 | S4: 제재 | U4: 투자관련 경력 (년수) | V4: 산업경력 (년수) | W4: 투자 및 회수실적 | AE4: 현재 관리중인 투자
E5: 성명 | F5: 주민등록번호상 앞6자리 | G5: 국적 | H5: 회사명 | I5: 부서 | J5: 직위 | K5: 제안사 지분율 (%) | L5: 제안사 등기임원 등재여부 | M5: 주요담당업무 | N5: 전화번호 | O5: 휴대전화번호 | P5: 이메일 | S5: 제재경력여부 | T5: 제재내역 | W5: 투자 건수 | X5: 투자건수 (회수료) | Y5: 투자총액 | Z5: 회수총액 | AA5: 미회수 투자자산 투자원금 총액 | AB5: 미회수 투자자산 가치총액 | AC5: 투자금액 가중평균 수익율 | AD5: 투자금액 가중평균수익율 (회수료) | AE5: 미회수 투자건수 | AF5: 미회수투자자산 투자원금총액 | AG5: 미회수투자자산가치총액
U11: =IF(ISBLANK($E11), "", SUMPRODUCT((OFFSET(대표이사_참여인력_경력,0,0,ROWS(대표이사_참여인력_경력),1)=$E11)*1, OFFSET(대표이사_참여인력_경력,0,20,ROWS(대표이사_참여인력_경력),1), (OFFSET(대표이사_참여인력_경력,0,14,ROWS(대표이사_참여인력_경력),1)="YES")*1) ) | V11: =IF(ISBLANK($E11), "", SUMPRODUCT((OFFSET(대표이사_참여인력_경력,0,0,ROWS(대표이사_참여인력_경력),1)=$E11)*1, OFFSET(대표이사_참여인력_경력,0,20,ROWS(대표이사_참여인력_경력),1), (OFFSET(대표이사_참여인력_경력,0,14,ROWS(대표이사_참여인력_경력),1)="NO")*1, (OFFSET(대표이사_참여인력_경력,0,16,ROWS(대표이사_참여인력_경력),1)="YES")*1) ) | W11: =IF(ISBLANK($E11), "", SUMPRODUCT((OFFSET(대표이사_참여인력_투자현황,0,0,ROWS(대표이사_참여인력_투자현황),1)=$E11)*1, ISTEXT(OFFSET(대표이사_참여인력_투자현황,0,8,ROWS(대표이사_참여인력_투자현황),1))*1)) | X11: =IF(ISBLANK($E11), "", SUMPRODUCT((OFFSET(대표이사_참여인력_투자현황,0,0,ROWS(대표이사_참여인력_투자현황),1)=$E11)*1, (OFFSET(대표이사_참여인력_투자현황,0,17,ROWS(대표이사_참여인력_투자현황),1)="회수료")*1)) | Y11: =IF(ISBLANK($E11), "", SUMPRODUCT((OFFSET(대표이사_참여인력_투자현황,0,0,ROWS(대표이사_참여인력_투자현황),1)=$E11)*1, OFFSET(대표이사_참여인력_투자현황,0,15,ROWS(대표이사_참여인력_투자현황),1))) | Z11: =IF(ISBLANK($E11), "", SUMPRODUCT((OFFSET(대표이사_참여인력_투자현황,0,0,ROWS(대표이사_참여인력_투자현황),1)=$E11)*1, OFFSET(대표이사_참여인력_투자현황,0,20,ROWS(대표이사_참여인력_투자현황),1))) | AA11: =IF(ISBLANK($E11), "", SUMPRODUCT((OFFSET(대표이사_참여인력_투자현황,0,0,ROWS(대표이사_참여인력_투자현황),1)=$E11)*1, OFFSET(대표이사_참여인력_투자현황,0,27,ROWS(대표이사_참여인력_투자현황),1))) | AB11: =IF(ISBLANK($E11), "", SUMPRODUCT((OFFSET(대표이사_참여인력_투자현황,0,0,ROWS(대표이사_참여인력_투자현황),1)=$E11)*1, OFFSET(대표이사_참여인력_투자현황,0,28,ROWS(대표이사_참여인력_투자현황),1))) | AC11: =IFERROR(IF(ISBLANK($E11), "", SUMPRODUCT((OFFSET(대표이사_참여인력_투자현황,0,0,ROWS(대표이사_참여인력_투자현황),1)=$E11)*1, OFFSET(대표이사_참여인력_투자현황,0,15,ROWS(대표이사_참여인력_투자현황),1), OFFSET(대표이사_참여인력_투자현황,0,18,ROWS(대표이사_참여인력_투자현황),1))/Y11),0) | AD11: =IFERROR(IF(ISBLANK($E11), "",IF(SUMPRODUCT( (OFFSET(대표이사_참여인력_투자현황,0,0,ROWS(대표이사_참여인력_투자현황),1)=$E11)*1, OFFSET(대표이사_참여인력_투자현황,0,15,ROWS(대표이사_참여인력_투자현황),1), (OFFSET(대표이사_참여인력_투자현황,0,17,ROWS(대표이사_참여인력_투자현황),1)="회수료")*1 ) = 0, 0, SUMPRODUCT( (OFFSET(대표이사_참여인력_투자현황,0,0,ROWS(대표이사_참여인력_투자현황),1)=$E11)*1, OFFSET(대표이사_참여인력_투자현황,0,15,ROWS(대표이사_참여인력_투자현황),1), (OFFSET(대표이사_참여인력_투자현황,0,17,ROWS(대표이사_참여인력_투자현황),1)="회수료")*1, OFFSET(대표이사_참여인력_투자현황,0,18,ROWS(대표이사_참여인력_투자현황),1) ) / SUMPRODUCT( (OFFSET(대표이사_참여인력_투자현황,0,0,ROWS(대표이사_참여인력_투자현황),1)=$E11)*1, OFFSET(대표이사_참여인력_투자현황,0,15,ROWS(대표이사_참여인력_투자현황),1), (OFFSET(대표이사_참여인력_투자현황,0,17,ROWS(대표이사_참여인력_투자현황),1)="회수료")*1 ) )),0) | AE11: =IF(ISBLANK($E11), "", SUMPRODUCT( (OFFSET(제안사_투자현황,0,24,ROWS(제안사_투자현황),1)=$E11)*1, (OFFSET(제안사_투자현황,0,10,ROWS(제안사_투자현황),1)<>"회수료")*1 ) ) | AF11: =IF(ISBLANK($E11), "", SUMPRODUCT( (OFFSET(제안사_투자현황,0,24,ROWS(제안사_투자현황),1)=$E11)*1, (OFFSET(제안사_투자현황,0,10,ROWS(제안사_투자현황),1)<>"회수료")*1, OFFSET(제안사_투자현황,0,21,ROWS(제안사_투자현황),1) ) ) | AG11: =IF(ISBLANK($E11), "", SUMPRODUCT( (OFFSET(제안사_투자현황,0,24,ROWS(제안사_투자현황),1)=$E11)*1, (OFFSET(제안사_투자현황,0,10,ROWS(제안사_투자현황),1)<>"회수료")*1, OFFSET(제안사_투자현황,0,22,ROWS(제안사_투자현황),1) ) )
U12: =IF(ISBLANK($E12), "", SUMPRODUCT((OFFSET(대표이사_참여인력_경력,0,0,ROWS(대표이사_참여인력_경력),1)=$E12)*1, OFFSET(대표이사_참여인력_경력,0,20,ROWS(대표이사_참여인력_경력),1), (OFFSET(대표이사_참여인력_경력,0,14,ROWS(대표이사_참여인력_경력),1)="YES")*1) ) | V12: =IF(ISBLANK($E12), "", SUMPRODUCT((OFFSET(대표이사_참여인력_경력,0,0,ROWS(대표이사_참여인력_경력),1)=$E12)*1, OFFSET(대표이사_참여인력_경력,0,20,ROWS(대표이사_참여인력_경력),1), (OFFSET(대표이사_참여인력_경력,0,14,ROWS(대표이사_참여인력_경력),1)="NO")*1, (OFFSET(대표이사_참여인력_경력,0,16,ROWS(대표이사_참여인력_경력),1)="YES")*1) ) | W12: =IF(ISBLANK($E12), "", SUMPRODUCT((OFFSET(대표이사_참여인력_투자현황,0,0,ROWS(대표이사_참여인력_투자현황),1)=$E12)*1, ISTEXT(OFFSET(대표이사_참여인력_투자현황,0,8,ROWS(대표이사_참여인력_투자현황),1))*1)) | X12: =IF(ISBLANK($E12), "", SUMPRODUCT((OFFSET(대표이사_참여인력_투자현황,0,0,ROWS(대표이사_참여인력_투자현황),1)=$E12)*1, (OFFSET(대표이사_참여인력_투자현황,0,17,ROWS(대표이사_참여인력_투자현황),1)="회수료")*1)) | Y12: =IF(ISBLANK($E12), "", SUMPRODUCT((OFFSET(대표이사_참여인력_투자현황,0,0,ROWS(대표이사_참여인력_투자현황),1)=$E12)*1, OFFSET(대표이사_참여인력_투자현황,0,15,ROWS(대표이사_참여인력_투자현황),1))) | Z12: =IF(ISBLANK($E12), "", SUMPRODUCT((OFFSET(대표이사_참여인력_투자현황,0,0,ROWS(대표이사_참여인력_투자현황),1)=$E12)*1, OFFSET(대표이사_참여인력_투자현황,0,20,ROWS(대표이사_참여인력_투자현황),1))) | AA12: =IF(ISBLANK($E12), "", SUMPRODUCT((OFFSET(대표이사_참여인력_투자현황,0,0,ROWS(대표이사_참여인력_투자현황),1)=$E12)*1, OFFSET(대표이사_참여인력_투자현황,0,27,ROWS(대표이사_참여인력_투자현황),1))) | AB12: =IF(ISBLANK($E12), "", SUMPRODUCT((OFFSET(대표이사_참여인력_투자현황,0,0,ROWS(대표이사_참여인력_투자현황),1)=$E12)*1, OFFSET(대표이사_참여인력_투자현황,0,28,ROWS(대표이사_참여인력_투자현황),1))) | AC12: =IFERROR(IF(ISBLANK($E12), "", SUMPRODUCT((OFFSET(대표이사_참여인력_투자현황,0,0,ROWS(대표이사_참여인력_투자현황),1)=$E12)*1, OFFSET(대표이사_참여인력_투자현황,0,15,ROWS(대표이사_참여인력_투자현황),1), OFFSET(대표이사_참여인력_투자현황,0,18,ROWS(대표이사_참여인력_투자현황),1))/Y12),0) | AD12: =IFERROR(IF(ISBLANK($E12), "",IF(SUMPRODUCT( (OFFSET(대표이사_참여인력_투자현황,0,0,ROWS(대표이사_참여인력_투자현황),1)=$E12)*1, OFFSET(대표이사_참여인력_투자현황,0,15,ROWS(대표이사_참여인력_투자현황),1), (OFFSET(대표이사_참여인력_투자현황,0,17,ROWS(대표이사_참여인력_투자현황),1)="회수료")*1 ) = 0, 0, SUMPRODUCT( (OFFSET(대표이사_참여인력_투자현황,0,0,ROWS(대표이사_참여인력_투자현황),1)=$E12)*1, OFFSET(대표이사_참여인력_투자현황,0,15,ROWS(대표이사_참여인력_투자현황),1), (OFFSET(대표이사_참여인력_투자현황,0,17,ROWS(대표이사_참여인력_투자현황),1)="회수료")*1, OFFSET(대표이사_참여인력_투자현황,0,18,ROWS(대표이사_참여인력_투자현황),1) ) / SUMPRODUCT( (OFFSET(대표이사_참여인력_투자현황,0,0,ROWS(대표이사_참여인력_투자현황),1)=$E12)*1, OFFSET(대표이사_참여인력_투자현황,0,15,ROWS(대표이사_참여인력_투자현황),1), (OFFSET(대표이사_참여인력_투자현황,0,17,ROWS(대표이사_참여인력_투자현황),1)="회수료")*1 ) )),0) | AE12: =IF(ISBLANK($E12), "", SUMPRODUCT( (OFFSET(제안사_투자현황,0,24,ROWS(제안사_투자현황),1)=$E12)*1, (OFFSET(제안사_투자현황,0,10,ROWS(제안사_투자현황),1)<>"회수료")*1 ) ) | AF12: =IF(ISBLANK($E12), "", SUMPRODUCT( (OFFSET(제안사_투자현황,0,24,ROWS(제안사_투자현황),1)=$E12)*1, (OFFSET(제안사_투자현황,0,10,ROWS(제안사_투자현황),1)<>"회수료")*1, OFFSET(제안사_투자현황,0,21,ROWS(제안사_투자현황),1) ) ) | AG12: =IF(ISBLANK($E12), "", SUMPRODUCT( (OFFSET(제안사_투자현황,0,24,ROWS(제안사_투자현황),1)=$E12)*1, (OFFSET(제안사_투자현황,0,10,ROWS(제안사_투자현황),1)<>"회수료")*1, OFFSET(제안사_투자현황,0,22,ROWS(제안사_투자현황),1) ) )
U13: =IF(ISBLANK($E13), "", SUMPRODUCT((OFFSET(대표이사_참여인력_경력,0,0,ROWS(대표이사_참여인력_경력),1)=$E13)*1, OFFSET(대표이사_참여인력_경력,0,20,ROWS(대표이사_참여인력_경력),1), (OFFSET(대표이사_참여인력_경력,0,14,ROWS(대표이사_참여인력_경력),1)="YES")*1) ) | V13: =IF(ISBLANK($E13), "", SUMPRODUCT((OFFSET(대표이사_참여인력_경력,0,0,ROWS(대표이사_참여인력_경력),1)=$E13)*1, OFFSET(대표이사_참여인력_경력,0,20,ROWS(대표이사_참여인력_경력),1), (OFFSET(대표이사_참여인력_경력,0,14,ROWS(대표이사_참여인력_경력),1)="NO")*1, (OFFSET(대표이사_참여인력_경력,0,16,ROWS(대표이사_참여인력_경력),1)="YES")*1) ) | W13: =IF(ISBLANK($E13), "", SUMPRODUCT((OFFSET(대표이사_참여인력_투자현황,0,0,ROWS(대표이사_참여인력_투자현황),1)=$E13)*1, ISTEXT(OFFSET(대표이사_참여인력_투자현황,0,8,ROWS(대표이사_참여인력_투자현황),1))*1)) | X13: =IF(ISBLANK($E13), "", SUMPRODUCT((OFFSET(대표이사_참여인력_투자현황,0,0,ROWS(대표이사_참여인력_투자현황),1)=$E13)*1, (OFFSET(대표이사_참여인력_투자현황,0,17,ROWS(대표이사_참여인력_투자현황),1)="회수료")*1)) | Y13: =IF(ISBLANK($E13), "", SUMPRODUCT((OFFSET(대표이사_참여인력_투자현황,0,0,ROWS(대표이사_참여인력_투자현황),1)=$E13)*1, OFFSET(대표이사_참여인력_투자현황,0,15,ROWS(대표이사_참여인력_투자현황),1))) | Z13: =IF(ISBLANK($E13), "", SUMPRODUCT((OFFSET(대표이사_참여인력_투자현황,0,0,ROWS(대표이사_참여인력_투자현황),1)=$E13)*1, OFFSET(대표이사_참여인력_투자현황,0,20,ROWS(대표이사_참여인력_투자현황),1))) | AA13: =IF(ISBLANK($E13), "", SUMPRODUCT((OFFSET(대표이사_참여인력_투자현황,0,0,ROWS(대표이사_참여인력_투자현황),1)=$E13)*1, OFFSET(대표이사_참여인력_투자현황,0,27,ROWS(대표이사_참여인력_투자현황),1))) | AB13: =IF(ISBLANK($E13), "", SUMPRODUCT((OFFSET(대표이사_참여인력_투자현황,0,0,ROWS(대표이사_참여인력_투자현황),1)=$E13)*1, OFFSET(대표이사_참여인력_투자현황,0,28,ROWS(대표이사_참여인력_투자현황),1))) | AC13: =IFERROR(IF(ISBLANK($E13), "", SUMPRODUCT((OFFSET(대표이사_참여인력_투자현황,0,0,ROWS(대표이사_참여인력_투자현황),1)=$E13)*1, OFFSET(대표이사_참여인력_투자현황,0,15,ROWS(대표이사_참여인력_투자현황),1), OFFSET(대표이사_참여인력_투자현황,0,18,ROWS(대표이사_참여인력_투자현황),1))/Y13),0) | AD13: =IFERROR(IF(ISBLANK($E13), "",IF(SUMPRODUCT( (OFFSET(대표이사_참여인력_투자현황,0,0,ROWS(대표이사_참여인력_투자현황),1)=$E13)*1, OFFSET(대표이사_참여인력_투자현황,0,15,ROWS(대표이사_참여인력_투자현황),1), (OFFSET(대표이사_참여인력_투자현황,0,17,ROWS(대표이사_참여인력_투자현황),1)="회수료")*1 ) = 0, 0, SUMPRODUCT( (OFFSET(대표이사_참여인력_투자현황,0,0,ROWS(대표이사_참여인력_투자현황),1)=$E13)*1, OFFSET(대표이사_참여인력_투자현황,0,15,ROWS(대표이사_참여인력_투자현황),1), (OFFSET(대표이사_참여인력_투자현황,0,17,ROWS(대표이사_참여인력_투자현황),1)="회수료")*1, OFFSET(대표이사_참여인력_투자현황,0,18,ROWS(대표이사_참여인력_투자현황),1) ) / SUMPRODUCT( (OFFSET(대표이사_참여인력_투자현황,0,0,ROWS(대표이사_참여인력_투자현황),1)=$E13)*1, OFFSET(대표이사_참여인력_투자현황,0,15,ROWS(대표이사_참여인력_투자현황),1), (OFFSET(대표이사_참여인력_투자현황,0,17,ROWS(대표이사_참여인력_투자현황),1)="회수료")*1 ) )),0) | AE13: =IF(ISBLANK($E13), "", SUMPRODUCT( (OFFSET(제안사_투자현황,0,24,ROWS(제안사_투자현황),1)=$E13)*1, (OFFSET(제안사_투자현황,0,10,ROWS(제안사_투자현황),1)<>"회수료")*1 ) ) | AF13: =IF(ISBLANK($E13), "", SUMPRODUCT( (OFFSET(제안사_투자현황,0,24,ROWS(제안사_투자현황),1)=$E13)*1, (OFFSET(제안사_투자현황,0,10,ROWS(제안사_투자현황),1)<>"회수료")*1, OFFSET(제안사_투자현황,0,21,ROWS(제안사_투자현황),1) ) ) | AG13: =IF(ISBLANK($E13), "", SUMPRODUCT( (OFFSET(제안사_투자현황,0,24,ROWS(제안사_투자현황),1)=$E13)*1, (OFFSET(제안사_투자현황,0,10,ROWS(제안사_투자현황),1)<>"회수료")*1, OFFSET(제안사_투자현황,0,22,ROWS(제안사_투자현황),1) ) )
U14: =IF(ISBLANK($E14), "", SUMPRODUCT((OFFSET(대표이사_참여인력_경력,0,0,ROWS(대표이사_참여인력_경력),1)=$E14)*1, OFFSET(대표이사_참여인력_경력,0,20,ROWS(대표이사_참여인력_경력),1), (OFFSET(대표이사_참여인력_경력,0,14,ROWS(대표이사_참여인력_경력),1)="YES")*1) ) | V14: =IF(ISBLANK($E14), "", SUMPRODUCT((OFFSET(대표이사_참여인력_경력,0,0,ROWS(대표이사_참여인력_경력),1)=$E14)*1, OFFSET(대표이사_참여인력_경력,0,20,ROWS(대표이사_참여인력_경력),1), (OFFSET(대표이사_참여인력_경력,0,14,ROWS(대표이사_참여인력_경력),1)="NO")*1, (OFFSET(대표이사_참여인력_경력,0,16,ROWS(대표이사_참여인력_경력),1)="YES")*1) ) | W14: =IF(ISBLANK($E14), "", SUMPRODUCT((OFFSET(대표이사_참여인력_투자현황,0,0,ROWS(대표이사_참여인력_투자현황),1)=$E14)*1, ISTEXT(OFFSET(대표이사_참여인력_투자현황,0,8,ROWS(대표이사_참여인력_투자현황),1))*1)) | X14: =IF(ISBLANK($E14), "", SUMPRODUCT((OFFSET(대표이사_참여인력_투자현황,0,0,ROWS(대표이사_참여인력_투자현황),1)=$E14)*1, (OFFSET(대표이사_참여인력_투자현황,0,17,ROWS(대표이사_참여인력_투자현황),1)="회수료")*1)) | Y14: =IF(ISBLANK($E14), "", SUMPRODUCT((OFFSET(대표이사_참여인력_투자현황,0,0,ROWS(대표이사_참여인력_투자현황),1)=$E14)*1, OFFSET(대표이사_참여인력_투자현황,0,15,ROWS(대표이사_참여인력_투자현황),1))) | Z14: =IF(ISBLANK($E14), "", SUMPRODUCT((OFFSET(대표이사_참여인력_투자현황,0,0,ROWS(대표이사_참여인력_투자현황),1)=$E14)*1, OFFSET(대표이사_참여인력_투자현황,0,20,ROWS(대표이사_참여인력_투자현황),1))) | AA14: =IF(ISBLANK($E14), "", SUMPRODUCT((OFFSET(대표이사_참여인력_투자현황,0,0,ROWS(대표이사_참여인력_투자현황),1)=$E14)*1, OFFSET(대표이사_참여인력_투자현황,0,27,ROWS(대표이사_참여인력_투자현황),1))) | AB14: =IF(ISBLANK($E14), "", SUMPRODUCT((OFFSET(대표이사_참여인력_투자현황,0,0,ROWS(대표이사_참여인력_투자현황),1)=$E14)*1, OFFSET(대표이사_참여인력_투자현황,0,28,ROWS(대표이사_참여인력_투자현황),1))) | AC14: =IFERROR(IF(ISBLANK($E14), "", SUMPRODUCT((OFFSET(대표이사_참여인력_투자현황,0,0,ROWS(대표이사_참여인력_투자현황),1)=$E14)*1, OFFSET(대표이사_참여인력_투자현황,0,15,ROWS(대표이사_참여인력_투자현황),1), OFFSET(대표이사_참여인력_투자현황,0,18,ROWS(대표이사_참여인력_투자현황),1))/Y14),0) | AD14: =IFERROR(IF(ISBLANK($E14), "",IF(SUMPRODUCT( (OFFSET(대표이사_참여인력_투자현황,0,0,ROWS(대표이사_참여인력_투자현황),1)=$E14)*1, OFFSET(대표이사_참여인력_투자현황,0,15,ROWS(대표이사_참여인력_투자현황),1), (OFFSET(대표이사_참여인력_투자현황,0,17,ROWS(대표이사_참여인력_투자현황),1)="회수료")*1 ) = 0, 0, SUMPRODUCT( (OFFSET(대표이사_참여인력_투자현황,0,0,ROWS(대표이사_참여인력_투자현황),1)=$E14)*1, OFFSET(대표이사_참여인력_투자현황,0,15,ROWS(대표이사_참여인력_투자현황),1), (OFFSET(대표이사_참여인력_투자현황,0,17,ROWS(대표이사_참여인력_투자현황),1)="회수료")*1, OFFSET(대표이사_참여인력_투자현황,0,18,ROWS(대표이사_참여인력_투자현황),1) ) / SUMPRODUCT( (OFFSET(대표이사_참여인력_투자현황,0,0,ROWS(대표이사_참여인력_투자현황),1)=$E14)*1, OFFSET(대표이사_참여인력_투자현황,0,15,ROWS(대표이사_참여인력_투자현황),1), (OFFSET(대표이사_참여인력_투자현황,0,17,ROWS(대표이사_참여인력_투자현황),1)="회수료")*1 ) )),0) | AE14: =IF(ISBLANK($E14), "", SUMPRODUCT( (OFFSET(제안사_투자현황,0,24,ROWS(제안사_투자현황),1)=$E14)*1, (OFFSET(제안사_투자현황,0,10,ROWS(제안사_투자현황),1)<>"회수료")*1 ) ) | AF14: =IF(ISBLANK($E14), "", SUMPRODUCT( (OFFSET(제안사_투자현황,0,24,ROWS(제안사_투자현황),1)=$E14)*1, (OFFSET(제안사_투자현황,0,10,ROWS(제안사_투자현황),1)<>"회수료")*1, OFFSET(제안사_투자현황,0,21,ROWS(제안사_투자현황),1) ) ) | AG14: =IF(ISBLANK($E14), "", SUMPRODUCT( (OFFSET(제안사_투자현황,0,24,ROWS(제안사_투자현황),1)=$E14)*1, (OFFSET(제안사_투자현황,0,10,ROWS(제안사_투자현황),1)<>"회수료")*1, OFFSET(제안사_투자현황,0,22,ROWS(제안사_투자현황),1) ) )
U15: =IF(ISBLANK($E15), "", SUMPRODUCT((OFFSET(대표이사_참여인력_경력,0,0,ROWS(대표이사_참여인력_경력),1)=$E15)*1, OFFSET(대표이사_참여인력_경력,0,20,ROWS(대표이사_참여인력_경력),1), (OFFSET(대표이사_참여인력_경력,0,14,ROWS(대표이사_참여인력_경력),1)="YES")*1) ) | V15: =IF(ISBLANK($E15), "", SUMPRODUCT((OFFSET(대표이사_참여인력_경력,0,0,ROWS(대표이사_참여인력_경력),1)=$E15)*1, OFFSET(대표이사_참여인력_경력,0,20,ROWS(대표이사_참여인력_경력),1), (OFFSET(대표이사_참여인력_경력,0,14,ROWS(대표이사_참여인력_경력),1)="NO")*1, (OFFSET(대표이사_참여인력_경력,0,16,ROWS(대표이사_참여인력_경력),1)="YES")*1) ) | W15: =IF(ISBLANK($E15), "", SUMPRODUCT((OFFSET(대표이사_참여인력_투자현황,0,0,ROWS(대표이사_참여인력_투자현황),1)=$E15)*1, ISTEXT(OFFSET(대표이사_참여인력_투자현황,0,8,ROWS(대표이사_참여인력_투자현황),1))*1)) | X15: =IF(ISBLANK($E15), "", SUMPRODUCT((OFFSET(대표이사_참여인력_투자현황,0,0,ROWS(대표이사_참여인력_투자현황),1)=$E15)*1, (OFFSET(대표이사_참여인력_투자현황,0,17,ROWS(대표이사_참여인력_투자현황),1)="회수료")*1)) | Y15: =IF(ISBLANK($E15), "", SUMPRODUCT((OFFSET(대표이사_참여인력_투자현황,0,0,ROWS(대표이사_참여인력_투자현황),1)=$E15)*1, OFFSET(대표이사_참여인력_투자현황,0,15,ROWS(대표이사_참여인력_투자현황),1))) | Z15: =IF(ISBLANK($E15), "", SUMPRODUCT((OFFSET(대표이사_참여인력_투자현황,0,0,ROWS(대표이사_참여인력_투자현황),1)=$E15)*1, OFFSET(대표이사_참여인력_투자현황,0,20,ROWS(대표이사_참여인력_투자현황),1))) | AA15: =IF(ISBLANK($E15), "", SUMPRODUCT((OFFSET(대표이사_참여인력_투자현황,0,0,ROWS(대표이사_참여인력_투자현황),1)=$E15)*1, OFFSET(대표이사_참여인력_투자현황,0,27,ROWS(대표이사_참여인력_투자현황),1))) | AB15: =IF(ISBLANK($E15), "", SUMPRODUCT((OFFSET(대표이사_참여인력_투자현황,0,0,ROWS(대표이사_참여인력_투자현황),1)=$E15)*1, OFFSET(대표이사_참여인력_투자현황,0,28,ROWS(대표이사_참여인력_투자현황),1))) | AC15: =IFERROR(IF(ISBLANK($E15), "", SUMPRODUCT((OFFSET(대표이사_참여인력_투자현황,0,0,ROWS(대표이사_참여인력_투자현황),1)=$E15)*1, OFFSET(대표이사_참여인력_투자현황,0,15,ROWS(대표이사_참여인력_투자현황),1), OFFSET(대표이사_참여인력_투자현황,0,18,ROWS(대표이사_참여인력_투자현황),1))/Y15),0) | AD15: =IFERROR(IF(ISBLANK($E15), "",IF(SUMPRODUCT( (OFFSET(대표이사_참여인력_투자현황,0,0,ROWS(대표이사_참여인력_투자현황),1)=$E15)*1, OFFSET(대표이사_참여인력_투자현황,0,15,ROWS(대표이사_참여인력_투자현황),1), (OFFSET(대표이사_참여인력_투자현황,0,17,ROWS(대표이사_참여인력_투자현황),1)="회수료")*1 ) = 0, 0, SUMPRODUCT( (OFFSET(대표이사_참여인력_투자현황,0,0,ROWS(대표이사_참여인력_투자현황),1)=$E15)*1, OFFSET(대표이사_참여인력_투자현황,0,15,ROWS(대표이사_참여인력_투자현황),1), (OFFSET(대표이사_참여인력_투자현황,0,17,ROWS(대표이사_참여인력_투자현황),1)="회수료")*1, OFFSET(대표이사_참여인력_투자현황,0,18,ROWS(대표이사_참여인력_투자현황),1) ) / SUMPRODUCT( (OFFSET(대표이사_참여인력_투자현황,0,0,ROWS(대표이사_참여인력_투자현황),1)=$E15)*1, OFFSET(대표이사_참여인력_투자현황,0,15,ROWS(대표이사_참여인력_투자현황),1), (OFFSET(대표이사_참여인력_투자현황,0,17,ROWS(대표이사_참여인력_투자현황),1)="회수료")*1 ) )),0) | AE15: =IF(ISBLANK($E15), "", SUMPRODUCT( (OFFSET(제안사_투자현황,0,24,ROWS(제안사_투자현황),1)=$E15)*1, (OFFSET(제안사_투자현황,0,10,ROWS(제안사_투자현황),1)<>"회수료")*1 ) ) | AF15: =IF(ISBLANK($E15), "", SUMPRODUCT( (OFFSET(제안사_투자현황,0,24,ROWS(제안사_투자현황),1)=$E15)*1, (OFFSET(제안사_투자현황,0,10,ROWS(제안사_투자현황),1)<>"회수료")*1, OFFSET(제안사_투자현황,0,21,ROWS(제안사_투자현황),1) ) ) | AG15: =IF(ISBLANK($E15), "", SUMPRODUCT( (OFFSET(제안사_투자현황,0,24,ROWS(제안사_투자현황),1)=$E15)*1, (OFFSET(제안사_투자현황,0,10,ROWS(제안사_투자현황),1)<>"회수료")*1, OFFSET(제안사_투자현황,0,22,ROWS(제안사_투자현황),1) ) )
U16: =IF(ISBLANK($E16), "", SUMPRODUCT((OFFSET(대표이사_참여인력_경력,0,0,ROWS(대표이사_참여인력_경력),1)=$E16)*1, OFFSET(대표이사_참여인력_경력,0,20,ROWS(대표이사_참여인력_경력),1), (OFFSET(대표이사_참여인력_경력,0,14,ROWS(대표이사_참여인력_경력),1)="YES")*1) ) | V16: =IF(ISBLANK($E16), "", SUMPRODUCT((OFFSET(대표이사_참여인력_경력,0,0,ROWS(대표이사_참여인력_경력),1)=$E16)*1, OFFSET(대표이사_참여인력_경력,0,20,ROWS(대표이사_참여인력_경력),1), (OFFSET(대표이사_참여인력_경력,0,14,ROWS(대표이사_참여인력_경력),1)="NO")*1, (OFFSET(대표이사_참여인력_경력,0,16,ROWS(대표이사_참여인력_경력),1)="YES")*1) ) | W16: =IF(ISBLANK($E16), "", SUMPRODUCT((OFFSET(대표이사_참여인력_투자현황,0,0,ROWS(대표이사_참여인력_투자현황),1)=$E16)*1, ISTEXT(OFFSET(대표이사_참여인력_투자현황,0,8,ROWS(대표이사_참여인력_투자현황),1))*1)) | X16: =IF(ISBLANK($E16), "", SUMPRODUCT((OFFSET(대표이사_참여인력_투자현황,0,0,ROWS(대표이사_참여인력_투자현황),1)=$E16)*1, (OFFSET(대표이사_참여인력_투자현황,0,17,ROWS(대표이사_참여인력_투자현황),1)="회수료")*1)) | Y16: =IF(ISBLANK($E16), "", SUMPRODUCT((OFFSET(대표이사_참여인력_투자현황,0,0,ROWS(대표이사_참여인력_투자현황),1)=$E16)*1, OFFSET(대표이사_참여인력_투자현황,0,15,ROWS(대표이사_참여인력_투자현황),1))) | Z16: =IF(ISBLANK($E16), "", SUMPRODUCT((OFFSET(대표이사_참여인력_투자현황,0,0,ROWS(대표이사_참여인력_투자현황),1)=$E16)*1, OFFSET(대표이사_참여인력_투자현황,0,20,ROWS(대표이사_참여인력_투자현황),1))) | AA16: =IF(ISBLANK($E16), "", SUMPRODUCT((OFFSET(대표이사_참여인력_투자현황,0,0,ROWS(대표이사_참여인력_투자현황),1)=$E16)*1, OFFSET(대표이사_참여인력_투자현황,0,27,ROWS(대표이사_참여인력_투자현황),1))) | AB16: =IF(ISBLANK($E16), "", SUMPRODUCT((OFFSET(대표이사_참여인력_투자현황,0,0,ROWS(대표이사_참여인력_투자현황),1)=$E16)*1, OFFSET(대표이사_참여인력_투자현황,0,28,ROWS(대표이사_참여인력_투자현황),1))) | AC16: =IFERROR(IF(ISBLANK($E16), "", SUMPRODUCT((OFFSET(대표이사_참여인력_투자현황,0,0,ROWS(대표이사_참여인력_투자현황),1)=$E16)*1, OFFSET(대표이사_참여인력_투자현황,0,15,ROWS(대표이사_참여인력_투자현황),1), OFFSET(대표이사_참여인력_투자현황,0,18,ROWS(대표이사_참여인력_투자현황),1))/Y16),0) | AD16: =IFERROR(IF(ISBLANK($E16), "",IF(SUMPRODUCT( (OFFSET(대표이사_참여인력_투자현황,0,0,ROWS(대표이사_참여인력_투자현황),1)=$E16)*1, OFFSET(대표이사_참여인력_투자현황,0,15,ROWS(대표이사_참여인력_투자현황),1), (OFFSET(대표이사_참여인력_투자현황,0,17,ROWS(대표이사_참여인력_투자현황),1)="회수료")*1 ) = 0, 0, SUMPRODUCT( (OFFSET(대표이사_참여인력_투자현황,0,0,ROWS(대표이사_참여인력_투자현황),1)=$E16)*1, OFFSET(대표이사_참여인력_투자현황,0,15,ROWS(대표이사_참여인력_투자현황),1), (OFFSET(대표이사_참여인력_투자현황,0,17,ROWS(대표이사_참여인력_투자현황),1)="회수료")*1, OFFSET(대표이사_참여인력_투자현황,0,18,ROWS(대표이사_참여인력_투자현황),1) ) / SUMPRODUCT( (OFFSET(대표이사_참여인력_투자현황,0,0,ROWS(대표이사_참여인력_투자현황),1)=$E16)*1, OFFSET(대표이사_참여인력_투자현황,0,15,ROWS(대표이사_참여인력_투자현황),1), (OFFSET(대표이사_참여인력_투자현황,0,17,ROWS(대표이사_참여인력_투자현황),1)="회수료")*1 ) )),0) | AE16: =IF(ISBLANK($E16), "", SUMPRODUCT( (OFFSET(제안사_투자현황,0,24,ROWS(제안사_투자현황),1)=$E16)*1, (OFFSET(제안사_투자현황,0,10,ROWS(제안사_투자현황),1)<>"회수료")*1 ) ) | AF16: =IF(ISBLANK($E16), "", SUMPRODUCT( (OFFSET(제안사_투자현황,0,24,ROWS(제안사_투자현황),1)=$E16)*1, (OFFSET(제안사_투자현황,0,10,ROWS(제안사_투자현황),1)<>"회수료")*1, OFFSET(제안사_투자현황,0,21,ROWS(제안사_투자현황),1) ) ) | AG16: =IF(ISBLANK($E16), "", SUMPRODUCT( (OFFSET(제안사_투자현황,0,24,ROWS(제안사_투자현황),1)=$E16)*1, (OFFSET(제안사_투자현황,0,10,ROWS(제안사_투자현황),1)<>"회수료")*1, OFFSET(제안사_투자현황,0,22,ROWS(제안사_투자현황),1) ) )
U17: =IF(ISBLANK($E17), "", SUMPRODUCT((OFFSET(대표이사_참여인력_경력,0,0,ROWS(대표이사_참여인력_경력),1)=$E17)*1, OFFSET(대표이사_참여인력_경력,0,20,ROWS(대표이사_참여인력_경력),1), (OFFSET(대표이사_참여인력_경력,0,14,ROWS(대표이사_참여인력_경력),1)="YES")*1) ) | V17: =IF(ISBLANK($E17), "", SUMPRODUCT((OFFSET(대표이사_참여인력_경력,0,0,ROWS(대표이사_참여인력_경력),1)=$E17)*1, OFFSET(대표이사_참여인력_경력,0,20,ROWS(대표이사_참여인력_경력),1), (OFFSET(대표이사_참여인력_경력,0,14,ROWS(대표이사_참여인력_경력),1)="NO")*1, (OFFSET(대표이사_참여인력_경력,0,16,ROWS(대표이사_참여인력_경력),1)="YES")*1) ) | W17: =IF(ISBLANK($E17), "", SUMPRODUCT((OFFSET(대표이사_참여인력_투자현황,0,0,ROWS(대표이사_참여인력_투자현황),1)=$E17)*1, ISTEXT(OFFSET(대표이사_참여인력_투자현황,0,8,ROWS(대표이사_참여인력_투자현황),1))*1)) | X17: =IF(ISBLANK($E17), "", SUMPRODUCT((OFFSET(대표이사_참여인력_투자현황,0,0,ROWS(대표이사_참여인력_투자현황),1)=$E17)*1, (OFFSET(대표이사_참여인력_투자현황,0,17,ROWS(대표이사_참여인력_투자현황),1)="회수료")*1)) | Y17: =IF(ISBLANK($E17), "", SUMPRODUCT((OFFSET(대표이사_참여인력_투자현황,0,0,ROWS(대표이사_참여인력_투자현황),1)=$E17)*1, OFFSET(대표이사_참여인력_투자현황,0,15,ROWS(대표이사_참여인력_투자현황),1))) | Z17: =IF(ISBLANK($E17), "", SUMPRODUCT((OFFSET(대표이사_참여인력_투자현황,0,0,ROWS(대표이사_참여인력_투자현황),1)=$E17)*1, OFFSET(대표이사_참여인력_투자현황,0,20,ROWS(대표이사_참여인력_투자현황),1))) | AA17: =IF(ISBLANK($E17), "", SUMPRODUCT((OFFSET(대표이사_참여인력_투자현황,0,0,ROWS(대표이사_참여인력_투자현황),1)=$E17)*1, OFFSET(대표이사_참여인력_투자현황,0,27,ROWS(대표이사_참여인력_투자현황),1))) | AB17: =IF(ISBLANK($E17), "", SUMPRODUCT((OFFSET(대표이사_참여인력_투자현황,0,0,ROWS(대표이사_참여인력_투자현황),1)=$E17)*1, OFFSET(대표이사_참여인력_투자현황,0,28,ROWS(대표이사_참여인력_투자현황),1))) | AC17: =IFERROR(IF(ISBLANK($E17), "", SUMPRODUCT((OFFSET(대표이사_참여인력_투자현황,0,0,ROWS(대표이사_참여인력_투자현황),1)=$E17)*1, OFFSET(대표이사_참여인력_투자현황,0,15,ROWS(대표이사_참여인력_투자현황),1), OFFSET(대표이사_참여인력_투자현황,0,18,ROWS(대표이사_참여인력_투자현황),1))/Y17),0) | AD17: =IFERROR(IF(ISBLANK($E17), "",IF(SUMPRODUCT( (OFFSET(대표이사_참여인력_투자현황,0,0,ROWS(대표이사_참여인력_투자현황),1)=$E17)*1, OFFSET(대표이사_참여인력_투자현황,0,15,ROWS(대표이사_참여인력_투자현황),1), (OFFSET(대표이사_참여인력_투자현황,0,17,ROWS(대표이사_참여인력_투자현황),1)="회수료")*1 ) = 0, 0, SUMPRODUCT( (OFFSET(대표이사_참여인력_투자현황,0,0,ROWS(대표이사_참여인력_투자현황),1)=$E17)*1, OFFSET(대표이사_참여인력_투자현황,0,15,ROWS(대표이사_참여인력_투자현황),1), (OFFSET(대표이사_참여인력_투자현황,0,17,ROWS(대표이사_참여인력_투자현황),1)="회수료")*1, OFFSET(대표이사_참여인력_투자현황,0,18,ROWS(대표이사_참여인력_투자현황),1) ) / SUMPRODUCT( (OFFSET(대표이사_참여인력_투자현황,0,0,ROWS(대표이사_참여인력_투자현황),1)=$E17)*1, OFFSET(대표이사_참여인력_투자현황,0,15,ROWS(대표이사_참여인력_투자현황),1), (OFFSET(대표이사_참여인력_투자현황,0,17,ROWS(대표이사_참여인력_투자현황),1)="회수료")*1 ) )),0) | AE17: =IF(ISBLANK($E17), "", SUMPRODUCT( (OFFSET(제안사_투자현황,0,24,ROWS(제안사_투자현황),1)=$E17)*1, (OFFSET(제안사_투자현황,0,10,ROWS(제안사_투자현황),1)<>"회수료")*1 ) ) | AF17: =IF(ISBLANK($E17), "", SUMPRODUCT( (OFFSET(제안사_투자현황,0,24,ROWS(제안사_투자현황),1)=$E17)*1, (OFFSET(제안사_투자현황,0,10,ROWS(제안사_투자현황),1)<>"회수료")*1, OFFSET(제안사_투자현황,0,21,ROWS(제안사_투자현황),1) ) ) | AG17: =IF(ISBLANK($E17), "", SUMPRODUCT( (OFFSET(제안사_투자현황,0,24,ROWS(제안사_투자현황),1)=$E17)*1, (OFFSET(제안사_투자현황,0,10,ROWS(제안사_투자현황),1)<>"회수료")*1, OFFSET(제안사_투자현황,0,22,ROWS(제안사_투자현황),1) ) )

Sheet 3.2 참여인력 투자현황
E4: 대표이사/참여인력 | G4: 회사경력 | I4: 부서경력 | M4: 투자 내역 | X4: 회수투자자산 | AC4: 부실발생기준에 의거한 회계상 감액내역 | AE4: 미회수투자자산 | AI4: 투자건 담당 기간 | AK4: 투자 계정 구분 | AL4: 담당 역할(중복선택 가능) | AR4: 투자펀드 내역(펀드계정일 경우 작성) | AX4: 기타사항 | AY4: 검증인
E5: 성명 | F5: 주민등록번호상 앞6자리 | G5: 재직회사명 | H5: 기간 | I5: 부서명 | J5: 시작일 | K5: 종료일 | L5: 기간 | M5: 피투자기업명 | N5: 피투자기업 법인유형 | O5: 피투자기업 주요산업분야 | P5: 기업규모 | Q5: 투자자금 용도 및 사업내용 | R5: 투자일 | S5: 투자형태 | T5: 투자금액 | U5: 투자시점 취득 지분율 | V5: 회수여부 | W5: 투자 수익율 (IRR) | X5: 최종회수일 | Y5: 회수총액 | Z5: 투자원금 | AA5: 회수방법 | AB5: 투자 기간 | AC5: 감액 여부 | AD5: 감액 금액 | AE5: 시장성유무 | AF5: 투자원금 | AG5: 가치 | AH5: 가치산출근거 | AI5: 시작일 | AJ5: 종료일 | AL5: 의사 결정 | AM5: 발굴 | AN5: 투자 검토 및 실행 | AO5: 사후 관리 | AP5: 회수 | AQ5: 담당 역할 상세서술 | AR5: 펀드명 | AS5: 펀드법적유형 | AT5: 인력구분 | AU5: 펀드 담당업무 시작일 | AV5: 펀드 담당업무 종료일 | AW5: 기간 (년수) | AY5: 성명 | AZ5: 소속 | BA5: 연락처
F6: =IF(ISBLANK($E6), "", VLOOKUP($E6,대표이사_참여인력_개요,2,FALSE)) | H6: =IF(ISBLANK(G6),"",SUMPRODUCT( (OFFSET(대표이사_참여인력_경력,0,0,ROWS(대표이사_참여인력_경력),1)=$E6)*1, (OFFSET(대표이사_참여인력_경력,0,3,ROWS(대표이사_참여인력_경력),1)=$G6)*1, OFFSET(대표이사_참여인력_경력,0,7,ROWS(대표이사_참여인력_경력),1) ) /COUNTIFS(OFFSET(대표이사_참여인력_경력,0,0,ROWS(대표이사_참여인력_경력),1),$E6,OFFSET(대표이사_참여인력_경력,0,3,ROWS(대표이사_참여인력_경력),1),$G6)) | L6: =IF(ISBLANK(I6),"",SUMPRODUCT( (OFFSET(대표이사_참여인력_경력,0,0,ROWS(대표이사_참여인력_경력),1)=$E6)*1, (OFFSET(대표이사_참여인력_경력,0,3,ROWS(대표이사_참여인력_경력),1)=$G6)*1, (OFFSET(대표이사_참여인력_경력,0,8,ROWS(대표이사_참여인력_경력),1)=$I6)*1, OFFSET(대표이사_참여인력_경력,0,13,ROWS(대표이사_참여인력_경력),1) ) /COUNTIFS(OFFSET(대표이사_참여인력_경력,0,0,ROWS(대표이사_참여인력_경력),1),$E6,OFFSET(대표이사_참여인력_경력,0,3,ROWS(대표이사_참여인력_경력),1),$G6,OFFSET(대표이사_참여인력_경력,0,8,ROWS(대표이사_참여인력_경력),1),$I6 )) | AB6: =IF(ISBLANK(X6),"",IF(DATEDIF(R6,제안서작성기준일,"d")/365,DATEDIF(R6,X6,"d")/365)) | AW6: =IF(ISBLANK(AU6),"",DATEDIF(AU6,AV6,"d")/365)
F7: =IF(ISBLANK($E7), "", VLOOKUP($E7,대표이사_참여인력_개요,2,FALSE)) | H7: =IF(ISBLANK(G7),"",SUMPRODUCT( (OFFSET(대표이사_참여인력_경력,0,0,ROWS(대표이사_참여인력_경력),1)=$E7)*1, (OFFSET(대표이사_참여인력_경력,0,3,ROWS(대표이사_참여인력_경력),1)=$G7)*1, OFFSET(대표이사_참여인력_경력,0,7,ROWS(대표이사_참여인력_경력),1) ) /COUNTIFS(OFFSET(대표이사_참여인력_경력,0,0,ROWS(대표이사_참여인력_경력),1),$E7,OFFSET(대표이사_참여인력_경력,0,3,ROWS(대표이사_참여인력_경력),1),$G7)) | L7: =IF(ISBLANK(I7),"",SUMPRODUCT( (OFFSET(대표이사_참여인력_경력,0,0,ROWS(대표이사_참여인력_경력),1)=$E7)*1, (OFFSET(대표이사_참여인력_경력,0,3,ROWS(대표이사_참여인력_경력),1)=$G7)*1, (OFFSET(대표이사_참여인력_경력,0,8,ROWS(대표이사_참여인력_경력),1)=$I7)*1, OFFSET(대표이사_참여인력_경력,0,13,ROWS(대표이사_참여인력_경력),1) ) /COUNTIFS(OFFSET(대표이사_참여인력_경력,0,0,ROWS(대표이사_참여인력_경력),1),$E7,OFFSET(대표이사_참여인력_경력,0,3,ROWS(대표이사_참여인력_경력),1),$G7,OFFSET(대표이사_참여인력_경력,0,8,ROWS(대표이사_참여인력_경력),1),$I7 )) | AB7: =IF(ISBLANK(X7),"",IF(DATEDIF(R7,제안서작성기준일,"d")/365,DATEDIF(R7,X7,"d")/365)) | AW7: =IF(ISBLANK(AU7),"",DATEDIF(AU7,AV7,"d")/365)
F8: =IF(ISBLANK($E8), "", VLOOKUP($E8,대표이사_참여인력_개요,2,FALSE)) | H8: =IF(ISBLANK(G8),"",SUMPRODUCT( (OFFSET(대표이사_참여인력_경력,0,0,ROWS(대표이사_참여인력_경력),1)=$E8)*1, (OFFSET(대표이사_참여인력_경력,0,3,ROWS(대표이사_참여인력_경력),1)=$G8)*1, OFFSET(대표이사_참여인력_경력,0,7,ROWS(대표이사_참여인력_경력),1) ) /COUNTIFS(OFFSET(대표이사_참여인력_경력,0,0,ROWS(대표이사_참여인력_경력),1),$E8,OFFSET(대표이사_참여인력_경력,0,3,ROWS(대표이사_참여인력_경력),1),$G8)) | L8: =IF(ISBLANK(I8),"",SUMPRODUCT( (OFFSET(대표이사_참여인력_경력,0,0,ROWS(대표이사_참여인력_경력),1)=$E8)*1, (OFFSET(대표이사_참여인력_경력,0,3,ROWS(대표이사_참여인력_경력),1)=$G8)*1, (OFFSET(대표이사_참여인력_경력,0,8,ROWS(대표이사_참여인력_경력),1)=$I8)*1, OFFSET(대표이사_참여인력_경력,0,13,ROWS(대표이사_참여인력_경력),1) ) /COUNTIFS(OFFSET(대표이사_참여인력_경력,0,0,ROWS(대표이사_참여인력_경력),1),$E8,OFFSET(대표이사_참여인력_경력,0,3,ROWS(대표이사_참여인력_경력),1),$G8,OFFSET(대표이사_참여인력_경력,0,8,ROWS(대표이사_참여인력_경력),1),$I8 )) | AB8: =IF(ISBLANK(X8),"",IF(DATEDIF(R8,제안서작성기준일,"d")/365,DATEDIF(R8,X8,"d")/365)) | AW8: =IF(ISBLANK(AU8),"",DATEDIF(AU8,AV8,"d")/365)
F9: =IF(ISBLANK($E9), "", VLOOKUP($E9,대표이사_참여인력_개요,2,FALSE)) | H9: =IF(ISBLANK(G9),"",SUMPRODUCT( (OFFSET(대표이사_참여인력_경력,0,0,ROWS(대표이사_참여인력_경력),1)=$E9)*1, (OFFSET(대표이사_참여인력_경력,0,3,ROWS(대표이사_참여인력_경력),1)=$G9)*1, OFFSET(대표이사_참여인력_경력,0,7,ROWS(대표이사_참여인력_경력),1) ) /COUNTIFS(OFFSET(대표이사_참여인력_경력,0,0,ROWS(대표이사_참여인력_경력),1),$E9,OFFSET(대표이사_참여인력_경력,0,3,ROWS(대표이사_참여인력_경력),1),$G9)) | L9: =IF(ISBLANK(I9),"",SUMPRODUCT( (OFFSET(대표이사_참여인력_경력,0,0,ROWS(대표이사_참여인력_경력),1)=$E9)*1, (OFFSET(대표이사_참여인력_경력,0,3,ROWS(대표이사_참여인력_경력),1)=$G9)*1, (OFFSET(대표이사_참여인력_경력,0,8,ROWS(대표이사_참여인력_경력),1)=$I9)*1, OFFSET(대표이사_참여인력_경력,0,13,ROWS(대표이사_참여인력_경력),1) ) /COUNTIFS(OFFSET(대표이사_참여인력_경력,0,0,ROWS(대표이사_참여인력_경력),1),$E9,OFFSET(대표이사_참여인력_경력,0,3,ROWS(대표이사_참여인력_경력),1),$G9,OFFSET(대표이사_참여인력_경력,0,8,ROWS(대표이사_참여인력_경력),1),$I9 )) | AB9: =IF(ISBLANK(X9),"",IF(DATEDIF(R9,제안서작성기준일,"d")/365,DATEDIF(R9,X9,"d")/365)) | AW9: =IF(ISBLANK(AU9),"",DATEDIF(AU9,AV9,"d")/365)
F10: =IF(ISBLANK($E10), "", VLOOKUP($E10,대표이사_참여인력_개요,2,FALSE)) | H10: =IF(ISBLANK(G10),"",SUMPRODUCT( (OFFSET(대표이사_참여인력_경력,0,0,ROWS(대표이사_참여인력_경력),1)=$E10)*1, (OFFSET(대표이사_참여인력_경력,0,3,ROWS(대표이사_참여인력_경력),1)=$G10)*1, OFFSET(대표이사_참여인력_경력,0,7,ROWS(대표이사_참여인력_경력),1) ) /COUNTIFS(OFFSET(대표이사_참여인력_경력,0,0,ROWS(대표이사_참여인력_경력),1),$E10,OFFSET(대표이사_참여인력_경력,0,3,ROWS(대표이사_참여인력_경력),1),$G10)) | L10: =IF(ISBLANK(I10),"",SUMPRODUCT( (OFFSET(대표이사_참여인력_경력,0,0,ROWS(대표이사_참여인력_경력),1)=$E10)*1, (OFFSET(대표이사_참여인력_경력,0,3,ROWS(대표이사_참여인력_경력),1)=$G10)*1, (OFFSET(대표이사_참여인력_경력,0,8,ROWS(대표이사_참여인력_경력),1)=$I10)*1, OFFSET(대표이사_참여인력_경력,0,13,ROWS(대표이사_참여인력_경력),1) ) /COUNTIFS(OFFSET(대표이사_참여인력_경력,0,0,ROWS(대표이사_참여인력_경력),1),$E10,OFFSET(대표이사_참여인력_경력,0,3,ROWS(대표이사_참여인력_경력),1),$G10,OFFSET(대표이사_참여인력_경력,0,8,ROWS(대표이사_참여인력_경력),1),$I10 )) | AB10: =IF(ISBLANK(X10),"",IF(DATEDIF(R10,제안서작성기준일,"d")/365,DATEDIF(R10,X10,"d")/365)) | AW10: =IF(ISBLANK(AU10),"",DATEDIF(AU10,AV10,"d")/365)
F11: =IF(ISBLANK($E11), "", VLOOKUP($E11,대표이사_참여인력_개요,2,FALSE)) | H11: =IF(ISBLANK(G11),"",SUMPRODUCT( (OFFSET(대표이사_참여인력_경력,0,0,ROWS(대표이사_참여인력_경력),1)=$E11)*1, (OFFSET(대표이사_참여인력_경력,0,3,ROWS(대표이사_참여인력_경력),1)=$G11)*1, OFFSET(대표이사_참여인력_경력,0,7,ROWS(대표이사_참여인력_경력),1) ) /COUNTIFS(OFFSET(대표이사_참여인력_경력,0,0,ROWS(대표이사_참여인력_경력),1),$E11,OFFSET(대표이사_참여인력_경력,0,3,ROWS(대표이사_참여인력_경력),1),$G11)) | L11: =IF(ISBLANK(I11),"",SUMPRODUCT( (OFFSET(대표이사_참여인력_경력,0,0,ROWS(대표이사_참여인력_경력),1)=$E11)*1, (OFFSET(대표이사_참여인력_경력,0,3,ROWS(대표이사_참여인력_경력),1)=$G11)*1, (OFFSET(대표이사_참여인력_경력,0,8,ROWS(대표이사_참여인력_경력),1)=$I11)*1, OFFSET(대표이사_참여인력_경력,0,13,ROWS(대표이사_참여인력_경력),1) ) /COUNTIFS(OFFSET(대표이사_참여인력_경력,0,0,ROWS(대표이사_참여인력_경력),1),$E11,OFFSET(대표이사_참여인력_경력,0,3,ROWS(대표이사_참여인력_경력),1),$G11,OFFSET(대표이사_참여인력_경력,0,8,ROWS(대표이사_참여인력_경력),1),$I11 )) | AB11: =IF(ISBLANK(X11),"",IF(DATEDIF(R11,제안서작성기준일,"d")/365,DATEDIF(R11,X11,"d")/365)) | AW11: =IF(ISBLANK(AU11),"",DATEDIF(AU11,AV11,"d")/365)
F12: =IF(ISBLANK($E12), "", VLOOKUP($E12,대표이사_참여인력_개요,2,FALSE)) | H12: =IF(ISBLANK(G12),"",SUMPRODUCT( (OFFSET(대표이사_참여인력_경력,0,0,ROWS(대표이사_참여인력_경력),1)=$E12)*1, (OFFSET(대표이사_참여인력_경력,0,3,ROWS(대표이사_참여인력_경력),1)=$G12)*1, OFFSET(대표이사_참여인력_경력,0,7,ROWS(대표이사_참여인력_경력),1) ) /COUNTIFS(OFFSET(대표이사_참여인력_경력,0,0,ROWS(대표이사_참여인력_경력),1),$E12,OFFSET(대표이사_참여인력_경력,0,3,ROWS(대표이사_참여인력_경력),1),$G12)) | L12: =IF(ISBLANK(I12),"",SUMPRODUCT( (OFFSET(대표이사_참여인력_경력,0,0,ROWS(대표이사_참여인력_경력),1)=$E12)*1, (OFFSET(대표이사_참여인력_경력,0,3,ROWS(대표이사_참여인력_경력),1)=$G12)*1, (OFFSET(대표이사_참여인력_경력,0,8,ROWS(대표이사_참여인력_경력),1)=$I12)*1, OFFSET(대표이사_참여인력_경력,0,13,ROWS(대표이사_참여인력_경력),1) ) /COUNTIFS(OFFSET(대표이사_참여인력_경력,0,0,ROWS(대표이사_참여인력_경력),1),$E12,OFFSET(대표이사_참여인력_경력,0,3,ROWS(대표이사_참여인력_경력),1),$G12,OFFSET(대표이사_참여인력_경력,0,8,ROWS(대표이사_참여인력_경력),1),$I12 )) | AB12: =IF(ISBLANK(X12),"",IF(DATEDIF(R12,제안서작성기준일,"d")/365,DATEDIF(R12,X12,"d")/365)) | AW12: =IF(ISBLANK(AU12),"",DATEDIF(AU12,AV12,"d")/365)
F13: =IF(ISBLANK($E13), "", VLOOKUP($E13,대표이사_참여인력_개요,2,FALSE)) | H13: =IF(ISBLANK(G13),"",SUMPRODUCT( (OFFSET(대표이사_참여인력_경력,0,0,ROWS(대표이사_참여인력_경력),1)=$E13)*1, (OFFSET(대표이사_참여인력_경력,0,3,ROWS(대표이사_참여인력_경력),1)=$G13)*1, OFFSET(대표이사_참여인력_경력,0,7,ROWS(대표이사_참여인력_경력),1) ) /COUNTIFS(OFFSET(대표이사_참여인력_경력,0,0,ROWS(대표이사_참여인력_경력),1),$E13,OFFSET(대표이사_참여인력_경력,0,3,ROWS(대표이사_참여인력_경력),1),$G13)) | L13: =IF(ISBLANK(I13),"",SUMPRODUCT( (OFFSET(대표이사_참여인력_경력,0,0,ROWS(대표이사_참여인력_경력),1)=$E13)*1, (OFFSET(대표이사_참여인력_경력,0,3,ROWS(대표이사_참여인력_경력),1)=$G13)*1, (OFFSET(대표이사_참여인력_경력,0,8,ROWS(대표이사_참여인력_경력),1)=$I13)*1, OFFSET(대표이사_참여인력_경력,0,13,ROWS(대표이사_참여인력_경력),1) ) /COUNTIFS(OFFSET(대표이사_참여인력_경력,0,0,ROWS(대표이사_참여인력_경력),1),$E13,OFFSET(대표이사_참여인력_경력,0,3,ROWS(대표이사_참여인력_경력),1),$G13,OFFSET(대표이사_참여인력_경력,0,8,ROWS(대표이사_참여인력_경력),1),$I13 )) | AB13: =IF(ISBLANK(X13),"",IF(DATEDIF(R13,제안서작성기준일,"d")/365,DATEDIF(R13,X13,"d")/365)) | AW13: =IF(ISBLANK(AU13),"",DATEDIF(AU13,AV13,"d")/365)
F14: =IF(ISBLANK($E14), "", VLOOKUP($E14,대표이사_참여인력_개요,2,FALSE)) | H14: =IF(ISBLANK(G14),"",SUMPRODUCT( (OFFSET(대표이사_참여인력_경력,0,0,ROWS(대표이사_참여인력_경력),1)=$E14)*1, (OFFSET(대표이사_참여인력_경력,0,3,ROWS(대표이사_참여인력_경력),1)=$G14)*1, OFFSET(대표이사_참여인력_경력,0,7,ROWS(대표이사_참여인력_경력),1) ) /COUNTIFS(OFFSET(대표이사_참여인력_경력,0,0,ROWS(대표이사_참여인력_경력),1),$E14,OFFSET(대표이사_참여인력_경력,0,3,ROWS(대표이사_참여인력_경력),1),$G14)) | L14: =IF(ISBLANK(I14),"",SUMPRODUCT( (OFFSET(대표이사_참여인력_경력,0,0,ROWS(대표이사_참여인력_경력),1)=$E14)*1, (OFFSET(대표이사_참여인력_경력,0,3,ROWS(대표이사_참여인력_경력),1)=$G14)*1, (OFFSET(대표이사_참여인력_경력,0,8,ROWS(대표이사_참여인력_경력),1)=$I14)*1, OFFSET(대표이사_참여인력_경력,0,13,ROWS(대표이사_참여인력_경력),1) ) /COUNTIFS(OFFSET(대표이사_참여인력_경력,0,0,ROWS(대표이사_참여인력_경력),1),$E14,OFFSET(대표이사_참여인력_경력,0,3,ROWS(대표이사_참여인력_경력),1),$G14,OFFSET(대표이사_참여인력_경력,0,8,ROWS(대표이사_참여인력_경력),1),$I14 )) | AB14: =IF(ISBLANK(X14),"",IF(DATEDIF(R14,제안서작성기준일,"d")/365,DATEDIF(R14,X14,"d")/365)) | AW14: =IF(ISBLANK(AU14),"",DATEDIF(AU14,AV14,"d")/365)
F15: =IF(ISBLANK($E15), "", VLOOKUP($E15,대표이사_참여인력_개요,2,FALSE)) | H15: =IF(ISBLANK(G15),"",SUMPRODUCT( (OFFSET(대표이사_참여인력_경력,0,0,ROWS(대표이사_참여인력_경력),1)=$E15)*1, (OFFSET(대표이사_참여인력_경력,0,3,ROWS(대표이사_참여인력_경력),1)=$G15)*1, OFFSET(대표이사_참여인력_경력,0,7,ROWS(대표이사_참여인력_경력),1) ) /COUNTIFS(OFFSET(대표이사_참여인력_경력,0,0,ROWS(대표이사_참여인력_경력),1),$E15,OFFSET(대표이사_참여인력_경력,0,3,ROWS(대표이사_참여인력_경력),1),$G15)) | L15: =IF(ISBLANK(I15),"",SUMPRODUCT( (OFFSET(대표이사_참여인력_경력,0,0,ROWS(대표이사_참여인력_경력),1)=$E15)*1, (OFFSET(대표이사_참여인력_경력,0,3,ROWS(대표이사_참여인력_경력),1)=$G15)*1, (OFFSET(대표이사_참여인력_경력,0,8,ROWS(대표이사_참여인력_경력),1)=$I15)*1, OFFSET(대표이사_참여인력_경력,0,13,ROWS(대표이사_참여인력_경력),1) ) /COUNTIFS(OFFSET(대표이사_참여인력_경력,0,0,ROWS(대표이사_참여인력_경력),1),$E15,OFFSET(대표이사_참여인력_경력,0,3,ROWS(대표이사_참여인력_경력),1),$G15,OFFSET(대표이사_참여인력_경력,0,8,ROWS(대표이사_참여인력_경력),1),$I15 )) | AB15: =IF(ISBLANK(X15),"",IF(DATEDIF(R15,제안서작성기준일,"d")/365,DATEDIF(R15,X15,"d")/365)) | AW15: =IF(ISBLANK(AU15),"",DATEDIF(AU15,AV15,"d")/365)
F16: =IF(ISBLANK($E16), "", VLOOKUP($E16,대표이사_참여인력_개요,2,FALSE)) | H16: =IF(ISBLANK(G16),"",SUMPRODUCT( (OFFSET(대표이사_참여인력_경력,0,0,ROWS(대표이사_참여인력_경력),1)=$E16)*1, (OFFSET(대표이사_참여인력_경력,0,3,ROWS(대표이사_참여인력_경력),1)=$G16)*1, OFFSET(대표이사_참여인력_경력,0,7,ROWS(대표이사_참여인력_경력),1) ) /COUNTIFS(OFFSET(대표이사_참여인력_경력,0,0,ROWS(대표이사_참여인력_경력),1),$E16,OFFSET(대표이사_참여인력_경력,0,3,ROWS(대표이사_참여인력_경력),1),$G16)) | L16: =IF(ISBLANK(I16),"",SUMPRODUCT( (OFFSET(대표이사_참여인력_경력,0,0,ROWS(대표이사_참여인력_경력),1)=$E16)*1, (OFFSET(대표이사_참여인력_경력,0,3,ROWS(대표이사_참여인력_경력),1)=$G16)*1, (OFFSET(대표이사_참여인력_경력,0,8,ROWS(대표이사_참여인력_경력),1)=$I16)*1, OFFSET(대표이사_참여인력_경력,0,13,ROWS(대표이사_참여인력_경력),1) ) /COUNTIFS(OFFSET(대표이사_참여인력_경력,0,0,ROWS(대표이사_참여인력_경력),1),$E16,OFFSET(대표이사_참여인력_경력,0,3,ROWS(대표이사_참여인력_경력),1),$G16,OFFSET(대표이사_참여인력_경력,0,8,ROWS(대표이사_참여인력_경력),1),$I16 )) | AB16: =IF(ISBLANK(X16),"",IF(DATEDIF(R16,제안서작성기준일,"d")/365,DATEDIF(R16,X16,"d")/365)) | AW16: =IF(ISBLANK(AU16),"",DATEDIF(AU16,AV16,"d")/365)
F17: =IF(ISBLANK($E17), "", VLOOKUP($E17,대표이사_참여인력_개요,2,FALSE)) | H17: =IF(ISBLANK(G17),"",SUMPRODUCT( (OFFSET(대표이사_참여인력_경력,0,0,ROWS(대표이사_참여인력_경력),1)=$E17)*1, (OFFSET(대표이사_참여인력_경력,0,3,ROWS(대표이사_참여인력_경력),1)=$G17)*1, OFFSET(대표이사_참여인력_경력,0,7,ROWS(대표이사_참여인력_경력),1) ) /COUNTIFS(OFFSET(대표이사_참여인력_경력,0,0,ROWS(대표이사_참여인력_경력),1),$E17,OFFSET(대표이사_참여인력_경력,0,3,ROWS(대표이사_참여인력_경력),1),$G17)) | L17: =IF(ISBLANK(I17),"",SUMPRODUCT( (OFFSET(대표이사_참여인력_경력,0,0,ROWS(대표이사_참여인력_경력),1)=$E17)*1, (OFFSET(대표이사_참여인력_경력,0,3,ROWS(대표이사_참여인력_경력),1)=$G17)*1, (OFFSET(대표이사_참여인력_경력,0,8,ROWS(대표이사_참여인력_경력),1)=$I17)*1, OFFSET(대표이사_참여인력_경력,0,13,ROWS(대표이사_참여인력_경력),1) ) /COUNTIFS(OFFSET(대표이사_참여인력_경력,0,0,ROWS(대표이사_참여인력_경력),1),$E17,OFFSET(대표이사_참여인력_경력,0,3,ROWS(대표이사_참여인력_경력),1),$G17,OFFSET(대표이사_참여인력_경력,0,8,ROWS(대표이사_참여인력_경력),1),$I17 )) | AB17: =IF(ISBLANK(X17),"",IF(DATEDIF(R17,제안서작성기준일,"d")/365,DATEDIF(R17,X17,"d")/365)) | AW17: =IF(ISBLANK(AU17),"",DATEDIF(AU17,AV17,"d")/365)
... F146: =IF(ISBLANK($E146), "", VLOOKUP($E146,대표이사_참여인력_개요,2,FALSE)) | H146: =IF(ISBLANK(G146),"",SUMPRODUCT( (OFFSET(대표이사_참여인력_경력,0,0,ROWS(대표이사_참여인력_경력),1)=$E146)*1, (OFFSET(대표이사_참여인력_경력,0,3,ROWS(대표이사_참여인력_경력),1)=$G146)*1, OFFSET(대표이사_참여인력_경력,0,7,ROWS(대표이사_참여인력_경력),1) ) /COUNTIFS(OFFSET(대표이사_참여인력_경력,0,0,ROWS(대표이사_참여인력_경력),1),$E146,OFFSET(대표이사_참여인력_경력,0,3,ROWS(대표이사_참여인력_경력),1),$G146)) | L146: =IF(ISBLANK(I146),"",SUMPRODUCT( (OFFSET(대표이사_참여인력_경력,0,0,ROWS(대표이사_참여인력_경력),1)=$E146)*1, (OFFSET(대표이사_참여인력_경력,0,3,ROWS(대표이사_참여인력_경력),1)=$G146)*1, (OFFSET(대표이사_참여인력_경력,0,8,ROWS(대표이사_참여인력_경력),1)=$I146)*1, OFFSET(대표이사_참여인력_경력,0,13,ROWS(대표이사_참여인력_경력),1) ) /COUNTIFS(OFFSET(대표이사_참여인력_경력,0,0,ROWS(대표이사_참여인력_경력),1),$E146,OFFSET(대표이사_참여인력_경력,0,3,ROWS(대표이사_참여인력_경력),1),$G146,OFFSET(대표이사_참여인력_경력,0,8,ROWS(대표이사_참여인력_경력),1),$I146 )) | AB146: =IF(ISBLANK(X146),"",IF(DATEDIF(R146,제안서작성기준일,"d")/365,DATEDIF(R146,X146,"d")/365)) | AW146: =IF(ISBLANK(AU146),"",DATEDIF(AU146,AV146,"d")/365)

Sheet 3.3 참여인력 학력
E4: 대표이사/참여인력 | G4: 학력사항
E5: 성명 | F5: 주민등록번호상 앞6자리 | G5: 졸업일/수료일 | H5: 졸업/수료 학교명 | I5: 학과(전공)명 | J5: 학위명 | K5: 취득국명
F11: =IF(ISBLANK($E11),"",VLOOKUP($E11,대표이사_참여인력_개요,2,FALSE))
F12: =IF(ISBLANK($E12),"",VLOOKUP($E12,대표이사_참여인력_개요,2,FALSE))
F13: =IF(ISBLANK($E13),"",VLOOKUP($E13,대표이사_참여인력_개요,2,FALSE))
F14: =IF(ISBLANK($E14),"",VLOOKUP($E14,대표이사_참여인력_개요,2,FALSE))
F15: =IF(ISBLANK($E15),"",VLOOKUP($E15,대표이사_참여인력_개요,2,FALSE))
F16: =IF(ISBLANK($E16),"",VLOOKUP($E16,대표이사_참여인력_개요,2,FALSE))
F17: =IF(ISBLANK($E17),"",VLOOKUP($E17,대표이사_참여인력_개요,2,FALSE))
F18: =IF(ISBLANK($E18),"",VLOOKUP($E18,대표이사_참여인력_개요,2,FALSE))
F19: =IF(ISBLANK($E19),"",VLOOKUP($E19,대표이사_참여인력_개요,2,FALSE))
F20: =IF(ISBLANK($E20),"",VLOOKUP($E20,대표이사_참여인력_개요,2,FALSE))
F21: =IF(ISBLANK($E21),"",VLOOKUP($E21,대표이사_참여인력_개요,2,FALSE))
F22: =IF(ISBLANK($E22),"",VLOOKUP($E22,대표이사_참여인력_개요,2,FALSE))
... F27: =IF(ISBLANK($E27),"",VLOOKUP($E27,대표이사_참여인력_개요,2,FALSE))

Sheet 3.4 대표이사&참여인력 경력
E4: 대표이사/참여인력 | G4: 재직회사 | J4: 회사 재직기간 | M4: 재직부서 및 담당업무 | P4: 부서 재직기간 | S4: 업무상세내역 | W4: 업무수행기간
E5: 성명 | F5: 주민등록번호상 앞6자리 | G5: 재직회사 유형 | H5: 재직회사명 | I5: 공직유관단체 코드 | J5: 시작일 | K5: 종료일 | L5: 기간(년수) | M5: 재직시 소속부서명 | N5: 재직시 직위 | O5: 재직시 담당업무(자세히 기재) | P5: 시작일 | Q5: 종료일 | R5: 기간(년수) | S5: 투자업무 수행여부 | T5: 주요업무 수행내역 | U5: 제안펀드 신청분야 관련여부 | V5: 제안펀드 신청분야 관련성 상세서술 | W5: 시작일 | X5: 종료일 | Y5: 기간(년수)
F11: =IF(ISBLANK($E11),"",VLOOKUP($E11,대표이사_참여인력_개요,2,FALSE)) | L11: =IF(ISBLANK(J11),"",DATEDIF(J11,K11,"d")/365) | R11: =IF(ISBLANK(P11),"",DATEDIF(P11,Q11,"d")/365) | Y11: =IF(ISBLANK(W11),"",DATEDIF(W11,X11,"d")/365)
F12: =IF(ISBLANK($E12),"",VLOOKUP($E12,대표이사_참여인력_개요,2,FALSE)) | L12: =IF(ISBLANK(J12),"",DATEDIF(J12,K12,"d")/365) | R12: =IF(ISBLANK(P12),"",DATEDIF(P12,Q12,"d")/365) | Y12: =IF(ISBLANK(W12),"",DATEDIF(W12,X12,"d")/365)
F13: =IF(ISBLANK($E13),"",VLOOKUP($E13,대표이사_참여인력_개요,2,FALSE)) | L13: =IF(ISBLANK(J13),"",DATEDIF(J13,K13,"d")/365) | R13: =IF(ISBLANK(P13),"",DATEDIF(P13,Q13,"d")/365) | Y13: =IF(ISBLANK(W13),"",DATEDIF(W13,X13,"d")/365)
F14: =IF(ISBLANK($E14),"",VLOOKUP($E14,대표이사_참여인력_개요,2,FALSE)) | L14: =IF(ISBLANK(J14),"",DATEDIF(J14,K14,"d")/365) | R14: =IF(ISBLANK(P14),"",DATEDIF(P14,Q14,"d")/365) | Y14: =IF(ISBLANK(W14),"",DATEDIF(W14,X14,"d")/365)
F15: =IF(ISBLANK($E15),"",VLOOKUP($E15,대표이사_참여인력_개요,2,FALSE)) | L15: =IF(ISBLANK(J15),"",DATEDIF(J15,K15,"d")/365) | R15: =IF(ISBLANK(P15),"",DATEDIF(P15,Q15,"d")/365) | Y15: =IF(ISBLANK(W15),"",DATEDIF(W15,X15,"d")/365)
F16: =IF(ISBLANK($E16),"",VLOOKUP($E16,대표이사_참여인력_개요,2,FALSE)) | L16: =IF(ISBLANK(J16),"",DATEDIF(J16,K16,"d")/365) | R16: =IF(ISBLANK(P16),"",DATEDIF(P16,Q16,"d")/365) | Y16: =IF(ISBLANK(W16),"",DATEDIF(W16,X16,"d")/365)
F17: =IF(ISBLANK($E17),"",VLOOKUP($E17,대표이사_참여인력_개요,2,FALSE)) | L17: =IF(ISBLANK(J17),"",DATEDIF(J17,K17,"d")/365) | R17: =IF(ISBLANK(P17),"",DATEDIF(P17,Q17,"d")/365) | Y17: =IF(ISBLANK(W17),"",DATEDIF(W17,X17,"d")/365)
F18: =IF(ISBLANK($E18),"",VLOOKUP($E18,대표이사_참여인력_개요,2,FALSE)) | L18: =IF(ISBLANK(J18),"",DATEDIF(J18,K18,"d")/365) | R18: =IF(ISBLANK(P18),"",DATEDIF(P18,Q18,"d")/365) | Y18: =IF(ISBLANK(W18),"",DATEDIF(W18,X18,"d")/365)
F19: =IF(ISBLANK($E19),"",VLOOKUP($E19,대표이사_참여인력_개요,2,FALSE)) | L19: =IF(ISBLANK(J19),"",DATEDIF(J19,K19,"d")/365) | R19: =IF(ISBLANK(P19),"",DATEDIF(P19,Q19,"d")/365) | Y19: =IF(ISBLANK(W19),"",DATEDIF(W19,X19,"d")/365)
F20: =IF(ISBLANK($E20),"",VLOOKUP($E20,대표이사_참여인력_개요,2,FALSE)) | L20: =IF(ISBLANK(J20),"",DATEDIF(J20,K20,"d")/365) | R20: =IF(ISBLANK(P20),"",DATEDIF(P20,Q20,"d")/365) | Y20: =IF(ISBLANK(W20),"",DATEDIF(W20,X20,"d")/365)
F21: =IF(ISBLANK($E21),"",VLOOKUP($E21,대표이사_참여인력_개요,2,FALSE)) | L21: =IF(ISBLANK(J21),"",DATEDIF(J21,K21,"d")/365) | R21: =IF(ISBLANK(P21),"",DATEDIF(P21,Q21,"d")/365) | Y21: =IF(ISBLANK(W21),"",DATEDIF(W21,X21,"d")/365)
F22: =IF(ISBLANK($E22),"",VLOOKUP($E22,대표이사_참여인력_개요,2,FALSE)) | L22: =IF(ISBLANK(J22),"",DATEDIF(J22,K22,"d")/365) | R22: =IF(ISBLANK(P22),"",DATEDIF(P22,Q22,"d")/365) | Y22: =IF(ISBLANK(W22),"",DATEDIF(W22,X22,"d")/365)
... F41: =IF(ISBLANK($E41),"",VLOOKUP($E41,대표이사_참여인력_개요,2,FALSE)) | L41: =IF(ISBLANK(J41),"",DATEDIF(J41,K41,"d")/365) | R41: =IF(ISBLANK(P41),"",DATEDIF(P41,Q41,"d")/365) | Y41: =IF(ISBLANK(W41),"",DATEDIF(W41,X41,"d")/365)

Sheet 4.1 펀드거래
A1: 펀드명 | B1: 거래구분 | C1: 거래금액 | D1: 거래일자

Sheet 4.2 핵심운용인력 변경이력
A1: 펀드명 | B1: 기재대상핵심인력 변경구분 | C1: 이름 | D1: 변경일자 | E1: 비고
